BEGIN:VCALENDAR
VERSION:2.0
PRODID:-//Carnaval de C&aacute;diz - ECPv6.15.20//NONSGML v1.0//EN
CALSCALE:GREGORIAN
METHOD:PUBLISH
X-ORIGINAL-URL:https://www.carnavaldecadiz.com
X-WR-CALDESC:Eventos para Carnaval de C&aacute;diz
REFRESH-INTERVAL;VALUE=DURATION:PT1H
X-Robots-Tag:noindex
X-PUBLISHED-TTL:PT1H
BEGIN:VTIMEZONE
TZID:Europe/Madrid
BEGIN:DAYLIGHT
TZOFFSETFROM:+0100
TZOFFSETTO:+0200
TZNAME:CEST
DTSTART:20240331T010000
END:DAYLIGHT
BEGIN:STANDARD
TZOFFSETFROM:+0200
TZOFFSETTO:+0100
TZNAME:CET
DTSTART:20241027T010000
END:STANDARD
BEGIN:DAYLIGHT
TZOFFSETFROM:+0100
TZOFFSETTO:+0200
TZNAME:CEST
DTSTART:20250330T010000
END:DAYLIGHT
BEGIN:STANDARD
TZOFFSETFROM:+0200
TZOFFSETTO:+0100
TZNAME:CET
DTSTART:20251026T010000
END:STANDARD
BEGIN:DAYLIGHT
TZOFFSETFROM:+0100
TZOFFSETTO:+0200
TZNAME:CEST
DTSTART:20260329T010000
END:DAYLIGHT
BEGIN:STANDARD
TZOFFSETFROM:+0200
TZOFFSETTO:+0100
TZNAME:CET
DTSTART:20261025T010000
END:STANDARD
END:VTIMEZONE
BEGIN:VEVENT
DTSTART;TZID=Europe/Madrid:20251125T183000
DTEND;TZID=Europe/Madrid:20251125T203000
DTSTAMP:20260421T071355
CREATED:20251117T115832Z
LAST-MODIFIED:20251117T121342Z
UID:26263-1764095400-1764102600@www.carnavaldecadiz.com
SUMMARY:X Muestra Virtual Internacional de Carnaval - Mesa de debate 'LA ESCUELA MUNICIPAL DE CARNAVAL'
DESCRIPTION:Organizada por el Aula de Cultura del Carnaval de Cádiz\, en esta mesa de debate participan: \n\nAlberto Ramos Santana\, Director de la Cátedra de Carnaval de la UCA.\nÁlvaro Pérez García\, Profesor y Coordinador de la Escuela de Carnaval.\nDavid Medina Tamayo\, Profesor y Coordinador de la Escuela de Carnaval.\nBeatriz Gandullo Sosa\, Delegada de Fiestas y Carnaval del Ayuntamiento de Cádiz\n\nModera: Beatriz Ortega Cerpa\, Dramaturga\, Guionista e Investigadora \nEvento público de libre acceso hasta completar aforo.
URL:https://www.carnavaldecadiz.com/event/x-muestra-virtual-internacional-de-carnaval-mesa-de-debate-la-escuela-municipal-de-carnaval/
LOCATION:Casa del Carnaval\, Cádiz\, calle Marqués del Real Tesoro 15\, 17\, Cádiz\, Cádiz\, 11001\, España
CATEGORIES:mesa de debate
ATTACH;FMTTYPE=image/jpeg:https://www.carnavaldecadiz.com/wp-content/uploads/2025/09/Cartel-X-Muestra-virtual-2025500.jpg
END:VEVENT
END:VCALENDAR