BEGIN:VCALENDAR
VERSION:2.0
PRODID:-//Carnaval de C&aacute;diz - ECPv6.15.20//NONSGML v1.0//EN
CALSCALE:GREGORIAN
METHOD:PUBLISH
X-ORIGINAL-URL:https://www.carnavaldecadiz.com
X-WR-CALDESC:Eventos para Carnaval de C&aacute;diz
REFRESH-INTERVAL;VALUE=DURATION:PT1H
X-Robots-Tag:noindex
X-PUBLISHED-TTL:PT1H
BEGIN:VTIMEZONE
TZID:Europe/Madrid
BEGIN:DAYLIGHT
TZOFFSETFROM:+0100
TZOFFSETTO:+0200
TZNAME:CEST
DTSTART:20240331T010000
END:DAYLIGHT
BEGIN:STANDARD
TZOFFSETFROM:+0200
TZOFFSETTO:+0100
TZNAME:CET
DTSTART:20241027T010000
END:STANDARD
BEGIN:DAYLIGHT
TZOFFSETFROM:+0100
TZOFFSETTO:+0200
TZNAME:CEST
DTSTART:20250330T010000
END:DAYLIGHT
BEGIN:STANDARD
TZOFFSETFROM:+0200
TZOFFSETTO:+0100
TZNAME:CET
DTSTART:20251026T010000
END:STANDARD
BEGIN:DAYLIGHT
TZOFFSETFROM:+0100
TZOFFSETTO:+0200
TZNAME:CEST
DTSTART:20260329T010000
END:DAYLIGHT
BEGIN:STANDARD
TZOFFSETFROM:+0200
TZOFFSETTO:+0100
TZNAME:CET
DTSTART:20261025T010000
END:STANDARD
END:VTIMEZONE
BEGIN:VEVENT
DTSTART;TZID=Europe/Madrid:20251121T180000
DTEND;TZID=Europe/Madrid:20251121T203000
DTSTAMP:20260421T071427
CREATED:20251031T154527Z
LAST-MODIFIED:20251031T154527Z
UID:25642-1763748000-1763757000@www.carnavaldecadiz.com
SUMMARY:Debate 'LA MUJER EN EL CARNAVAL'
DESCRIPTION:‘LA MUJER EN EL CARNAVAL’. Voz\, resistencia y arte contra la violencia. \nUn encuentro que une literatura\, debate y coplas. \nParticipan en el debate: \n\nMarta Ortíz\, autora de la comparsa ‘We can do… Carnaval’ y el libro ‘Las ausentes’\nPatricia Andres\, autora de a comparsa ‘Los gorriones’ y del libro ‘La mujer del comparsista’\nDebora Sánchez\nCarolina Mateos\nInés Migueles\nVanesa González\nAlicia Trinidad\nMilian Oneto\nCoral García\n\nEvento público de libre acceso.
URL:https://www.carnavaldecadiz.com/event/debate-la-mujer-en-el-carnaval/
LOCATION:Edificio Diego Salinas\, San Roque\, Plaza de la Constitución\, s/n\, San Roque\, Cádiz\, 11360\, Spain
CATEGORIES:mesa de debate
END:VEVENT
END:VCALENDAR