BEGIN:VCALENDAR
VERSION:2.0
PRODID:-//Carnaval de C&aacute;diz - ECPv6.15.20//NONSGML v1.0//EN
CALSCALE:GREGORIAN
METHOD:PUBLISH
X-ORIGINAL-URL:https://www.carnavaldecadiz.com
X-WR-CALDESC:Eventos para Carnaval de C&aacute;diz
REFRESH-INTERVAL;VALUE=DURATION:PT1H
X-Robots-Tag:noindex
X-PUBLISHED-TTL:PT1H
BEGIN:VTIMEZONE
TZID:Europe/Madrid
BEGIN:DAYLIGHT
TZOFFSETFROM:+0100
TZOFFSETTO:+0200
TZNAME:CEST
DTSTART:20240331T010000
END:DAYLIGHT
BEGIN:STANDARD
TZOFFSETFROM:+0200
TZOFFSETTO:+0100
TZNAME:CET
DTSTART:20241027T010000
END:STANDARD
BEGIN:DAYLIGHT
TZOFFSETFROM:+0100
TZOFFSETTO:+0200
TZNAME:CEST
DTSTART:20250330T010000
END:DAYLIGHT
BEGIN:STANDARD
TZOFFSETFROM:+0200
TZOFFSETTO:+0100
TZNAME:CET
DTSTART:20251026T010000
END:STANDARD
BEGIN:DAYLIGHT
TZOFFSETFROM:+0100
TZOFFSETTO:+0200
TZNAME:CEST
DTSTART:20260329T010000
END:DAYLIGHT
BEGIN:STANDARD
TZOFFSETFROM:+0200
TZOFFSETTO:+0100
TZNAME:CET
DTSTART:20261025T010000
END:STANDARD
END:VTIMEZONE
BEGIN:VEVENT
DTSTART;TZID=Europe/Madrid:20251115T120000
DTEND;TZID=Europe/Madrid:20251115T133000
DTSTAMP:20260421T071400
CREATED:20251031T152118Z
LAST-MODIFIED:20251031T152118Z
UID:25638-1763208000-1763213400@www.carnavaldecadiz.com
SUMMARY:Mesa Redonda 'Vino\, Mujer y Carnaval'
DESCRIPTION:Puesta en valor del papel de la mujer en el Carnaval y sus dificultades en una mesa redonda en la que participará: \n\nMarta Ortíz\, autora de la comparsa ‘We can do … Carnaval’.\nAna Magallanes\, autora de romanceros.\n\nY carnavaleras de Bollullos como: María Benjumea\, Manuela Sánchez y Ana Mari Camacho. \nModera Elena Oliveros. \nEvento público de libre acceso. \nTras la mesa redonda y a partir de las 13:30h\, recorrido por diferentes espacios de la bodega con guía y degustación de seis de sus vinos maridados con las mejores tapas\, acompañado de coplas a cargo de mujeres carnavaleras bollulleras. \nPrecio de la entrada: \n\nSocios 25€\nNo socios 30€\n\nVenta de entradas anticipadas en la sede de la Asociación ‘La Tizná’\, calle Condado de Niebla nº34\, los días 5\, 10 y 11 de noviembre de 17:30h a 19:30h.
URL:https://www.carnavaldecadiz.com/event/mesa-redonda-vino-mujer-y-carnaval/
LOCATION:Bodegas Privilegio del Condado\, Bollullos\, calle San José\, 2\, Bollullos Par del Condado\, Huelva\, 21710\, Spain
CATEGORIES:mesa de debate
END:VEVENT
END:VCALENDAR