BEGIN:VCALENDAR
VERSION:2.0
PRODID:-//Carnaval de C&aacute;diz - ECPv6.15.20//NONSGML v1.0//EN
CALSCALE:GREGORIAN
METHOD:PUBLISH
X-WR-CALNAME:Carnaval de C&aacute;diz
X-ORIGINAL-URL:https://www.carnavaldecadiz.com
X-WR-CALDESC:Eventos para Carnaval de C&aacute;diz
REFRESH-INTERVAL;VALUE=DURATION:PT1H
X-Robots-Tag:noindex
X-PUBLISHED-TTL:PT1H
BEGIN:VTIMEZONE
TZID:Europe/Madrid
BEGIN:DAYLIGHT
TZOFFSETFROM:+0100
TZOFFSETTO:+0200
TZNAME:CEST
DTSTART:20240331T010000
END:DAYLIGHT
BEGIN:STANDARD
TZOFFSETFROM:+0200
TZOFFSETTO:+0100
TZNAME:CET
DTSTART:20241027T010000
END:STANDARD
BEGIN:DAYLIGHT
TZOFFSETFROM:+0100
TZOFFSETTO:+0200
TZNAME:CEST
DTSTART:20250330T010000
END:DAYLIGHT
BEGIN:STANDARD
TZOFFSETFROM:+0200
TZOFFSETTO:+0100
TZNAME:CET
DTSTART:20251026T010000
END:STANDARD
BEGIN:DAYLIGHT
TZOFFSETFROM:+0100
TZOFFSETTO:+0200
TZNAME:CEST
DTSTART:20260329T010000
END:DAYLIGHT
BEGIN:STANDARD
TZOFFSETFROM:+0200
TZOFFSETTO:+0100
TZNAME:CET
DTSTART:20261025T010000
END:STANDARD
END:VTIMEZONE
BEGIN:VEVENT
DTSTART;TZID=Europe/Madrid:20250808T203000
DTEND;TZID=Europe/Madrid:20250808T220000
DTSTAMP:20260421T120947
CREATED:20250804T174308Z
LAST-MODIFIED:20250804T174308Z
UID:22689-1754685000-1754690400@www.carnavaldecadiz.com
SUMMARY:Charlas de Carnaval - Manuel López 'Lupi'
DESCRIPTION:Charla orgazizada por la Asociación de Autores y componentes del Carnaval de Puerto Real. \nEvento público de libre acceso.
URL:https://www.carnavaldecadiz.com/event/charlas-de-carnaval-manuel-lopez-lupi/
LOCATION:Peña Deportiva Ribera del Mar\, Puerto Real\, calle Victoria 2\, Puerto Real\, Cádiz\, 11510\, Spain
CATEGORIES:mesa de debate
END:VEVENT
END:VCALENDAR