BEGIN:VCALENDAR
VERSION:2.0
PRODID:-//Carnaval de C&aacute;diz - ECPv6.15.20//NONSGML v1.0//EN
CALSCALE:GREGORIAN
METHOD:PUBLISH
X-ORIGINAL-URL:https://www.carnavaldecadiz.com
X-WR-CALDESC:Eventos para Carnaval de C&aacute;diz
REFRESH-INTERVAL;VALUE=DURATION:PT1H
X-Robots-Tag:noindex
X-PUBLISHED-TTL:PT1H
BEGIN:VTIMEZONE
TZID:Europe/Madrid
BEGIN:DAYLIGHT
TZOFFSETFROM:+0100
TZOFFSETTO:+0200
TZNAME:CEST
DTSTART:20240331T010000
END:DAYLIGHT
BEGIN:STANDARD
TZOFFSETFROM:+0200
TZOFFSETTO:+0100
TZNAME:CET
DTSTART:20241027T010000
END:STANDARD
BEGIN:DAYLIGHT
TZOFFSETFROM:+0100
TZOFFSETTO:+0200
TZNAME:CEST
DTSTART:20250330T010000
END:DAYLIGHT
BEGIN:STANDARD
TZOFFSETFROM:+0200
TZOFFSETTO:+0100
TZNAME:CET
DTSTART:20251026T010000
END:STANDARD
BEGIN:DAYLIGHT
TZOFFSETFROM:+0100
TZOFFSETTO:+0200
TZNAME:CEST
DTSTART:20260329T010000
END:DAYLIGHT
BEGIN:STANDARD
TZOFFSETFROM:+0200
TZOFFSETTO:+0100
TZNAME:CET
DTSTART:20261025T010000
END:STANDARD
END:VTIMEZONE
BEGIN:VEVENT
DTSTART;TZID=Europe/Madrid:20250512T190000
DTEND;TZID=Europe/Madrid:20250512T210000
DTSTAMP:20260421T162609
CREATED:20250511T232955Z
LAST-MODIFIED:20250511T232955Z
UID:20795-1747076400-1747083600@www.carnavaldecadiz.com
SUMMARY:Proyección del documental 'Cádiz\, más allá del olvido'
DESCRIPTION:Documental sobre la represión fascista en la ciudad de Cádiz\, realizado por Producciones Singulares\, el mismo equipo que dirigió el multi premiado documental ‘Pico Reja’ \nCon la participación de Jesús Bienvenido. \nEvento público de libre acceso hasta completar aforo.
URL:https://www.carnavaldecadiz.com/event/proyeccion-del-documental-cadiz-mas-alla-del-olvido/
LOCATION:Club Social de Empleados Municipales\, Cádiz\, calle Alcalá Galiano 3D\, Cádiz\, Cádiz\, España
CATEGORIES:mesa de debate,Mucho más que carnaval
END:VEVENT
END:VCALENDAR