BEGIN:VCALENDAR
VERSION:2.0
PRODID:-//Carnaval de C&aacute;diz - ECPv6.15.20//NONSGML v1.0//EN
CALSCALE:GREGORIAN
METHOD:PUBLISH
X-WR-CALNAME:Carnaval de C&aacute;diz
X-ORIGINAL-URL:https://www.carnavaldecadiz.com
X-WR-CALDESC:Eventos para Carnaval de C&aacute;diz
REFRESH-INTERVAL;VALUE=DURATION:PT1H
X-Robots-Tag:noindex
X-PUBLISHED-TTL:PT1H
BEGIN:VTIMEZONE
TZID:Europe/Madrid
BEGIN:DAYLIGHT
TZOFFSETFROM:+0100
TZOFFSETTO:+0200
TZNAME:CEST
DTSTART:20230326T010000
END:DAYLIGHT
BEGIN:STANDARD
TZOFFSETFROM:+0200
TZOFFSETTO:+0100
TZNAME:CET
DTSTART:20231029T010000
END:STANDARD
BEGIN:DAYLIGHT
TZOFFSETFROM:+0100
TZOFFSETTO:+0200
TZNAME:CEST
DTSTART:20240331T010000
END:DAYLIGHT
BEGIN:STANDARD
TZOFFSETFROM:+0200
TZOFFSETTO:+0100
TZNAME:CET
DTSTART:20241027T010000
END:STANDARD
BEGIN:DAYLIGHT
TZOFFSETFROM:+0100
TZOFFSETTO:+0200
TZNAME:CEST
DTSTART:20250330T010000
END:DAYLIGHT
BEGIN:STANDARD
TZOFFSETFROM:+0200
TZOFFSETTO:+0100
TZNAME:CET
DTSTART:20251026T010000
END:STANDARD
END:VTIMEZONE
BEGIN:VEVENT
DTSTART;TZID=Europe/Madrid:20240531T210000
DTEND;TZID=Europe/Madrid:20240531T230000
DTSTAMP:20260422T094745
CREATED:20240521T191024Z
LAST-MODIFIED:20240521T191024Z
UID:10565-1717189200-1717196400@www.carnavaldecadiz.com
SUMMARY:Jonathan Pérez Ginel 'El Jona' en la Peña Nuestra Andalucía
DESCRIPTION:Más información y reservas en 615532153
URL:https://www.carnavaldecadiz.com/event/jonathan-perez-ginel-el-jona-en-la-pena-nuestra-andalucia/
LOCATION:Peña Nuestra Andalucía\, Cádiz\, calle María Arteaga 25\, Cádiz\, Cádiz\, 11002\, España
CATEGORIES:actuaciones de carnaval,mesa de debate,Mucho más que carnaval
END:VEVENT
END:VCALENDAR