BEGIN:VCALENDAR
VERSION:2.0
PRODID:-//Carnaval de C&aacute;diz - ECPv6.15.20//NONSGML v1.0//EN
CALSCALE:GREGORIAN
METHOD:PUBLISH
X-WR-CALNAME:Carnaval de C&aacute;diz
X-ORIGINAL-URL:https://www.carnavaldecadiz.com
X-WR-CALDESC:Eventos para Carnaval de C&aacute;diz
REFRESH-INTERVAL;VALUE=DURATION:PT1H
X-Robots-Tag:noindex
X-PUBLISHED-TTL:PT1H
BEGIN:VTIMEZONE
TZID:Europe/Madrid
BEGIN:DAYLIGHT
TZOFFSETFROM:+0100
TZOFFSETTO:+0200
TZNAME:CEST
DTSTART:20230326T010000
END:DAYLIGHT
BEGIN:STANDARD
TZOFFSETFROM:+0200
TZOFFSETTO:+0100
TZNAME:CET
DTSTART:20231029T010000
END:STANDARD
BEGIN:DAYLIGHT
TZOFFSETFROM:+0100
TZOFFSETTO:+0200
TZNAME:CEST
DTSTART:20240331T010000
END:DAYLIGHT
BEGIN:STANDARD
TZOFFSETFROM:+0200
TZOFFSETTO:+0100
TZNAME:CET
DTSTART:20241027T010000
END:STANDARD
BEGIN:DAYLIGHT
TZOFFSETFROM:+0100
TZOFFSETTO:+0200
TZNAME:CEST
DTSTART:20250330T010000
END:DAYLIGHT
BEGIN:STANDARD
TZOFFSETFROM:+0200
TZOFFSETTO:+0100
TZNAME:CET
DTSTART:20251026T010000
END:STANDARD
END:VTIMEZONE
BEGIN:VEVENT
DTSTART;TZID=Europe/Madrid:20240322T190000
DTEND;TZID=Europe/Madrid:20240322T210000
DTSTAMP:20260423T053448
CREATED:20240318T220730Z
LAST-MODIFIED:20240318T220730Z
UID:8859-1711134000-1711141200@www.carnavaldecadiz.com
SUMMARY:El Carnaval de Cádiz y 'Los Joyeros Gaditanos'
DESCRIPTION:Santiago Moreno Tello\, Francis Sevilla Pecci y Kiko Camacho conversan con Miguel Ángel García Argüéz \nsobre el Carnaval de Cádiz y ‘Los Joyeros Gaditanos’ a propósito de la publicación de ‘Coplas de Carnaval en Cádiz. La segunda república (1932-1936) Volumen II \nEvento público de libre acceso.
URL:https://www.carnavaldecadiz.com/event/el-carnaval-de-cadiz-y-los-joyeros-gaditanos/
LOCATION:Biblioteca Pública Provincial de Cádiz\, Avenida Cuatro de Diciembre de 1977\, 16\, Cádiz\, Cádiz\, 11006\, España
CATEGORIES:Libros de Carnaval,mesa de debate,Mucho más que carnaval
END:VEVENT
END:VCALENDAR