BEGIN:VCALENDAR
VERSION:2.0
PRODID:-//Carnaval de C&aacute;diz - ECPv6.15.20//NONSGML v1.0//EN
CALSCALE:GREGORIAN
METHOD:PUBLISH
X-WR-CALNAME:Carnaval de C&aacute;diz
X-ORIGINAL-URL:https://www.carnavaldecadiz.com
X-WR-CALDESC:Eventos para Carnaval de C&aacute;diz
REFRESH-INTERVAL;VALUE=DURATION:PT1H
X-Robots-Tag:noindex
X-PUBLISHED-TTL:PT1H
BEGIN:VTIMEZONE
TZID:Europe/Madrid
BEGIN:DAYLIGHT
TZOFFSETFROM:+0100
TZOFFSETTO:+0200
TZNAME:CEST
DTSTART:20230326T010000
END:DAYLIGHT
BEGIN:STANDARD
TZOFFSETFROM:+0200
TZOFFSETTO:+0100
TZNAME:CET
DTSTART:20231029T010000
END:STANDARD
BEGIN:DAYLIGHT
TZOFFSETFROM:+0100
TZOFFSETTO:+0200
TZNAME:CEST
DTSTART:20240331T010000
END:DAYLIGHT
BEGIN:STANDARD
TZOFFSETFROM:+0200
TZOFFSETTO:+0100
TZNAME:CET
DTSTART:20241027T010000
END:STANDARD
BEGIN:DAYLIGHT
TZOFFSETFROM:+0100
TZOFFSETTO:+0200
TZNAME:CEST
DTSTART:20250330T010000
END:DAYLIGHT
BEGIN:STANDARD
TZOFFSETFROM:+0200
TZOFFSETTO:+0100
TZNAME:CET
DTSTART:20251026T010000
END:STANDARD
END:VTIMEZONE
BEGIN:VEVENT
DTSTART;TZID=Europe/Madrid:20240312T123000
DTEND;TZID=Europe/Madrid:20240312T150000
DTSTAMP:20260423T212324
CREATED:20240306T120456Z
LAST-MODIFIED:20240306T120456Z
UID:8579-1710246600-1710255600@www.carnavaldecadiz.com
SUMMARY:Mesa Redonda Vino y Carnaval
DESCRIPTION:Con motivo de la Semana de las Letras en torno al vino y el carnaval\, en el Aula Magna de la Facultad de Filosofía y Letras de la UCA. El evento incluye una cata de vinos de Bodegas Romate.\n \nParticiparán en la mesa redonda:\n\n\nAlberto Ramos\, Director de la Cátedra del Carnaval\nAntonio Montiel\, Presidente del Aula de Cultura\nReyes Gómez\, Directora Técnica de Bodegas Romate.\nSantiago Moreno\, Doctor en Historia Contemporánea de la UCA\nNorberto Iglesias ‘Tito’\, Comparsa de Enrique Villegas\nFrancisco Javier Bohórquez\, Comparsa Juan Carlos Aragón\n\nEvento público de libre acceso. \n  \n 
URL:https://www.carnavaldecadiz.com/event/mesa-redonda-vino-y-carnaval/
LOCATION:Facultad de Filosofia y Letras\, UCA\, Avenida Doctor Gómez Ulla 1\, Cádiz\, Cádiz\, 11003\, España
CATEGORIES:mesa de debate,Mucho más que carnaval
END:VEVENT
END:VCALENDAR