BEGIN:VCALENDAR
VERSION:2.0
PRODID:-//Carnaval de C&aacute;diz - ECPv6.15.20//NONSGML v1.0//EN
CALSCALE:GREGORIAN
METHOD:PUBLISH
X-WR-CALNAME:Carnaval de C&aacute;diz
X-ORIGINAL-URL:https://www.carnavaldecadiz.com
X-WR-CALDESC:Eventos para Carnaval de C&aacute;diz
REFRESH-INTERVAL;VALUE=DURATION:PT1H
X-Robots-Tag:noindex
X-PUBLISHED-TTL:PT1H
BEGIN:VTIMEZONE
TZID:Europe/Madrid
BEGIN:DAYLIGHT
TZOFFSETFROM:+0100
TZOFFSETTO:+0200
TZNAME:CEST
DTSTART:20240331T010000
END:DAYLIGHT
BEGIN:STANDARD
TZOFFSETFROM:+0200
TZOFFSETTO:+0100
TZNAME:CET
DTSTART:20241027T010000
END:STANDARD
BEGIN:DAYLIGHT
TZOFFSETFROM:+0100
TZOFFSETTO:+0200
TZNAME:CEST
DTSTART:20250330T010000
END:DAYLIGHT
BEGIN:STANDARD
TZOFFSETFROM:+0200
TZOFFSETTO:+0100
TZNAME:CET
DTSTART:20251026T010000
END:STANDARD
BEGIN:DAYLIGHT
TZOFFSETFROM:+0100
TZOFFSETTO:+0200
TZNAME:CEST
DTSTART:20260329T010000
END:DAYLIGHT
BEGIN:STANDARD
TZOFFSETFROM:+0200
TZOFFSETTO:+0100
TZNAME:CET
DTSTART:20261025T010000
END:STANDARD
END:VTIMEZONE
BEGIN:VEVENT
DTSTART;TZID=Europe/Madrid:20251003T180000
DTEND;TZID=Europe/Madrid:20251003T210000
DTSTAMP:20260421T070903
CREATED:20251001T222515Z
LAST-MODIFIED:20251001T222515Z
UID:24600-1759514400-1759525200@www.carnavaldecadiz.com
SUMMARY:Charla-coloquio 'Juan Carlos Aragón y su música'
DESCRIPTION:Intervienen: Sergio Guillén Bancalero\, y Antonio Martínez Ares \nModera: Ignacio de la Varga \nEvento público de libre acceso. \n 
URL:https://www.carnavaldecadiz.com/event/charla-coloquio-juan-carlos-aragon-y-su-musica/
LOCATION:Casa del Carnaval\, Cádiz\, calle Marqués del Real Tesoro 15\, 17\, Cádiz\, Cádiz\, 11001\, España
CATEGORIES:mesa de debate
END:VEVENT
BEGIN:VEVENT
DTSTART;TZID=Europe/Madrid:20251003T183000
DTEND;TZID=Europe/Madrid:20251003T203000
DTSTAMP:20260421T070903
CREATED:20250929T175508Z
LAST-MODIFIED:20250929T175508Z
UID:24463-1759516200-1759523400@www.carnavaldecadiz.com
SUMMARY:X Tertulia Feminista de Carnaval - Hermanas Tubío
DESCRIPTION:Las hermanas Tubío\, Susana y Eva\, son las autoras de una de las agrupaciones femeninas en activo más veteranas del carnaval callejero. Por las calles de Cádiz desde 2007 con ‘Quiero ser como Viky’\, ‘Las mujeres de anuncio'(2009)\, ‘Las espías de la Kaja B'(2012)\, ‘Las candidatas'(2014)\, ‘Las del régimen'(2018) o ‘La patrona’ en 2025; son algunas de sus chirigotas. \nHaremos un repaso a sus agrupaciones\, nos contarán alguna que otra anécdota y sobretodo lo pasaremos en grande porque son dos mujeres muy divertidas que vale la pena conocer un poquito más. \nEvento público de libre acceso.
URL:https://www.carnavaldecadiz.com/event/x-tertulia-feminista-de-carnaval-hermanas-tubio/
LOCATION:La Lectora Cafetería-librería\, Cádiz\, calle Ancha 32\, Cádiz\, Cádiz\, 11001\, Spain
CATEGORIES:mesa de debate,Mucho más que carnaval
ATTACH;FMTTYPE=image/png:https://www.carnavaldecadiz.com/wp-content/uploads/2025/09/10-Cartel_10_03_2025-400-2.png
END:VEVENT
BEGIN:VEVENT
DTSTART;TZID=Europe/Madrid:20251003T210000
DTEND;TZID=Europe/Madrid:20251003T230000
DTSTAMP:20260421T070903
CREATED:20250929T150238Z
LAST-MODIFIED:20250929T150238Z
UID:24438-1759525200-1759532400@www.carnavaldecadiz.com
SUMMARY:Una Charlita Chirigotera en San Roque
DESCRIPTION:En la charla participarán: ‘Er Carvo’\, Isaac ‘Mai’\, Nono\, Johana\, y Careto. \nEvento público de libre acceso.
URL:https://www.carnavaldecadiz.com/event/una-charlita-chirigotera-en-san-roque/
LOCATION:Asociación Cultural Canción Ligera\, San Roque\, San Roque\, Cádiz\, 11360\, Spain
CATEGORIES:actuaciones de carnaval,mesa de debate
END:VEVENT
BEGIN:VEVENT
DTSTART;TZID=Europe/Madrid:20251005T120000
DTEND;TZID=Europe/Madrid:20251005T143000
DTSTAMP:20260421T070903
CREATED:20250929T173947Z
LAST-MODIFIED:20250929T173947Z
UID:24454-1759665600-1759674600@www.carnavaldecadiz.com
SUMMARY:Charla Carnavalera en Osuna
DESCRIPTION:Charla carnavalera con Carlos Pérez y  Jesús Valdés. \nSocios gratis. \nNo socios 3€
URL:https://www.carnavaldecadiz.com/event/charla-carnavalera-en-osuna/
LOCATION:La Posá\, Osuna\, calle Asistente Arjona\, Osuna\, Sevilla\, 41640\, España
CATEGORIES:actuaciones de carnaval,mesa de debate
END:VEVENT
BEGIN:VEVENT
DTSTART;TZID=Europe/Madrid:20251025T180000
DTEND;TZID=Europe/Madrid:20251025T200000
DTSTAMP:20260421T070903
CREATED:20251020T124112Z
LAST-MODIFIED:20251020T124112Z
UID:25320-1761415200-1761422400@www.carnavaldecadiz.com
SUMMARY:Alex 'Peluca' en el Otoño Cultural de Fuente Palmera
DESCRIPTION:Alex ‘Peluca’ autor del primer premio de chirigotas del COAC 2025 ‘LOS CALAITA’ estará en la Casa de la Memoria para contar su experiencia. \nEvento público de libre acceso.
URL:https://www.carnavaldecadiz.com/event/alex-peluca-en-el-otono-cultural-de-fuente-palmera/
LOCATION:Casa de la Memoria\, Fuente Palmera.\, Plaza Real 1\, Fuente Palmera\, Córdoba\, 14120\, Spain
CATEGORIES:mesa de debate
END:VEVENT
END:VCALENDAR