BEGIN:VCALENDAR
VERSION:2.0
PRODID:-//Carnaval de C&aacute;diz - ECPv6.15.20//NONSGML v1.0//EN
CALSCALE:GREGORIAN
METHOD:PUBLISH
X-ORIGINAL-URL:https://www.carnavaldecadiz.com
X-WR-CALDESC:Eventos para Carnaval de C&aacute;diz
REFRESH-INTERVAL;VALUE=DURATION:PT1H
X-Robots-Tag:noindex
X-PUBLISHED-TTL:PT1H
BEGIN:VTIMEZONE
TZID:Europe/Madrid
BEGIN:DAYLIGHT
TZOFFSETFROM:+0100
TZOFFSETTO:+0200
TZNAME:CEST
DTSTART:20230326T010000
END:DAYLIGHT
BEGIN:STANDARD
TZOFFSETFROM:+0200
TZOFFSETTO:+0100
TZNAME:CET
DTSTART:20231029T010000
END:STANDARD
BEGIN:DAYLIGHT
TZOFFSETFROM:+0100
TZOFFSETTO:+0200
TZNAME:CEST
DTSTART:20240331T010000
END:DAYLIGHT
BEGIN:STANDARD
TZOFFSETFROM:+0200
TZOFFSETTO:+0100
TZNAME:CET
DTSTART:20241027T010000
END:STANDARD
BEGIN:DAYLIGHT
TZOFFSETFROM:+0100
TZOFFSETTO:+0200
TZNAME:CEST
DTSTART:20250330T010000
END:DAYLIGHT
BEGIN:STANDARD
TZOFFSETFROM:+0200
TZOFFSETTO:+0100
TZNAME:CET
DTSTART:20251026T010000
END:STANDARD
END:VTIMEZONE
BEGIN:VEVENT
DTSTART;TZID=Europe/Madrid:20241018T170000
DTEND;TZID=Europe/Madrid:20241018T210000
DTSTAMP:20260422T013225
CREATED:20241001T124856Z
LAST-MODIFIED:20241001T125815Z
UID:13464-1729270800-1729285200@www.carnavaldecadiz.com
SUMMARY:1ª Sesión - El Carnaval también es nuestro. Mujeres Creadoras
DESCRIPTION:Historia de una discriminación: origen de una ausencia\, evolución\, incorporación y primeras mujeres.\n\n17.00 h – Presentación del taller.\nDe 17.15 h a 18.45 h –  Mesa de experiencias (Carmen García González\, Conchi Domínguez Parrrilla\, Ana Barceló Calatayud\, Carmen Ramos Santana y Tamara García del Valle).\n18.45 h a 19.15 h – Descanso\nDe 19.15 h a 21.00 h –  Máster class ‘Claves para el proceso creativo de una chirigota feminista callejera’: Susana Ginesta Gamaza.\n\nMás información CELAMA
URL:https://www.carnavaldecadiz.com/event/el-carnaval-tambien-es-nuestro-mujeres-creadoras/
LOCATION:Facultad de Filosofia y Letras\, UCA\, Avenida Doctor Gómez Ulla 1\, Cádiz\, Cádiz\, 11003\, España
CATEGORIES:Cátedra del Carnaval de Cádiz,conferencia de carnaval,mesa de debate,Mucho más que carnaval
ATTACH;FMTTYPE=image/png:https://www.carnavaldecadiz.com/wp-content/uploads/2024/10/Taller_mujeres_creadoras-2.png
END:VEVENT
BEGIN:VEVENT
DTSTART;TZID=Europe/Madrid:20241019T210000
DTEND;TZID=Europe/Madrid:20241019T230000
DTSTAMP:20260422T013225
CREATED:20241016T112641Z
LAST-MODIFIED:20241016T112712Z
UID:13973-1729371600-1729378800@www.carnavaldecadiz.com
SUMMARY:Charlas de Carnaval en Aguilar de la Frontera
DESCRIPTION:Evento público de libre acceso
URL:https://www.carnavaldecadiz.com/event/charlas-de-carnaval-en-aguilar-de-la-frontera/
LOCATION:Asociación Cultural Carnavalesca. Aguilar de la Frontera\, calle Vicente Romero\, Aguilar de la Frontera\, Córdoba\, 14920\, Spain
CATEGORIES:conferencia de carnaval,mesa de debate,Mucho más que carnaval
END:VEVENT
BEGIN:VEVENT
DTSTART;TZID=Europe/Madrid:20241022T200000
DTEND;TZID=Europe/Madrid:20241022T220000
DTSTAMP:20260422T013225
CREATED:20241020T220918Z
LAST-MODIFIED:20241020T220918Z
UID:14146-1729627200-1729634400@www.carnavaldecadiz.com
SUMMARY:Clientela Selecta del Café de Levante
DESCRIPTION:El Café de Levante es punto de encuentro de de la cultura gaditana y del carnaval. \nEvento público de libre acceso.
URL:https://www.carnavaldecadiz.com/event/clientela-selecta-del-cafe-de-levante/
LOCATION:Café de Levante\, Cádiz\, calle Rosario 35\, Cádiz\, Cádiz\, 11004\, Spain
CATEGORIES:mesa de debate,Mucho más que carnaval
END:VEVENT
BEGIN:VEVENT
DTSTART;TZID=Europe/Madrid:20241025T170000
DTEND;TZID=Europe/Madrid:20241025T210000
DTSTAMP:20260422T013225
CREATED:20241001T125830Z
LAST-MODIFIED:20241001T125830Z
UID:13468-1729875600-1729890000@www.carnavaldecadiz.com
SUMMARY:2ª Sesión - El Carnaval también es nuestro. Mujeres Creadoras
DESCRIPTION:La escritura I. Letras universales y/o feministas.\n\nDe 17.00 h a 18.45 h – Mesa de experiencias (Puri Manjavacas Ruiz\, Elena Quirós Acevedo\, María Gallego Logroño\, Ana Camelo Grajera\, Gema Gómez Anaya).\n18.45 h a 19.15 h – Descanso\nDe 19.15 h a 21.00 h – Máster class ‘Análisis feminista del humor y la misoginia en las Coplas de Carnaval’: Marta Ginesta Gamaza.\n\nMás información CELAMA
URL:https://www.carnavaldecadiz.com/event/2a-sesion-el-carnaval-tambien-es-nuestro-mujeres-creadoras/
LOCATION:Facultad de Filosofia y Letras\, UCA\, Avenida Doctor Gómez Ulla 1\, Cádiz\, Cádiz\, 11003\, España
CATEGORIES:Cátedra del Carnaval de Cádiz,conferencia de carnaval,mesa de debate,Mucho más que carnaval
ATTACH;FMTTYPE=image/png:https://www.carnavaldecadiz.com/wp-content/uploads/2024/10/Taller_mujeres_creadoras-2.png
END:VEVENT
BEGIN:VEVENT
DTSTART;TZID=Europe/Madrid:20241030T190000
DTEND;TZID=Europe/Madrid:20241030T210000
DTSTAMP:20260422T013225
CREATED:20241014T180152Z
LAST-MODIFIED:20241029T162413Z
UID:13948-1730314800-1730322000@www.carnavaldecadiz.com
SUMMARY:IVTertulia Feminista de Carnaval. Coplas Lamentables
DESCRIPTION:En esta ocasión la Tertulia Feminista de Carnaval contará con tres invitados de lujo\, Luis Herminio Labajo\, Sage Carbonell y Tami Barrera\, que en un tono jocoso harán un repaso por las coplas de carnaval machistas\, homófobas o racistas que se han cantado la pasada edición del COAC y en ediciones anteriores. \nEn los últimos 20 años la sociedad ha evolucionado y el humor o la crítica debe adaptarse a las sensibilidades de un público cada vez más exigente. Vamos a dedicar la tertulia a las coplas que pasan desapercibidas en el furor de la batalla que supone el concurso de coplas de carnaval. \nEvento público de libre acceso.
URL:https://www.carnavaldecadiz.com/event/tertulia-feminista-de-carnaval-coplas-lamentables/
LOCATION:Casa de la Juventud\, Cádiz\, Calle Cánovas del Castillo 41\, Cádiz\, Cádiz\, España
CATEGORIES:actuaciones de carnaval,mesa de debate,Mucho más que carnaval
ATTACH;FMTTYPE=image/png:https://www.carnavaldecadiz.com/wp-content/uploads/2024/10/Cartel_10_30_2024400-1.png
END:VEVENT
END:VCALENDAR