BEGIN:VCALENDAR
VERSION:2.0
PRODID:-//Carnaval de C&aacute;diz - ECPv6.15.20//NONSGML v1.0//EN
CALSCALE:GREGORIAN
METHOD:PUBLISH
X-WR-CALNAME:Carnaval de C&aacute;diz
X-ORIGINAL-URL:https://www.carnavaldecadiz.com
X-WR-CALDESC:Eventos para Carnaval de C&aacute;diz
REFRESH-INTERVAL;VALUE=DURATION:PT1H
X-Robots-Tag:noindex
X-PUBLISHED-TTL:PT1H
BEGIN:VTIMEZONE
TZID:Europe/Madrid
BEGIN:DAYLIGHT
TZOFFSETFROM:+0100
TZOFFSETTO:+0200
TZNAME:CEST
DTSTART:20230326T010000
END:DAYLIGHT
BEGIN:STANDARD
TZOFFSETFROM:+0200
TZOFFSETTO:+0100
TZNAME:CET
DTSTART:20231029T010000
END:STANDARD
BEGIN:DAYLIGHT
TZOFFSETFROM:+0100
TZOFFSETTO:+0200
TZNAME:CEST
DTSTART:20240331T010000
END:DAYLIGHT
BEGIN:STANDARD
TZOFFSETFROM:+0200
TZOFFSETTO:+0100
TZNAME:CET
DTSTART:20241027T010000
END:STANDARD
BEGIN:DAYLIGHT
TZOFFSETFROM:+0100
TZOFFSETTO:+0200
TZNAME:CEST
DTSTART:20250330T010000
END:DAYLIGHT
BEGIN:STANDARD
TZOFFSETFROM:+0200
TZOFFSETTO:+0100
TZNAME:CET
DTSTART:20251026T010000
END:STANDARD
END:VTIMEZONE
BEGIN:VEVENT
DTSTART;TZID=Europe/Madrid:20240706T210000
DTEND;TZID=Europe/Madrid:20240706T230000
DTSTAMP:20260422T063913
CREATED:20240521T171912Z
LAST-MODIFIED:20240521T171912Z
UID:10552-1720299600-1720306800@www.carnavaldecadiz.com
SUMMARY:Lola Cazalilla en la Peña Nuestra Andalucía
DESCRIPTION:Más información y reservas en 615532153
URL:https://www.carnavaldecadiz.com/event/lola-cazalilla-en-la-pena-nuestra-andalucia/
LOCATION:Peña Nuestra Andalucía\, Cádiz\, calle María Arteaga 25\, Cádiz\, Cádiz\, 11002\, España
CATEGORIES:mesa de debate
END:VEVENT
BEGIN:VEVENT
DTSTART;TZID=Europe/Madrid:20240713T210000
DTEND;TZID=Europe/Madrid:20240713T233000
DTSTAMP:20260422T063913
CREATED:20240620T123207Z
LAST-MODIFIED:20240620T123229Z
UID:11278-1720904400-1720913400@www.carnavaldecadiz.com
SUMMARY:Manuel Sánchez Alba 'El Noly' en la Peña Nuestra Andalucía
DESCRIPTION:Reservas en el por teléfono: 615 532 153
URL:https://www.carnavaldecadiz.com/event/manuel-sanchez-alba-el-noly-en-la-pena-nuestra-amdalucia/
LOCATION:Peña Nuestra Andalucía\, Cádiz\, calle María Arteaga 25\, Cádiz\, Cádiz\, 11002\, España
CATEGORIES:mesa de debate,Mucho más que carnaval
END:VEVENT
BEGIN:VEVENT
DTSTART;VALUE=DATE:20240717
DTEND;VALUE=DATE:20240721
DTSTAMP:20260422T063913
CREATED:20240706T212219Z
LAST-MODIFIED:20240706T212900Z
UID:11662-1721174400-1721519999@www.carnavaldecadiz.com
SUMMARY:XLIII Semana Cultural y Carnavalesca de la Peña 'La Salle Viña'
DESCRIPTION:Organizado por la Peña Cultural Carnavalesca ‘La Salle Viña’\, con la colaboración del Excmo. Ayuntamiento de Cádiz\, y Restaurante el Faro. \nPROGRAMA \nMiércoles 17 de julio \n18:00h Mesa de debate en la que participarán: Susana Gil de Reboleño Lastortres y Miguel Ángel García Argüéz ‘El chapa’ \n21:00h Pregón a cargo de Carlos Pérez y actuación de: \n\nChirigota LOS QUE SALIERON PERDIENDO\nCoro EL GREMIO\nComparsa LOS SACRIFICAOS\nChirigota EL GRINCH DE CADI\n\nJueves 18 de julio – Dedicado al Folklore andaluz como expresión artística\, visual y musical. \n17:30h Mesa de debate en la que participarán: Elena Merino Rivera y Juan Antonio Carpio Galnares. \n20:00h Espectáculo ‘Flamenco y humor’ por CONTARTE de Aroa Gómez Ripoll \n21:00h Espectáculo Flamenco de la escuela de Ana González \n22:ooh Actuación de: \n\nCoro LOS LUCIÉRNAGAS\nComparsa LA ALEGRÍA DE CÁDIZ\nComparsa Y SEGUIMOS CANTANDO\n\nViernes 19 de julio – Dedicado a la Semana Santa gaditana como expresión artística y cultural \n18:00h Mesa de debate en la que participarán: Jesús García García\, José Marchena Domínguez y Javier Osuna García. \n21:00h Mesa redonda –  Presente y futuro de la Semana Santa\, proceso de fundación y papel actual de las nuevas hermandades\, participan: \n\nLuis Manuel Rivero Ramos – Primer Hermano Mayor y uno de los fundadores de la Hermandad del Despojado. Cádiz\nGabriel Parodi Álvarez – Hermano Mayor de la Archicofradía de la Merced. Cádiz.\nJuan Salvador Santos Morilla – Vocal de Secretaría y Diputado de Comunicación y  RRSS de la Hermandad de la Entrega. Guadalcacín\, Jerez.\nFrancisco Javier Fernández de Martos – Hermano Mayor de la Hermandad de la Milagrosa. Sevilla.\nModera:  Juan Carlos Carmona Bernal\, estudiante de Periodismo en la Universidad de Sevilla y colaborador de 7TV.\n\nSábado 20 de julio – Dedicado al Carnaval de Cádiz\, como medio de expresión socio-política desde lo popular. \n20:00h Actuación de: \n\nCoro LA PECERA\nAntología LA HERENCIA DEL BISABUELO\nComparsa LA CHIRIGOTERA\nAntología YO SI QUE TE COMO TU CARA\nCoro LOS ILUMINADOS\nCuarteto PUNK Y CIRCO; LA LUCHA CONTINÚA\nComparsa DONDE FUIMOS FELICES\nChirigota LOS PLÁCIDOS DOMINGOS\n\nEventos públicos de libre acceso.\nArtículo relacionado: Presentada la XLIII Semana Cultural Carnavalesca \n  \n 
URL:https://www.carnavaldecadiz.com/event/xliii-semana-cultural-y-carnavalesca-de-la-pena-la-salle-vina/
LOCATION:Sede Asociación de Autores del Carnaval de Cádiz\, calle Bóvedas de Santa Elena s/n\, Cádiz\, Cádiz\, 11006\, España
CATEGORIES:actuaciones de carnaval,conferencia de carnaval,mesa de debate,Mucho más que carnaval
END:VEVENT
END:VCALENDAR