BEGIN:VCALENDAR
VERSION:2.0
PRODID:-//Carnaval de C&aacute;diz - ECPv6.15.20//NONSGML v1.0//EN
CALSCALE:GREGORIAN
METHOD:PUBLISH
X-WR-CALNAME:Carnaval de C&aacute;diz
X-ORIGINAL-URL:https://www.carnavaldecadiz.com
X-WR-CALDESC:Eventos para Carnaval de C&aacute;diz
REFRESH-INTERVAL;VALUE=DURATION:PT1H
X-Robots-Tag:noindex
X-PUBLISHED-TTL:PT1H
BEGIN:VTIMEZONE
TZID:Europe/Madrid
BEGIN:DAYLIGHT
TZOFFSETFROM:+0100
TZOFFSETTO:+0200
TZNAME:CEST
DTSTART:20250330T010000
END:DAYLIGHT
BEGIN:STANDARD
TZOFFSETFROM:+0200
TZOFFSETTO:+0100
TZNAME:CET
DTSTART:20251026T010000
END:STANDARD
BEGIN:DAYLIGHT
TZOFFSETFROM:+0100
TZOFFSETTO:+0200
TZNAME:CEST
DTSTART:20260329T010000
END:DAYLIGHT
BEGIN:STANDARD
TZOFFSETFROM:+0200
TZOFFSETTO:+0100
TZNAME:CET
DTSTART:20261025T010000
END:STANDARD
BEGIN:DAYLIGHT
TZOFFSETFROM:+0100
TZOFFSETTO:+0200
TZNAME:CEST
DTSTART:20270328T010000
END:DAYLIGHT
BEGIN:STANDARD
TZOFFSETFROM:+0200
TZOFFSETTO:+0100
TZNAME:CET
DTSTART:20271031T010000
END:STANDARD
END:VTIMEZONE
BEGIN:VEVENT
DTSTART;VALUE=DATE:20260113
DTEND;VALUE=DATE:20260130
DTSTAMP:20260421T072615
CREATED:20260112T205938Z
LAST-MODIFIED:20260112T205938Z
UID:27197-1768262400-1769731199@www.carnavaldecadiz.com
SUMMARY:Exposición 'Tipo\, tipo'
DESCRIPTION:Exposición de tipos del carnaval de Cádiz y su provincia. \nEvento público de libre acceso.
URL:https://www.carnavaldecadiz.com/event/exposicion-tipo-tipo/
LOCATION:Centro Cultural ‘La Victoria’\, Sanlúcar\, Plaza de la Victoria\, 4\, Sanlúcar de Barrameda\, Cádiz\, 11540\, Spain
CATEGORIES:exposiciones
ATTACH;FMTTYPE=image/jpeg:https://www.carnavaldecadiz.com/wp-content/uploads/2026/01/0113Sanlucar.jpg
END:VEVENT
END:VCALENDAR