BEGIN:VCALENDAR
VERSION:2.0
PRODID:-//Carnaval de C&aacute;diz - ECPv6.15.20//NONSGML v1.0//EN
CALSCALE:GREGORIAN
METHOD:PUBLISH
X-ORIGINAL-URL:https://www.carnavaldecadiz.com
X-WR-CALDESC:Eventos para Carnaval de C&aacute;diz
REFRESH-INTERVAL;VALUE=DURATION:PT1H
X-Robots-Tag:noindex
X-PUBLISHED-TTL:PT1H
BEGIN:VTIMEZONE
TZID:Europe/Madrid
BEGIN:DAYLIGHT
TZOFFSETFROM:+0100
TZOFFSETTO:+0200
TZNAME:CEST
DTSTART:20240331T010000
END:DAYLIGHT
BEGIN:STANDARD
TZOFFSETFROM:+0200
TZOFFSETTO:+0100
TZNAME:CET
DTSTART:20241027T010000
END:STANDARD
BEGIN:DAYLIGHT
TZOFFSETFROM:+0100
TZOFFSETTO:+0200
TZNAME:CEST
DTSTART:20250330T010000
END:DAYLIGHT
BEGIN:STANDARD
TZOFFSETFROM:+0200
TZOFFSETTO:+0100
TZNAME:CET
DTSTART:20251026T010000
END:STANDARD
BEGIN:DAYLIGHT
TZOFFSETFROM:+0100
TZOFFSETTO:+0200
TZNAME:CEST
DTSTART:20260329T010000
END:DAYLIGHT
BEGIN:STANDARD
TZOFFSETFROM:+0200
TZOFFSETTO:+0100
TZNAME:CET
DTSTART:20261025T010000
END:STANDARD
END:VTIMEZONE
BEGIN:VEVENT
DTSTART;VALUE=DATE:20250425
DTEND;VALUE=DATE:20250701
DTSTAMP:20260423T210715
CREATED:20250426T115547Z
LAST-MODIFIED:20250426T120127Z
UID:20491-1745539200-1751327999@www.carnavaldecadiz.com
SUMMARY:Exposición 'LA DAMA DEL LAUD'
DESCRIPTION:Exposición dedicada a Adela del Moral Pino\, muestra los tipos de los quince coros de la autora  que concursaron en el Falla\, portando pancartas reivindicativas con la leyenda ‘Carnaval de Cádi’ leer más \nEl horario de visita es de lunes a sábado de: \n\n11:00 a 19:00 horas (última entrada a las 18 horas)\n\nLos domingos y festivos de: \n\n11:00 a 14:00 horas (última entrada a las 13 horas).\n\nLas reservas pueden solicitarse en la siguiente dirección de correo electrónico: visita.lacasadelcarnaval@ext.cadiz.es \nEl teléfono de atención al público es el 682 378 644. \nLa entrada es gratuita.
URL:https://www.carnavaldecadiz.com/event/exposicion-la-dama-del-laud/
LOCATION:Casa del Carnaval\, Cádiz\, calle Marqués del Real Tesoro 15\, 17\, Cádiz\, Cádiz\, 11001\, España
CATEGORIES:carnaval feminista,exposiciones,fotos carnaval,Libros de Carnaval
END:VEVENT
END:VCALENDAR