BEGIN:VCALENDAR
VERSION:2.0
PRODID:-//Carnaval de C&aacute;diz - ECPv6.15.20//NONSGML v1.0//EN
CALSCALE:GREGORIAN
METHOD:PUBLISH
X-WR-CALNAME:Carnaval de C&aacute;diz
X-ORIGINAL-URL:https://www.carnavaldecadiz.com
X-WR-CALDESC:Eventos para Carnaval de C&aacute;diz
REFRESH-INTERVAL;VALUE=DURATION:PT1H
X-Robots-Tag:noindex
X-PUBLISHED-TTL:PT1H
BEGIN:VTIMEZONE
TZID:Europe/Madrid
BEGIN:DAYLIGHT
TZOFFSETFROM:+0100
TZOFFSETTO:+0200
TZNAME:CEST
DTSTART:20250330T010000
END:DAYLIGHT
BEGIN:STANDARD
TZOFFSETFROM:+0200
TZOFFSETTO:+0100
TZNAME:CET
DTSTART:20251026T010000
END:STANDARD
BEGIN:DAYLIGHT
TZOFFSETFROM:+0100
TZOFFSETTO:+0200
TZNAME:CEST
DTSTART:20260329T010000
END:DAYLIGHT
BEGIN:STANDARD
TZOFFSETFROM:+0200
TZOFFSETTO:+0100
TZNAME:CET
DTSTART:20261025T010000
END:STANDARD
BEGIN:DAYLIGHT
TZOFFSETFROM:+0100
TZOFFSETTO:+0200
TZNAME:CEST
DTSTART:20270328T010000
END:DAYLIGHT
BEGIN:STANDARD
TZOFFSETFROM:+0200
TZOFFSETTO:+0100
TZNAME:CET
DTSTART:20271031T010000
END:STANDARD
END:VTIMEZONE
BEGIN:VEVENT
DTSTART;TZID=Europe/Madrid:20260612T210000
DTEND;TZID=Europe/Madrid:20260612T233000
DTSTAMP:20260424T115225
CREATED:20260422T113448Z
LAST-MODIFIED:20260422T113448Z
UID:30171-1781298000-1781307000@www.carnavaldecadiz.com
SUMMARY:IV Concurso Coplas a Nudillos
DESCRIPTION:IV CONCURSO “COPLAS A NUDILLO” ACCB \nVuelve el concurso de nudillos que tanto éxito está teniendo estos años. El viernes 12 de junio a partir de las 21:00 en la explanada de la plaza de toros “La Montera” en colaboración con Restaurante Peña Toro Embolado Los Barrios Cocina David Chicon y con el Ayuntamiento de Los Barrios\, podremos disfrutar de este concurso en el que pondrá la guinda el segundo premio de chirigotas en el COAC 2026\, la chirigota “Los Amish del mono\, nos fuimos a por piononos La decepción” para hacer disfrutar a todos los presentes. \n¿Estás pensando en participar? \nEn esta publicación te dejamos las bases y la inscripción para el concurso. \nLugar: Explanada plaza de toros Los Barrios\nFecha: 12 de junio de 2026\nHora: 21:00 \nPREMIOS:\n1º- 800€\n2º- 400€\n3º- 200€ \nFIANZA- 50€ \nMáximo 10 Grupos. \nBases e Inscripción: \nhttps://drive.google.com/drive/folders/1IJhRakcOeIJKFlJp0ZyM6sbfAPEc4fEn?usp=sharing \nPara mas información E-mail: accblosbarrios@gmail.com
URL:https://www.carnavaldecadiz.com/event/iv-concurso-coplas-a-nudillos/
LOCATION:Plaza de Toros ‘La Montera’\, Los Barrios\, calle Recinto Ferial s/n\, Los Barrios\, Cádiz\, 11370\, Spain
CATEGORIES:actuaciones de carnaval,concurso de carnaval
ATTACH;FMTTYPE=image/jpeg:https://www.carnavaldecadiz.com/wp-content/uploads/2026/04/0612Los-Barrios-jpg.jpg
END:VEVENT
END:VCALENDAR