BEGIN:VCALENDAR
VERSION:2.0
PRODID:-//Carnaval de C&aacute;diz - ECPv6.15.20//NONSGML v1.0//EN
CALSCALE:GREGORIAN
METHOD:PUBLISH
X-WR-CALNAME:Carnaval de C&aacute;diz
X-ORIGINAL-URL:https://www.carnavaldecadiz.com
X-WR-CALDESC:Eventos para Carnaval de C&aacute;diz
REFRESH-INTERVAL;VALUE=DURATION:PT1H
X-Robots-Tag:noindex
X-PUBLISHED-TTL:PT1H
BEGIN:VTIMEZONE
TZID:Europe/Madrid
BEGIN:DAYLIGHT
TZOFFSETFROM:+0100
TZOFFSETTO:+0200
TZNAME:CEST
DTSTART:20250330T010000
END:DAYLIGHT
BEGIN:STANDARD
TZOFFSETFROM:+0200
TZOFFSETTO:+0100
TZNAME:CET
DTSTART:20251026T010000
END:STANDARD
BEGIN:DAYLIGHT
TZOFFSETFROM:+0100
TZOFFSETTO:+0200
TZNAME:CEST
DTSTART:20260329T010000
END:DAYLIGHT
BEGIN:STANDARD
TZOFFSETFROM:+0200
TZOFFSETTO:+0100
TZNAME:CET
DTSTART:20261025T010000
END:STANDARD
BEGIN:DAYLIGHT
TZOFFSETFROM:+0100
TZOFFSETTO:+0200
TZNAME:CEST
DTSTART:20270328T010000
END:DAYLIGHT
BEGIN:STANDARD
TZOFFSETFROM:+0200
TZOFFSETTO:+0100
TZNAME:CET
DTSTART:20271031T010000
END:STANDARD
END:VTIMEZONE
BEGIN:VEVENT
DTSTART;VALUE=DATE:20260131
DTEND;VALUE=DATE:20260202
DTSTAMP:20260423T141058
CREATED:20260114T125851Z
LAST-MODIFIED:20260114T125851Z
UID:27259-1769817600-1769990399@www.carnavaldecadiz.com
SUMMARY:Taller de Creación de Chirigota
DESCRIPTION:TALLER PARA LA CREACIÓN COLECTIVA Y PUESTA EN ESCENA DE UNA CHIRIGOTA \nLa Fundación Cultural de Cercedilla te brinda la posibilidad de aprender a componer y representar una chirigota de la mano de la gaditana Susana Ginesta\, compositora de las Cadiwoman \nSábado 31 de enero y domingo 1 de febrero de 10h00 a 14h00 en el local de la Fundación Cultural de Cercedilla (Plaza de la Biblioteca) \nTaller gratuito para público adulto.\nNo se necesita ninguna experiencia previa.\nPlazas limitadas. \nInscripciones a través del correo fundacionculturalcercedilla@gmail.com\nDinos tu nombre\, tu teléfono y por qué te interesa apuntarte. \n¡Te esperamos!
URL:https://www.carnavaldecadiz.com/event/taller-de-creacion-de-chirigota/
LOCATION:Fundación Cultural Cercedilla\, calle de la Biblioteca\, Cercedilla\, Madrid\, 28470\, Spain
CATEGORIES:carnaval callejero,carnaval feminista,Mucho más que carnaval
END:VEVENT
BEGIN:VEVENT
DTSTART;VALUE=DATE:20260214
DTEND;VALUE=DATE:20260215
DTSTAMP:20260423T141058
CREATED:20260212T222422Z
LAST-MODIFIED:20260212T222422Z
UID:28288-1771027200-1771113599@www.carnavaldecadiz.com
SUMMARY:Carnaval de Chiclana 2026
DESCRIPTION:PROGRAMA OFICIAL del Carnaval de Chiclana.\n12:00 h a 14\,30 h \n“MUESTRA DE TANGUILLOS” de Carnaval.\nLugar: Carpa Anfiteatro de la Alameda del Río. \n16:00 h a 19\,15 h \n“MUESTRA DE TANGUILLOS” de Carnaval.\nLugar: Carpa Anfiteatro de la Alameda del Río. \n19:30 h \n“XVI ENCUENTRO DE BAILES DE CARNAVAL”.\nLugar: Carpa en Anfiteatro de la Alameda del Río. \n19:30 h\nACTUACIONES CARNAVALESCAS\nLugar: Carpa Anfiteatro de la Alameda del Río. \n Cuarteto Infantil de Chiclana “TE LO CUENTO DEL REVÉS”\nLetra: Jesús Valdés\nMúsica: Ninfa Santamaría Tejada \nCoro Infantil de Chiclana“LA PERLA DE CÁDIZ”\nLetra y Música: Juan Antonio Gutiérrez Rodríguez y Luís Ramón Gutiérrez Rodríguez\nDirección : Jorge Gutiérrez Orihuela. \n22:30 h\n“FIESTA DE CARNAVAL EN LA CARPA”\nLugar: Carpa en Anfiteatro de la Alameda del Río.\nDJ Romey \nDEGUSTACIONES\n13:00 h \n“ MENUDÁ POPULAR”.\nLugar: Ctra. Medina\, 68. Organiza: AVV. Rafael Alberti. \nTODOS LOS EVENTOS SON PÚBLICOS DE LIBRE ACCESO
URL:https://www.carnavaldecadiz.com/event/carnaval-de-chiclana-2026/
LOCATION:Alameda del Río\, Chiclana\, Alameda del Río\, Chiclana de la Frontera\, Cádiz\, 11130\, España
CATEGORIES:actuaciones de carnaval,carnaval callejero
ATTACH;FMTTYPE=image/jpeg:https://www.carnavaldecadiz.com/wp-content/uploads/2026/02/Cartel-2026500.jpg
END:VEVENT
BEGIN:VEVENT
DTSTART;TZID=Europe/Madrid:20260214T130000
DTEND;TZID=Europe/Madrid:20260214T170000
DTSTAMP:20260423T141058
CREATED:20260109T175813Z
LAST-MODIFIED:20260109T175813Z
UID:27126-1771074000-1771088400@www.carnavaldecadiz.com
SUMMARY:III Certamen de Romanceros 'La vuelta al cartelón'
DESCRIPTION:A la espera de la información de los romanceros participantes y orden de actuación. \nEvento público de libre acceso.
URL:https://www.carnavaldecadiz.com/event/iii-certamen-de-romanceros-la-vuelta-al-cartelon/
LOCATION:AVV Murallas de San Carlos ‘La negrita’\, Cádiz\, calle San German 2\, Cádiz\, Cádiz\, 11004\, Spain
CATEGORIES:actuaciones de carnaval,carnaval callejero
ATTACH;FMTTYPE=image/jpeg:https://www.carnavaldecadiz.com/wp-content/uploads/2025/02/Murallas_de_San_Carlos.jpg
END:VEVENT
BEGIN:VEVENT
DTSTART;VALUE=DATE:20260215
DTEND;VALUE=DATE:20260216
DTSTAMP:20260423T141058
CREATED:20260212T223409Z
LAST-MODIFIED:20260212T223409Z
UID:28290-1771113600-1771199999@www.carnavaldecadiz.com
SUMMARY:Carnaval de Chiclana 2026
DESCRIPTION:PROGRAMA OFICIAL del Carnaval de Chiclana.\n13:00 h\n“IMPOSICIÓN DE INSIGNIA DEL CARNAVAL”\na D. José Manuel Parra Sánchez.\n“PREGÓN DE CARNAVAL”\na cargo de D. Julio Aragón Leira \nACTUACIONES CARANVALESCAS\nLugar: Carpa Anfiteatro de la Alameda del Río. \nComparsa Infantil de Chiclana “LAS TRAVIESAS”\nLetra y música: Guillermo José del Valle Bueno\, Rafael León Tocino y Hugo Alberto León Tocino.\nDirección: Claudia Vega Vinelli. \nComparsa Infantil de Chiclana “LAS TRAVIESAS”\nLetra y Música: Guillermo del Valle.\nDirección: Guillermo del Valle\, Hugo y Rafa León. \nChirigota Callejera “LOS AMOS DEL MUNDO” \nComparsa Infantil de Barbate “LAS MARMOTAS”\nLetra: Pedro Varo Benítez y Antonio Reyes Alba\nMúsica: Alejandro Dávila Pacheco y Antonio Reyes Alba\nDirección: Alberto Cifuentes Pérez \nChirigota de Chiclana ”LOS QUE LA TIENEN DE MÁRMOL”\nLetra: Jesús Manuel Selma Martín-Murga “El Melli”\nMúsica: José Antonio García Molina y Jesús Manuel Selma Martín-Murga “El Melli”\nDirección: Antonia Molina Morales. \nDEGUSTACIONES\nA partir de las 13:00 h – En la Alameda del Río \n“ LANGOSTINÁ POPULAR”\nOrganiza: Peña Carnavalesca “Hombres del Campo” \n“PAPAS ALIÑÁS”\nOrganiza: Hermandad Humildad y Paciencia \n“ CHICHARRONÁ”\nOrganiza: Asoc. Cultural Carnavalesca “El Tatachín de la Frontera” \n”MAGRETÁ”\nOrganiza: Hermandad del Huerto. \n“PIMIENTOS ASADOS”\nOrganiza: Hermandad del Nazareno \nTODOS LOS EVENTOS SON PÚBLICOS DE LIBRE ACCESO
URL:https://www.carnavaldecadiz.com/event/carnaval-de-chiclana-2026-2/
LOCATION:Alameda del Río\, Chiclana\, Alameda del Río\, Chiclana de la Frontera\, Cádiz\, 11130\, España
CATEGORIES:actuaciones de carnaval,carnaval callejero
ATTACH;FMTTYPE=image/jpeg:https://www.carnavaldecadiz.com/wp-content/uploads/2026/02/Cartel-2026500.jpg
END:VEVENT
BEGIN:VEVENT
DTSTART;VALUE=DATE:20260220
DTEND;VALUE=DATE:20260221
DTSTAMP:20260423T141058
CREATED:20260212T224006Z
LAST-MODIFIED:20260212T224006Z
UID:28292-1771545600-1771631999@www.carnavaldecadiz.com
SUMMARY:Carnaval de Chiclana 2026
DESCRIPTION:PROGRAMA OFICIAL del Carnaval de Chiclana.\n16:30 h\n“ XXVIII PASACALLES INFANTIL”\nSalida desde el Campo Municipal y finaliza en al Anfiteatro de la Alameda del Río. \n19:00 h\n“PASACALLES DE AGRUPACIONES CALLEJERAS”\nPor las calles del centro \n20:30h\n“GRAN CARRUSEL DE COROS” \nCoro de Luis Rivero\, Cádiz ‘ADN’\nCoro de Julio Pardo\, Cádiz ‘EL SINDICATO’\nCoro de Antonio Bayon\, Cádiz ‘LAS MIL MARAVILLAS’\nCoro de Jesús Rivera y Álvaro García\, Chiclana ‘LA CIUDAD PERFECTA’\nCoro Infantil de Chiclana de los hermanos Gutiérrez ‘LA PERLA DE CÁDIZ’ \nPuntos de encuentro:\nc/La Vega\, c/Padre Caro\, c/La Plaza\, c/Madrazao y Plazas Jesús Nazareno y Constitución \n22:00 h\n“FIESTA DE CARNAVAL EN LA CARPA”\nGrupo “AFTER FIVE”\nDJ Álvaro Narváez \nTODOS LOS EVENTOS SON PÚBLICOS DE LIBRE ACCESO
URL:https://www.carnavaldecadiz.com/event/carnaval-de-chiclana-2026-3/
LOCATION:Alameda del Río\, Chiclana\, Alameda del Río\, Chiclana de la Frontera\, Cádiz\, 11130\, España
CATEGORIES:actuaciones de carnaval,carnaval callejero
ATTACH;FMTTYPE=image/jpeg:https://www.carnavaldecadiz.com/wp-content/uploads/2026/02/Cartel-2026500.jpg
END:VEVENT
BEGIN:VEVENT
DTSTART;VALUE=DATE:20260221
DTEND;VALUE=DATE:20260222
DTSTAMP:20260423T141058
CREATED:20260212T224406Z
LAST-MODIFIED:20260212T224406Z
UID:28295-1771632000-1771718399@www.carnavaldecadiz.com
SUMMARY:Carnaval de Chiclana 2026
DESCRIPTION:PROGRAMA OFICIAL del Carnaval de Chiclana.\n14:00 h\nACTUACIÓN CARNAVALESCA\nLugar: Carpa Anfiteatro de la Alameda del Río \nChirigota Infantil de Chiclana “LAS PELOTERAS”\nLetra y música: Francisco Javier Rodríguez Cosme\nDirección: Julio Higinio Aragón Leira \n17:00 h\n“GRAN CABALGATA DEL HUMOR”\nSalida desde la Avenida Juan Carlos I \n20:00 h\n ENTREGA DE RECONOCIMIENTOS DE CABALGATA DEL HUMOR\nLugar: Carpa Anfiteatro de la Alameda del Río \n21:30 h\nACTUACIÓN CARNAVALESCA\nLugar: Carpa Anfiteatro de la Alameda del Río.\nComparsa de Jesús Bienvenido “DSAS3” \n22:00 h\n“FIESTA DE CARNAVAL EN LA CARPA”\nLugar: Carpa Anfiteatro de la Alameda del Río.\nDJ Fran Rodríguez \nTODOS LOS EVENTOS SON PÚBLICOS DE LIBRE ACCESO
URL:https://www.carnavaldecadiz.com/event/carnaval-de-chiclana-2026-4/
LOCATION:Alameda del Río\, Chiclana\, Alameda del Río\, Chiclana de la Frontera\, Cádiz\, 11130\, España
CATEGORIES:actuaciones de carnaval,carnaval callejero
ATTACH;FMTTYPE=image/jpeg:https://www.carnavaldecadiz.com/wp-content/uploads/2026/02/Cartel-2026500.jpg
END:VEVENT
BEGIN:VEVENT
DTSTART;VALUE=DATE:20260222
DTEND;VALUE=DATE:20260223
DTSTAMP:20260423T141058
CREATED:20260212T225102Z
LAST-MODIFIED:20260212T225102Z
UID:28297-1771718400-1771804799@www.carnavaldecadiz.com
SUMMARY:Carnaval de Chiclana 2026
DESCRIPTION:PROGRAMA OFICIAL del Carnaval de Chiclana.\n14:00 h\nACTUACIONES CARNAVALESCAS\nLugar: Carpa Anfiteatro de la Alameda del Río. \nComparsa de Chiclana: “LA CONDENÁ”\nLetra: Patricia Andrés Olozábal;\nMúsica: Tomás García Delgado;\nDirección: Antonio José de la Llave Alias. \nComparsa de Manuel Lorenzo Cornejo Puente\, de Cádiz “ LOS INVISIBLES”\nLetra\, música y dirección: Manuel Lorenzo Cornejo Puente \nChirigota de ‘El Sheriff’\, de Cádiz “LOS SEMICURAOS”\nLetra y música: Juan Manuel Braza Benitez ‘Sheriff’\nDirección: José Sibón Pereira \nChirigota de ‘Los Molina’\, de Chiclana “LOS COMPAY”\nLetra: Gonzalo Madrid Garrote\, y Francisco Javier Macías Tinoco\nMúsica: Manuel Benítez Molina\nDirección: Francisco Daniel Benítez Molina \n18:00 h\nENCUENTRO CARNAVALESCO\nde agrupaciones callejeras de la localidad por las calles del centro. \n19:00 h\nCierre del Carnaval con la QUEMA DE LA “BRUJA PITI”.\nLugar: Alameda del Río (junto a la carpa). \nDEGUSTACIONES\nA partir de las 13:00 h \n“ TORTILLÁ DE CAMARONES”\nLugar: Calle Santa Maria de la Cabeza.\nOrganiza: A.VV. Virgen de el Carmen del Trovador. \n“El PSOE te da alas”\nLugar: c/ Carmen Picazo\nOrganiza: PSOE. \n“CHORIZÁ POPULAR”\nLugar: c/ Ancha\, 22\nOrganiza: Peña Madridista Chiclanera. \n“LONGANIZA”\nLugar: c/ Paciano del Barco\,2\nOrganiza: Peña Carnavalesca Perico Alcántara. \n“ GRAN JAMONÁ”\nLugar: Anfiteatro de la Alameda del Río\nOrganiza: Hermandad de Afligidos. \n“MONTADITOS DE PRINGÁ”\nLugar: Anfiteatro de la Alameda del Río\nOrganiza: Peña Amigos de El Billar. \n“ CHISTORRÁ”\nLugar: Anfiteatro de la Alameda del Río\nOrganiza: Cofradía Jesús Cautivo (Medinaceli). \n“GARBANZOS CON CHOCO”.\nLugar: Anfiteatro de la Alameda del Río.\nOrganiza: Hermandad de La Borriquita. \nTODOS LOS EVENTOS SON PÚBLICOS DE LIBRE ACCESO
URL:https://www.carnavaldecadiz.com/event/carnaval-de-chiclana-2026-5/
LOCATION:Alameda del Río\, Chiclana\, Alameda del Río\, Chiclana de la Frontera\, Cádiz\, 11130\, España
CATEGORIES:actuaciones de carnaval,carnaval callejero
ATTACH;FMTTYPE=image/jpeg:https://www.carnavaldecadiz.com/wp-content/uploads/2026/02/Cartel-2026500.jpg
END:VEVENT
END:VCALENDAR