BEGIN:VCALENDAR
VERSION:2.0
PRODID:-//Carnaval de C&aacute;diz - ECPv6.15.20//NONSGML v1.0//EN
CALSCALE:GREGORIAN
METHOD:PUBLISH
X-WR-CALNAME:Carnaval de C&aacute;diz
X-ORIGINAL-URL:https://www.carnavaldecadiz.com
X-WR-CALDESC:Eventos para Carnaval de C&aacute;diz
REFRESH-INTERVAL;VALUE=DURATION:PT1H
X-Robots-Tag:noindex
X-PUBLISHED-TTL:PT1H
BEGIN:VTIMEZONE
TZID:Europe/Madrid
BEGIN:DAYLIGHT
TZOFFSETFROM:+0100
TZOFFSETTO:+0200
TZNAME:CEST
DTSTART:20240331T010000
END:DAYLIGHT
BEGIN:STANDARD
TZOFFSETFROM:+0200
TZOFFSETTO:+0100
TZNAME:CET
DTSTART:20241027T010000
END:STANDARD
BEGIN:DAYLIGHT
TZOFFSETFROM:+0100
TZOFFSETTO:+0200
TZNAME:CEST
DTSTART:20250330T010000
END:DAYLIGHT
BEGIN:STANDARD
TZOFFSETFROM:+0200
TZOFFSETTO:+0100
TZNAME:CET
DTSTART:20251026T010000
END:STANDARD
BEGIN:DAYLIGHT
TZOFFSETFROM:+0100
TZOFFSETTO:+0200
TZNAME:CEST
DTSTART:20260329T010000
END:DAYLIGHT
BEGIN:STANDARD
TZOFFSETFROM:+0200
TZOFFSETTO:+0100
TZNAME:CET
DTSTART:20261025T010000
END:STANDARD
END:VTIMEZONE
BEGIN:VEVENT
DTSTART;TZID=Europe/Madrid:20250608T120000
DTEND;TZID=Europe/Madrid:20250608T170000
DTSTAMP:20260424T024125
CREATED:20250601T113047Z
LAST-MODIFIED:20250601T113047Z
UID:21178-1749384000-1749402000@www.carnavaldecadiz.com
SUMMARY:Charla-Coloquio. Proceso creativo de las callejeras.
DESCRIPTION:La chirigota callejera del Perchero es una de las que cuenta con mayor número de seguidores\, en esta ocasión es todo un lujo poder contar con su experiencia para aprender ha hacer una chirigota callejera. \nActuaciones: \n\nLa chirigota del perchero\nLa chirigota de Osuna\nLa chirigota infantil de Osuna\n\nServicio de barra a precios populares. \nNo socios – Donativo 3€
URL:https://www.carnavaldecadiz.com/event/charla-coloquio-proceso-creativo-de-las-callejeras/
LOCATION:Cantera Luisa 2\, Osuna\, calle Cantera Luisa 2\, Osuna\, Sevilla\, 41640\, Spain
CATEGORIES:actuaciones de carnaval,carnaval callejero,conferencia de carnaval
END:VEVENT
BEGIN:VEVENT
DTSTART;TZID=Europe/Madrid:20250613T200000
DTEND;TZID=Europe/Madrid:20250613T223000
DTSTAMP:20260424T024125
CREATED:20250603T114426Z
LAST-MODIFIED:20250603T114459Z
UID:21256-1749844800-1749853800@www.carnavaldecadiz.com
SUMMARY:Carnaval Callejero en Cuatro Gatos
DESCRIPTION:Noche que cuenta con una buena selección de agrupaciones de carnaval sevillano. \n\nCallejera femenina – LAS DESVELAS\nLa chirigota del Flore – EL GRAN DICTADOR\nRomancero de Er Martínez – AQUÍ DONDE ME VEIS POR UNA CHISPA NO SOY REY\nRomancero de Ozrcai – ME METÍ EN EL CENTRO RETO Y YA CASI NI ME METO\n\nEvento público de libre acceso \n 
URL:https://www.carnavaldecadiz.com/event/carnaval-callejero-en-cuatro-gatos-2/
LOCATION:Cuatro Gatos\, Sevilla\, calle Madre Dolores Marquez 11\, Sevilla\, Sevilla\, 41003\, España
CATEGORIES:actuaciones de carnaval,carnaval callejero
END:VEVENT
BEGIN:VEVENT
DTSTART;TZID=Europe/Madrid:20250620T213000
DTEND;TZID=Europe/Madrid:20250620T223000
DTSTAMP:20260424T024125
CREATED:20250609T131533Z
LAST-MODIFIED:20250609T131533Z
UID:21393-1750455000-1750458600@www.carnavaldecadiz.com
SUMMARY:Viernes de Ilegales en el Palenque
DESCRIPTION:
URL:https://www.carnavaldecadiz.com/event/viernes-de-ilegales-en-el-palenque/
LOCATION:El Palenque\, Chiclana\, calle de la Fuente 21\, Chiclana de la Frontera\, Cádiz\, 11130\, España
CATEGORIES:actuaciones de carnaval,carnaval callejero
END:VEVENT
BEGIN:VEVENT
DTSTART;TZID=Europe/Madrid:20250628T193000
DTEND;TZID=Europe/Madrid:20250628T223000
DTSTAMP:20260424T024125
CREATED:20250601T211449Z
LAST-MODIFIED:20250601T211449Z
UID:21211-1751139000-1751149800@www.carnavaldecadiz.com
SUMMARY:Carnaval Callejero en Cuatro Gatos
DESCRIPTION:Cuatro de las mejores chirigotas callejeras que se han podido el pasado carnaval en Cádiz: \n\nLa comparsa de Ennio – Ficha\nDesomeokupoyo – Ficha\nLos Brothers – Ficha\nLos cobijaos – Ficha\n\nCompra de LOCALIDADES
URL:https://www.carnavaldecadiz.com/event/carnaval-callejero-en-cuatro-gatos/
LOCATION:Cuatro Gatos\, Sevilla\, calle Madre Dolores Marquez 11\, Sevilla\, Sevilla\, 41003\, España
CATEGORIES:actuaciones de carnaval,carnaval callejero
END:VEVENT
END:VCALENDAR