BEGIN:VCALENDAR
VERSION:2.0
PRODID:-//Carnaval de C&aacute;diz - ECPv6.15.20//NONSGML v1.0//EN
CALSCALE:GREGORIAN
METHOD:PUBLISH
X-ORIGINAL-URL:https://www.carnavaldecadiz.com
X-WR-CALDESC:Eventos para Carnaval de C&aacute;diz
REFRESH-INTERVAL;VALUE=DURATION:PT1H
X-Robots-Tag:noindex
X-PUBLISHED-TTL:PT1H
BEGIN:VTIMEZONE
TZID:Europe/Madrid
BEGIN:DAYLIGHT
TZOFFSETFROM:+0100
TZOFFSETTO:+0200
TZNAME:CEST
DTSTART:20250330T010000
END:DAYLIGHT
BEGIN:STANDARD
TZOFFSETFROM:+0200
TZOFFSETTO:+0100
TZNAME:CET
DTSTART:20251026T010000
END:STANDARD
BEGIN:DAYLIGHT
TZOFFSETFROM:+0100
TZOFFSETTO:+0200
TZNAME:CEST
DTSTART:20260329T010000
END:DAYLIGHT
BEGIN:STANDARD
TZOFFSETFROM:+0200
TZOFFSETTO:+0100
TZNAME:CET
DTSTART:20261025T010000
END:STANDARD
BEGIN:DAYLIGHT
TZOFFSETFROM:+0100
TZOFFSETTO:+0200
TZNAME:CEST
DTSTART:20270328T010000
END:DAYLIGHT
BEGIN:STANDARD
TZOFFSETFROM:+0200
TZOFFSETTO:+0100
TZNAME:CET
DTSTART:20271031T010000
END:STANDARD
END:VTIMEZONE
BEGIN:VEVENT
DTSTART;TZID=Europe/Madrid:20260419T110000
DTEND;TZID=Europe/Madrid:20260419T140000
DTSTAMP:20260419T181322
CREATED:20260415T195950Z
LAST-MODIFIED:20260415T195950Z
UID:29905-1776596400-1776607200@www.carnavaldecadiz.com
SUMMARY:Gala 'LO MEJORCITO DE LO MEJORCITO'
DESCRIPTION:Gala de entrega de premios donde se re conoce el trabajo delos grupos de la cantera. \nMás información
URL:https://www.carnavaldecadiz.com/event/gala-lo-mejorcito-de-lo-mejorcito-2/
LOCATION:Gran Teatro Falla\, Plaza Fragela s/n\, Cádiz\, Cádiz\, 11003\, España
CATEGORIES:actuaciones de carnaval
ATTACH;FMTTYPE=image/jpeg:https://www.carnavaldecadiz.com/wp-content/uploads/2026/04/0419Falla.jpg
END:VEVENT
BEGIN:VEVENT
DTSTART;TZID=Europe/Madrid:20260419T123000
DTEND;TZID=Europe/Madrid:20260419T140000
DTSTAMP:20260419T181322
CREATED:20260415T202110Z
LAST-MODIFIED:20260415T202110Z
UID:29911-1776601800-1776607200@www.carnavaldecadiz.com
SUMMARY:Chirigota 'Ssshhhh!!' en Villanueva de la Serena
DESCRIPTION:Compra en línea de LOCALIDADES
URL:https://www.carnavaldecadiz.com/event/chirigota-ssshhhh-en-villanueva-de-la-serena/
LOCATION:Palacio de Congresos\, Villanueva de la Serena\, Avenida Adolfo Suarez s/n\, Villanueva de la Serena\, Badajoz\, 06700\, Spain
CATEGORIES:actuaciones de carnaval
ATTACH;FMTTYPE=image/jpeg:https://www.carnavaldecadiz.com/wp-content/uploads/2026/04/0419Villanueva-jpg.jpg
END:VEVENT
BEGIN:VEVENT
DTSTART;TZID=Europe/Madrid:20260419T180000
DTEND;TZID=Europe/Madrid:20260419T193000
DTSTAMP:20260419T181322
CREATED:20260415T195337Z
LAST-MODIFIED:20260415T195337Z
UID:29902-1776621600-1776627000@www.carnavaldecadiz.com
SUMMARY:Comparsa 'LOS HUMANOS' en Ayamonte
DESCRIPTION:Compra en línea de LOCALIDADES
URL:https://www.carnavaldecadiz.com/event/comparsa-los-humanos-en-ayamonte/
LOCATION:Teatro Cardenio\, Ayamonte\, calle Enrique Villegas Vélez s/n\, Ayamonte\, Huelva\, 21400\, España
CATEGORIES:actuaciones de carnaval
ATTACH;FMTTYPE=image/jpeg:https://www.carnavaldecadiz.com/wp-content/uploads/2026/04/0419Ayamonte.jpg
END:VEVENT
BEGIN:VEVENT
DTSTART;TZID=Europe/Madrid:20260419T180000
DTEND;TZID=Europe/Madrid:20260419T200000
DTSTAMP:20260419T181322
CREATED:20260415T201025Z
LAST-MODIFIED:20260415T201025Z
UID:29908-1776621600-1776628800@www.carnavaldecadiz.com
SUMMARY:'UNIVERSO CADI' en Granada
DESCRIPTION:Compra en línea de LOCALIDADES
URL:https://www.carnavaldecadiz.com/event/universo-cadi-en-granada/
LOCATION:Palacio de Congresos de Granada\, Pº del Violón\, Zaidin\, Granada\, Granada\, 18006\, España
CATEGORIES:actuaciones de carnaval
ATTACH;FMTTYPE=image/jpeg:https://www.carnavaldecadiz.com/wp-content/uploads/2026/04/0419Granada.jpg
END:VEVENT
END:VCALENDAR