BEGIN:VCALENDAR
VERSION:2.0
PRODID:-//Carnaval de C&aacute;diz - ECPv6.15.20//NONSGML v1.0//EN
CALSCALE:GREGORIAN
METHOD:PUBLISH
X-WR-CALNAME:Carnaval de C&aacute;diz
X-ORIGINAL-URL:https://www.carnavaldecadiz.com
X-WR-CALDESC:Eventos para Carnaval de C&aacute;diz
REFRESH-INTERVAL;VALUE=DURATION:PT1H
X-Robots-Tag:noindex
X-PUBLISHED-TTL:PT1H
BEGIN:VTIMEZONE
TZID:Europe/Madrid
BEGIN:DAYLIGHT
TZOFFSETFROM:+0100
TZOFFSETTO:+0200
TZNAME:CEST
DTSTART:20250330T010000
END:DAYLIGHT
BEGIN:STANDARD
TZOFFSETFROM:+0200
TZOFFSETTO:+0100
TZNAME:CET
DTSTART:20251026T010000
END:STANDARD
BEGIN:DAYLIGHT
TZOFFSETFROM:+0100
TZOFFSETTO:+0200
TZNAME:CEST
DTSTART:20260329T010000
END:DAYLIGHT
BEGIN:STANDARD
TZOFFSETFROM:+0200
TZOFFSETTO:+0100
TZNAME:CET
DTSTART:20261025T010000
END:STANDARD
BEGIN:DAYLIGHT
TZOFFSETFROM:+0100
TZOFFSETTO:+0200
TZNAME:CEST
DTSTART:20270328T010000
END:DAYLIGHT
BEGIN:STANDARD
TZOFFSETFROM:+0200
TZOFFSETTO:+0100
TZNAME:CET
DTSTART:20271031T010000
END:STANDARD
END:VTIMEZONE
BEGIN:VEVENT
DTSTART;TZID=Europe/Madrid:20260417T200000
DTEND;TZID=Europe/Madrid:20260417T213000
DTSTAMP:20260419T194345
CREATED:20260415T212857Z
LAST-MODIFIED:20260415T212857Z
UID:29918-1776456000-1776461400@www.carnavaldecadiz.com
SUMMARY:Antología 'LOS JOYEROS GADITANOS' en Medina
DESCRIPTION:En esta ocasión con la actuación de las coplas de carnaval de la Segunda República… ¡en la espectacular Medina Sidonia! \nEvento público de libre acceso
URL:https://www.carnavaldecadiz.com/event/antologia-los-joyeros-gaditanos-en-medina/
LOCATION:Sala Cultural\, Medina Sidonia\, calle Muro\, Medina Sidonia\, Cádiz\, 11170\, Spain
CATEGORIES:actuaciones de carnaval
ATTACH;FMTTYPE=image/jpeg:https://www.carnavaldecadiz.com/wp-content/uploads/2026/04/0417Medina-jpg.jpg
END:VEVENT
BEGIN:VEVENT
DTSTART;TZID=Europe/Madrid:20260417T203000
DTEND;TZID=Europe/Madrid:20260417T220000
DTSTAMP:20260419T194345
CREATED:20260415T190206Z
LAST-MODIFIED:20260415T190206Z
UID:29876-1776457800-1776463200@www.carnavaldecadiz.com
SUMMARY:Comparsa 'LOS HUMANOS' en Vélez-Málaga
DESCRIPTION:Compra en línea de LOCALIDADES
URL:https://www.carnavaldecadiz.com/event/comparsa-los-humanos-en-velez-malaga/
LOCATION:Teatro Lope de Vega\, calle Gran Vía 57\, Madrid\, Madrid\, 28013\, España
CATEGORIES:actuaciones de carnaval
ATTACH;FMTTYPE=image/jpeg:https://www.carnavaldecadiz.com/wp-content/uploads/2026/04/0417Velez-Malaga.jpg
END:VEVENT
BEGIN:VEVENT
DTSTART;TZID=Europe/Madrid:20260417T220000
DTEND;TZID=Europe/Madrid:20260417T233000
DTSTAMP:20260419T194345
CREATED:20260415T130011Z
LAST-MODIFIED:20260415T130011Z
UID:29864-1776463200-1776468600@www.carnavaldecadiz.com
SUMMARY:Comparsa 'EL MANICOMIO' en Córdoba
DESCRIPTION:Compra en línea de LOCALIDADES
URL:https://www.carnavaldecadiz.com/event/comparsa-el-manicomio-en-cordoba/
LOCATION:Gongora Gran Café\, calle Góngora 10\, Córdoba\, Córdoba\, 14008\, España
CATEGORIES:actuaciones de carnaval
ATTACH;FMTTYPE=image/jpeg:https://www.carnavaldecadiz.com/wp-content/uploads/2026/04/0417Cordoba.jpg
END:VEVENT
END:VCALENDAR