BEGIN:VCALENDAR
VERSION:2.0
PRODID:-//Carnaval de C&aacute;diz - ECPv6.15.20//NONSGML v1.0//EN
CALSCALE:GREGORIAN
METHOD:PUBLISH
X-ORIGINAL-URL:https://www.carnavaldecadiz.com
X-WR-CALDESC:Eventos para Carnaval de C&aacute;diz
REFRESH-INTERVAL;VALUE=DURATION:PT1H
X-Robots-Tag:noindex
X-PUBLISHED-TTL:PT1H
BEGIN:VTIMEZONE
TZID:Europe/Madrid
BEGIN:DAYLIGHT
TZOFFSETFROM:+0100
TZOFFSETTO:+0200
TZNAME:CEST
DTSTART:20250330T010000
END:DAYLIGHT
BEGIN:STANDARD
TZOFFSETFROM:+0200
TZOFFSETTO:+0100
TZNAME:CET
DTSTART:20251026T010000
END:STANDARD
BEGIN:DAYLIGHT
TZOFFSETFROM:+0100
TZOFFSETTO:+0200
TZNAME:CEST
DTSTART:20260329T010000
END:DAYLIGHT
BEGIN:STANDARD
TZOFFSETFROM:+0200
TZOFFSETTO:+0100
TZNAME:CET
DTSTART:20261025T010000
END:STANDARD
BEGIN:DAYLIGHT
TZOFFSETFROM:+0100
TZOFFSETTO:+0200
TZNAME:CEST
DTSTART:20270328T010000
END:DAYLIGHT
BEGIN:STANDARD
TZOFFSETFROM:+0200
TZOFFSETTO:+0100
TZNAME:CET
DTSTART:20271031T010000
END:STANDARD
END:VTIMEZONE
BEGIN:VEVENT
DTSTART;VALUE=DATE:20260411
DTEND;VALUE=DATE:20260413
DTSTAMP:20260419T200023
CREATED:20260408T123713Z
LAST-MODIFIED:20260408T123713Z
UID:29765-1775865600-1776038399@www.carnavaldecadiz.com
SUMMARY:Comparsa 'LOS HUMANOS' en Granada
DESCRIPTION:Dos días de actuaciones en granada\, el 11 y 12 de abril \n11 de abril a las 21:30h\, compra en línea de LOCALIDADES \n12 de abril a las 18:00h\, compra de LOCALIDADES
URL:https://www.carnavaldecadiz.com/event/comparsa-los-humanos-en-granada/
LOCATION:Palacio de Congresos de Granada\, Pº del Violón\, Zaidin\, Granada\, Granada\, 18006\, España
CATEGORIES:actuaciones de carnaval
ATTACH;FMTTYPE=image/jpeg:https://www.carnavaldecadiz.com/wp-content/uploads/2026/04/0411Granada.jpg
END:VEVENT
BEGIN:VEVENT
DTSTART;TZID=Europe/Madrid:20260412T130000
DTEND;TZID=Europe/Madrid:20260412T143000
DTSTAMP:20260419T200023
CREATED:20260402T203327Z
LAST-MODIFIED:20260402T203327Z
UID:29653-1775998800-1776004200@www.carnavaldecadiz.com
SUMMARY:Premio Cajonazo 2026
DESCRIPTION:Organizado por la Peña ‘La Tertulia de Doña Francisquita’
URL:https://www.carnavaldecadiz.com/event/premio-cajonazo-2026/
LOCATION:Peña La Perla\, calle Concepción Arenal s/n\, Cádiz\, Cádiz\, 11006\, España
CATEGORIES:actuaciones de carnaval
ATTACH;FMTTYPE=image/jpeg:https://www.carnavaldecadiz.com/wp-content/uploads/2026/04/0412perlajpg.jpg
END:VEVENT
BEGIN:VEVENT
DTSTART;TZID=Europe/Madrid:20260412T200000
DTEND;TZID=Europe/Madrid:20260412T220000
DTSTAMP:20260419T200023
CREATED:20260402T202649Z
LAST-MODIFIED:20260402T202705Z
UID:29649-1776024000-1776031200@www.carnavaldecadiz.com
SUMMARY:'LOS QUE VAN A COGER PAPAS' en Huelva
DESCRIPTION:Precio de las localidades 18€ – 22€ \nCompra en línea de LOCALIDADES
URL:https://www.carnavaldecadiz.com/event/los-que-van-a-cager-papas-en-huelva/
LOCATION:Gran Teatro de Huelva\, calle Vázquez López 13\, Huelva\, Huelva\, 21001\, Spain
CATEGORIES:actuaciones de carnaval
ATTACH;FMTTYPE=image/jpeg:https://www.carnavaldecadiz.com/wp-content/uploads/2026/04/0412Huelva.jpg
END:VEVENT
END:VCALENDAR