BEGIN:VCALENDAR
VERSION:2.0
PRODID:-//Carnaval de C&aacute;diz - ECPv6.15.20//NONSGML v1.0//EN
CALSCALE:GREGORIAN
METHOD:PUBLISH
X-ORIGINAL-URL:https://www.carnavaldecadiz.com
X-WR-CALDESC:Eventos para Carnaval de C&aacute;diz
REFRESH-INTERVAL;VALUE=DURATION:PT1H
X-Robots-Tag:noindex
X-PUBLISHED-TTL:PT1H
BEGIN:VTIMEZONE
TZID:Europe/Madrid
BEGIN:DAYLIGHT
TZOFFSETFROM:+0100
TZOFFSETTO:+0200
TZNAME:CEST
DTSTART:20250330T010000
END:DAYLIGHT
BEGIN:STANDARD
TZOFFSETFROM:+0200
TZOFFSETTO:+0100
TZNAME:CET
DTSTART:20251026T010000
END:STANDARD
BEGIN:DAYLIGHT
TZOFFSETFROM:+0100
TZOFFSETTO:+0200
TZNAME:CEST
DTSTART:20260329T010000
END:DAYLIGHT
BEGIN:STANDARD
TZOFFSETFROM:+0200
TZOFFSETTO:+0100
TZNAME:CET
DTSTART:20261025T010000
END:STANDARD
BEGIN:DAYLIGHT
TZOFFSETFROM:+0100
TZOFFSETTO:+0200
TZNAME:CEST
DTSTART:20270328T010000
END:DAYLIGHT
BEGIN:STANDARD
TZOFFSETFROM:+0200
TZOFFSETTO:+0100
TZNAME:CET
DTSTART:20271031T010000
END:STANDARD
END:VTIMEZONE
BEGIN:VEVENT
DTSTART;TZID=Europe/Madrid:20260410T180000
DTEND;TZID=Europe/Madrid:20260410T233000
DTSTAMP:20260419T194838
CREATED:20260317T122455Z
LAST-MODIFIED:20260317T122455Z
UID:29287-1775844000-1775863800@www.carnavaldecadiz.com
SUMMARY:Alcalá suena a carnaval
DESCRIPTION:Durante el transcurso de la gala se hará entrega de los II Premios Pluma de Oro del Carnaval a Antonio Álvarez Cordero ‘Bizc8’ y a Pablo de la Prida Miranda. \nActuaciones: \n\nComparsa – EL PATRIOTA\nChirigota – Ssshhhhh!!\nCoro – ADN\nComparsa – SOCIEDAD LIMITADA\nComparsa juvenil – A TODA MÁQUINA\nComparsa juvenil – EL BARRIO DEL ARTE\nCuarteto infantil – COLEGIO PRIVADO\, MIXTO Y DEL BARRIO DE ARRIBA\nMás grupos por confirmar\n\nEvento público de libre acceso.
URL:https://www.carnavaldecadiz.com/event/alcala-suena-a-carnaval/
LOCATION:Auditorio Riberas del Guadaira\, calle Roberto Leal s/n\, Alcalá de Guadaira\, Sevilla\, 41500\, España
CATEGORIES:actuaciones de carnaval
END:VEVENT
BEGIN:VEVENT
DTSTART;TZID=Europe/Madrid:20260410T200000
DTEND;TZID=Europe/Madrid:20260410T220000
DTSTAMP:20260419T194838
CREATED:20260331T170322Z
LAST-MODIFIED:20260402T183531Z
UID:29544-1775851200-1775858400@www.carnavaldecadiz.com
SUMMARY:La chirigota 'LOS QUE VAN A COGER PAPAS' en Cádiz
DESCRIPTION:Compra en línea de LOCALIDADES
URL:https://www.carnavaldecadiz.com/event/la-chirigota-los-que-van-a-coger-papas-en-cadiz/
LOCATION:Auditorio Esclavas\, Cádiz\, Avenida Andalucía\, 50\, Cádiz\, Cádiz\, Spain
CATEGORIES:actuaciones de carnaval
ATTACH;FMTTYPE=image/jpeg:https://www.carnavaldecadiz.com/wp-content/uploads/2026/03/0410Cadiz.jpg
END:VEVENT
BEGIN:VEVENT
DTSTART;TZID=Europe/Madrid:20260410T210000
DTEND;TZID=Europe/Madrid:20260410T223000
DTSTAMP:20260419T194839
CREATED:20260408T120012Z
LAST-MODIFIED:20260408T120012Z
UID:29759-1775854800-1775860200@www.carnavaldecadiz.com
SUMMARY:Comparsa 'CAMINITO DE VUELTA' en Hotel Spa Cádiz Plaza
DESCRIPTION:La comparsa juvenil ‘CAMINITO DEVUELTA’ es el primer premio Juvenil del COAC 2026 \nPrecio de la entrada 12€
URL:https://www.carnavaldecadiz.com/event/comparsa-caminito-de-vuelta-en-hotel-spa-cadiz-plaza/
LOCATION:Hotel Spa Cádiz Plaza\, Glorieta Ana Orantes 3\, Cádiz\, Cádiz\, 11010\, Spain
CATEGORIES:actuaciones de carnaval
ATTACH;FMTTYPE=image/jpeg:https://www.carnavaldecadiz.com/wp-content/uploads/2026/04/0410Spa.jpg
END:VEVENT
BEGIN:VEVENT
DTSTART;TZID=Europe/Madrid:20260410T220000
DTEND;TZID=Europe/Madrid:20260410T233000
DTSTAMP:20260419T194839
CREATED:20260408T112639Z
LAST-MODIFIED:20260408T112639Z
UID:29749-1775858400-1775863800@www.carnavaldecadiz.com
SUMMARY:Comparsa 'LOS HUMANOS' en Ronda
DESCRIPTION:Compra en línea de LOCALIDADES
URL:https://www.carnavaldecadiz.com/event/comparsa-los-humanos-en-ronda/
LOCATION:Teatro Vicente Espinel\, Ronda\, Plaza Blas Infante\, Ronda\, Málaga\, 29400\, España
CATEGORIES:actuaciones de carnaval
ATTACH;FMTTYPE=image/jpeg:https://www.carnavaldecadiz.com/wp-content/uploads/2026/04/0410Ronda-jpg.jpg
END:VEVENT
BEGIN:VEVENT
DTSTART;TZID=Europe/Madrid:20260410T230000
DTEND;TZID=Europe/Madrid:20260411T003000
DTSTAMP:20260419T194839
CREATED:20260402T193346Z
LAST-MODIFIED:20260402T193346Z
UID:29630-1775862000-1775867400@www.carnavaldecadiz.com
SUMMARY:'LOS JULANDRONES' en Badajoz
DESCRIPTION:Si os pilla cerca no perderse a estos locos. \nPrecios de las entradas: \n\nCompra anticipada 10€\nEn taquilla 12€
URL:https://www.carnavaldecadiz.com/event/los-julandrones-en-badajoz/
LOCATION:Treze Music Club\, Badajoz\, Treze Music Club\, Badajoz\, Badajoz\, 06005\, España
CATEGORIES:actuaciones de carnaval
ATTACH;FMTTYPE=image/jpeg:https://www.carnavaldecadiz.com/wp-content/uploads/2026/04/0410TreceBadajoz.jpg
END:VEVENT
END:VCALENDAR