BEGIN:VCALENDAR
VERSION:2.0
PRODID:-//Carnaval de C&aacute;diz - ECPv6.15.20//NONSGML v1.0//EN
CALSCALE:GREGORIAN
METHOD:PUBLISH
X-ORIGINAL-URL:https://www.carnavaldecadiz.com
X-WR-CALDESC:Eventos para Carnaval de C&aacute;diz
REFRESH-INTERVAL;VALUE=DURATION:PT1H
X-Robots-Tag:noindex
X-PUBLISHED-TTL:PT1H
BEGIN:VTIMEZONE
TZID:Europe/Madrid
BEGIN:DAYLIGHT
TZOFFSETFROM:+0100
TZOFFSETTO:+0200
TZNAME:CEST
DTSTART:20250330T010000
END:DAYLIGHT
BEGIN:STANDARD
TZOFFSETFROM:+0200
TZOFFSETTO:+0100
TZNAME:CET
DTSTART:20251026T010000
END:STANDARD
BEGIN:DAYLIGHT
TZOFFSETFROM:+0100
TZOFFSETTO:+0200
TZNAME:CEST
DTSTART:20260329T010000
END:DAYLIGHT
BEGIN:STANDARD
TZOFFSETFROM:+0200
TZOFFSETTO:+0100
TZNAME:CET
DTSTART:20261025T010000
END:STANDARD
BEGIN:DAYLIGHT
TZOFFSETFROM:+0100
TZOFFSETTO:+0200
TZNAME:CEST
DTSTART:20270328T010000
END:DAYLIGHT
BEGIN:STANDARD
TZOFFSETFROM:+0200
TZOFFSETTO:+0100
TZNAME:CET
DTSTART:20271031T010000
END:STANDARD
END:VTIMEZONE
BEGIN:VEVENT
DTSTART;TZID=Europe/Madrid:20260329T170000
DTEND;TZID=Europe/Madrid:20260329T190000
DTSTAMP:20260419T212800
CREATED:20260303T202647Z
LAST-MODIFIED:20260303T202647Z
UID:28877-1774803600-1774810800@www.carnavaldecadiz.com
SUMMARY:Chirigota 'LOS MUERTING PLANNER...' en Gran canaria
DESCRIPTION:Compra en línea de LOCALIDADES
URL:https://www.carnavaldecadiz.com/event/chirigota-los-muerting-planner-en-gran-canaria/
LOCATION:Teatro Juan Ramón Jiménez\, Telde\, calle Poeta Pablo Neruda 1\, Telde\, Las Palmas\, 35200\, Spain
CATEGORIES:actuaciones de carnaval
END:VEVENT
END:VCALENDAR