BEGIN:VCALENDAR
VERSION:2.0
PRODID:-//Carnaval de C&aacute;diz - ECPv6.15.20//NONSGML v1.0//EN
CALSCALE:GREGORIAN
METHOD:PUBLISH
X-WR-CALNAME:Carnaval de C&aacute;diz
X-ORIGINAL-URL:https://www.carnavaldecadiz.com
X-WR-CALDESC:Eventos para Carnaval de C&aacute;diz
REFRESH-INTERVAL;VALUE=DURATION:PT1H
X-Robots-Tag:noindex
X-PUBLISHED-TTL:PT1H
BEGIN:VTIMEZONE
TZID:Europe/Madrid
BEGIN:DAYLIGHT
TZOFFSETFROM:+0100
TZOFFSETTO:+0200
TZNAME:CEST
DTSTART:20250330T010000
END:DAYLIGHT
BEGIN:STANDARD
TZOFFSETFROM:+0200
TZOFFSETTO:+0100
TZNAME:CET
DTSTART:20251026T010000
END:STANDARD
BEGIN:DAYLIGHT
TZOFFSETFROM:+0100
TZOFFSETTO:+0200
TZNAME:CEST
DTSTART:20260329T010000
END:DAYLIGHT
BEGIN:STANDARD
TZOFFSETFROM:+0200
TZOFFSETTO:+0100
TZNAME:CET
DTSTART:20261025T010000
END:STANDARD
BEGIN:DAYLIGHT
TZOFFSETFROM:+0100
TZOFFSETTO:+0200
TZNAME:CEST
DTSTART:20270328T010000
END:DAYLIGHT
BEGIN:STANDARD
TZOFFSETFROM:+0200
TZOFFSETTO:+0100
TZNAME:CET
DTSTART:20271031T010000
END:STANDARD
END:VTIMEZONE
BEGIN:VEVENT
DTSTART;TZID=Europe/Madrid:20260328T120000
DTEND;TZID=Europe/Madrid:20260328T150000
DTSTAMP:20260419T212742
CREATED:20260323T201413Z
LAST-MODIFIED:20260323T201413Z
UID:29433-1774699200-1774710000@www.carnavaldecadiz.com
SUMMARY:Comparsa LOS LOCOS en Algeciras
DESCRIPTION:
URL:https://www.carnavaldecadiz.com/event/comparsa-los-locos-en-algeciras/
LOCATION:Amazonas Tropical Club\, Paseo Playa Getares Peatonal\, Algeciras\, Cádiz\, 11207\, España
CATEGORIES:actuaciones de carnaval
END:VEVENT
BEGIN:VEVENT
DTSTART;TZID=Europe/Madrid:20260328T210000
DTEND;TZID=Europe/Madrid:20260328T223000
DTSTAMP:20260419T212742
CREATED:20260323T201804Z
LAST-MODIFIED:20260323T201804Z
UID:29436-1774731600-1774737000@www.carnavaldecadiz.com
SUMMARY:LOS JULANDRONES en Cuatro Gatos
DESCRIPTION:
URL:https://www.carnavaldecadiz.com/event/los-julandrones-en-cuatro-gatos/
LOCATION:Cuatro Gatos\, Sevilla\, calle Madre Dolores Marquez 11\, Sevilla\, Sevilla\, 41003\, España
CATEGORIES:actuaciones de carnaval
END:VEVENT
BEGIN:VEVENT
DTSTART;TZID=Europe/Madrid:20260328T210000
DTEND;TZID=Europe/Madrid:20260328T230000
DTSTAMP:20260419T212742
CREATED:20260322T215449Z
LAST-MODIFIED:20260322T215449Z
UID:29414-1774731600-1774738800@www.carnavaldecadiz.com
SUMMARY:Comparsa LOS HUMANOS en Mérida
DESCRIPTION:No solo disfrutarás de Martínez Ares – “Los Humanos”…\n¡Incluye como REGALO a la comparsa juvenil Las del Patio! – 4ª clasificada en el COAC de Cádiz \nUna noche única con dos comparsas sobre el escenario del Palacio de Congresos de Mérida que promete emociones de las grandes. \nCompra en línea de LOCALIDADES
URL:https://www.carnavaldecadiz.com/event/comparsa-los-humanos-en-merida/
LOCATION:Palacio de Congresos\, Mérida\, Avenida del Río s/n\, Mérida\, Badajoz\, 06800\, España
CATEGORIES:actuaciones de carnaval
END:VEVENT
BEGIN:VEVENT
DTSTART;TZID=Europe/Madrid:20260328T210000
DTEND;TZID=Europe/Madrid:20260328T233000
DTSTAMP:20260419T212742
CREATED:20260323T202214Z
LAST-MODIFIED:20260323T202214Z
UID:29439-1774731600-1774740600@www.carnavaldecadiz.com
SUMMARY:LA ORQUESTA CABALLATI en el Hotel Spa Cádiz Plaza
DESCRIPTION:
URL:https://www.carnavaldecadiz.com/event/la-orquesta-caballati-en-el-hotel-spa-cadiz-plaza/
LOCATION:Hotel Spa Cádiz Plaza\, Glorieta Ana Orantes 3\, Cádiz\, Cádiz\, 11010\, Spain
CATEGORIES:actuaciones de carnaval
END:VEVENT
END:VCALENDAR