BEGIN:VCALENDAR
VERSION:2.0
PRODID:-//Carnaval de C&aacute;diz - ECPv6.15.20//NONSGML v1.0//EN
CALSCALE:GREGORIAN
METHOD:PUBLISH
X-WR-CALNAME:Carnaval de C&aacute;diz
X-ORIGINAL-URL:https://www.carnavaldecadiz.com
X-WR-CALDESC:Eventos para Carnaval de C&aacute;diz
REFRESH-INTERVAL;VALUE=DURATION:PT1H
X-Robots-Tag:noindex
X-PUBLISHED-TTL:PT1H
BEGIN:VTIMEZONE
TZID:Europe/Madrid
BEGIN:DAYLIGHT
TZOFFSETFROM:+0100
TZOFFSETTO:+0200
TZNAME:CEST
DTSTART:20250330T010000
END:DAYLIGHT
BEGIN:STANDARD
TZOFFSETFROM:+0200
TZOFFSETTO:+0100
TZNAME:CET
DTSTART:20251026T010000
END:STANDARD
BEGIN:DAYLIGHT
TZOFFSETFROM:+0100
TZOFFSETTO:+0200
TZNAME:CEST
DTSTART:20260329T010000
END:DAYLIGHT
BEGIN:STANDARD
TZOFFSETFROM:+0200
TZOFFSETTO:+0100
TZNAME:CET
DTSTART:20261025T010000
END:STANDARD
BEGIN:DAYLIGHT
TZOFFSETFROM:+0100
TZOFFSETTO:+0200
TZNAME:CEST
DTSTART:20270328T010000
END:DAYLIGHT
BEGIN:STANDARD
TZOFFSETFROM:+0200
TZOFFSETTO:+0100
TZNAME:CET
DTSTART:20271031T010000
END:STANDARD
END:VTIMEZONE
BEGIN:VEVENT
DTSTART;VALUE=DATE:20260320
DTEND;VALUE=DATE:20260323
DTSTAMP:20260419T212748
CREATED:20260317T140916Z
LAST-MODIFIED:20260317T140916Z
UID:29306-1773964800-1774223999@www.carnavaldecadiz.com
SUMMARY:Carnaval en San Martín del Tesorillo
DESCRIPTION:PROGRAMA\nViernes 20 de marzo \n\n10:30h – Pasacalles de disfraces del CEIP José Luis Sánchez y Guardería Acuarela\n21:15h – Paseillo desde la Casita de Campo\n21:30h – Plaza de la Constitución\n– Saludo del Alcalde\, Jesús Fernández Rey\n– Pregón a cargo de Lucía Mateo Martín\n23:00h – Actuaciones\n– Chirigota del CEIP José Luis Sánchez (S.M. Tesorillo) – LAS CENTENARIAS\n– Chirigota de ‘El Sheriff’ – LOS SEMICURAOS\n00:30h – Actuación del Compás Flamenco y baile en la Carpa amenizada por Dani Cerdán\n\nSábado 21 de marzo \n\n12:00h – Carnaval Infantil\n– Pasacalles infantil\n– Fiesta en la Carpa con detalle para todos los niños y niñas disfrazadas y sorteo de regalos.\n20:30h – Pasacalles de disfraces desde c/Larga\, animado por la charanga de Cádiz\n– Concurso de disfraces con jurado (previa inscripción)\n23:00h – Actuación de ‘En su punto’\n– Baile en la Carpa amenizado pos Dani Cerdán\nA partir de las 00:00h\, entrega de premios del concurso de disfraces.\n\nDomingo 22 de marzo \n\n15:00h – Montaditos gratis\nActuaciones:\n– 16:00h – chirigota LAS CENTENARIAS\n– 17:00h – comparsa LA BIBLIOTECA\n– 18:00h – cuarteto – LOS LATIN KING (DE LA CALLE PASKING)\n– 19:00h – chirigota – SEGUIMOS CAYENDO MAL\n– 20:00h – comparsa – EL DESGUACE\n– 21:00h – chirigota – LOS QUE LA TIENEN DE MÁRMOL\n\nTodos son eventos públicos de libre acceso.
URL:https://www.carnavaldecadiz.com/event/carnaval-en-san-martin-del-tesorillo/
LOCATION:San Martín del Tesorillo\, San Martín del Tesorillo\, Cádiz\, 11340\, Spain
CATEGORIES:actuaciones de carnaval
END:VEVENT
BEGIN:VEVENT
DTSTART;TZID=Europe/Madrid:20260320T230000
DTEND;TZID=Europe/Madrid:20260321T003000
DTSTAMP:20260419T212748
CREATED:20260315T211124Z
LAST-MODIFIED:20260315T211124Z
UID:29176-1774047600-1774053000@www.carnavaldecadiz.com
SUMMARY:Chirigota 'LOS QUE LA TIENEN DE MÁRMOL' en Tatachín de la Frontera
DESCRIPTION:Evento público de libre acceso.
URL:https://www.carnavaldecadiz.com/event/chirigota-los-que-la-tienen-de-marmol-en-tatachin-de-la-frontera/
LOCATION:Peña Tatachin\, calle Cristo Humildad Paciencia 2D\, Chiclana de la Frontera\, Cádiz\, 11130\, España
CATEGORIES:actuaciones de carnaval
END:VEVENT
BEGIN:VEVENT
DTSTART;VALUE=DATE:20260321
DTEND;VALUE=DATE:20260323
DTSTAMP:20260419T212748
CREATED:20260317T133018Z
LAST-MODIFIED:20260317T133018Z
UID:29296-1774051200-1774223999@www.carnavaldecadiz.com
SUMMARY:Concurso de Agrupaciones Ilegales en Venta 'El Rodeo'
DESCRIPTION:A la espera de grupos inscritos y orden de actuación. \nEvento público de libre acceso.
URL:https://www.carnavaldecadiz.com/event/concurso-de-agrupaciones-ilegales-en-venta-el-rodeo/
LOCATION:Venta ‘El Rodeo de la Loli’\, Chiclana\, carril Alcaraz\, 6\, Chiclana de la Frontera\, Cádiz\, 11510\, Spain
CATEGORIES:actuaciones de carnaval
END:VEVENT
BEGIN:VEVENT
DTSTART;TZID=Europe/Madrid:20260321T123000
DTEND;TZID=Europe/Madrid:20260321T140000
DTSTAMP:20260419T212748
CREATED:20260317T192925Z
LAST-MODIFIED:20260317T192925Z
UID:29310-1774096200-1774101600@www.carnavaldecadiz.com
SUMMARY:Comparsa DESAS3 en Madrid
DESCRIPTION:Compra en línea de LOCALIDADES
URL:https://www.carnavaldecadiz.com/event/comparsa-desas3-en-madrid/
LOCATION:Teatro la Latina\, Plaza de la cebada 2\, Madrid\, Madrid\, 28005\, España
CATEGORIES:actuaciones de carnaval
END:VEVENT
BEGIN:VEVENT
DTSTART;TZID=Europe/Madrid:20260321T133000
DTEND;TZID=Europe/Madrid:20260321T170000
DTSTAMP:20260419T212748
CREATED:20260319T161850Z
LAST-MODIFIED:20260319T161850Z
UID:29390-1774099800-1774112400@www.carnavaldecadiz.com
SUMMARY:Carnaval Libertario en Sevilla
DESCRIPTION:Actuarán:\n\nChirigota – LAS PETRI DE LA BAHÍA: CHURRERÍA\nChirigota – LAS DEL NILO\nOrquesta COBA Y ATI\nChirigota – LASDELFINDELMUNDO\nRomancero – OZÉ CAI\nChirigota – LOS CONFLICTIVOS\nChirigota del Pitote\n\nEvento público de libre acceso.Sede CGT\, \n 
URL:https://www.carnavaldecadiz.com/event/carnaval-libertario-en-sevilla/
LOCATION:Sede CGT\, Sevilla\, calle Alfonso XII\, 26\, Sevilla\, Sevilla\, 41002\, Spain
CATEGORIES:actuaciones de carnaval
END:VEVENT
BEGIN:VEVENT
DTSTART;TZID=Europe/Madrid:20260321T170000
DTEND;TZID=Europe/Madrid:20260321T183000
DTSTAMP:20260419T212748
CREATED:20260317T133416Z
LAST-MODIFIED:20260317T133416Z
UID:29300-1774112400-1774117800@www.carnavaldecadiz.com
SUMMARY:Actuación de 'LOS PIRIÑACAS'
DESCRIPTION:Evento público de libre acceso.
URL:https://www.carnavaldecadiz.com/event/actuacion-de-los-pirinacas/
LOCATION:La Laja\,Beach Club\, Chiclana\, Paseo Marítimo La Barrosa 5\, Chiclana de la Frontera\, Cádiz\, 11139\, Spain
CATEGORIES:actuaciones de carnaval
END:VEVENT
BEGIN:VEVENT
DTSTART;TZID=Europe/Madrid:20260321T200000
DTEND;TZID=Europe/Madrid:20260321T213000
DTSTAMP:20260419T212748
CREATED:20260315T213502Z
LAST-MODIFIED:20260315T213502Z
UID:29179-1774123200-1774128600@www.carnavaldecadiz.com
SUMMARY:Chirigota 'LOS AMISH...' en Badajoz
DESCRIPTION:Compra en línea de LOCALIDADES
URL:https://www.carnavaldecadiz.com/event/chirigota-los-amish-en-badajoz/
LOCATION:Palacio de Congresos de Badajoz\, ronda del Pilar s/n\, Badajoz\, Badajoz\, 06002\, España
CATEGORIES:actuaciones de carnaval
END:VEVENT
BEGIN:VEVENT
DTSTART;TZID=Europe/Madrid:20260321T210000
DTEND;TZID=Europe/Madrid:20260321T233000
DTSTAMP:20260419T212748
CREATED:20260315T220331Z
LAST-MODIFIED:20260315T220331Z
UID:29190-1774126800-1774135800@www.carnavaldecadiz.com
SUMMARY:Rafa 'TALEGUILLA' en el Hotel Spa Cádiz Plaza
DESCRIPTION:
URL:https://www.carnavaldecadiz.com/event/rafa-taleguilla-en-el-hotel-spa-cadiz-plaza/
LOCATION:Hotel Spa Cádiz Plaza\, Glorieta Ana Orantes 3\, Cádiz\, Cádiz\, 11010\, Spain
CATEGORIES:actuaciones de carnaval
END:VEVENT
END:VCALENDAR