BEGIN:VCALENDAR
VERSION:2.0
PRODID:-//Carnaval de C&aacute;diz - ECPv6.15.20//NONSGML v1.0//EN
CALSCALE:GREGORIAN
METHOD:PUBLISH
X-WR-CALNAME:Carnaval de C&aacute;diz
X-ORIGINAL-URL:https://www.carnavaldecadiz.com
X-WR-CALDESC:Eventos para Carnaval de C&aacute;diz
REFRESH-INTERVAL;VALUE=DURATION:PT1H
X-Robots-Tag:noindex
X-PUBLISHED-TTL:PT1H
BEGIN:VTIMEZONE
TZID:Europe/Madrid
BEGIN:DAYLIGHT
TZOFFSETFROM:+0100
TZOFFSETTO:+0200
TZNAME:CEST
DTSTART:20250330T010000
END:DAYLIGHT
BEGIN:STANDARD
TZOFFSETFROM:+0200
TZOFFSETTO:+0100
TZNAME:CET
DTSTART:20251026T010000
END:STANDARD
BEGIN:DAYLIGHT
TZOFFSETFROM:+0100
TZOFFSETTO:+0200
TZNAME:CEST
DTSTART:20260329T010000
END:DAYLIGHT
BEGIN:STANDARD
TZOFFSETFROM:+0200
TZOFFSETTO:+0100
TZNAME:CET
DTSTART:20261025T010000
END:STANDARD
BEGIN:DAYLIGHT
TZOFFSETFROM:+0100
TZOFFSETTO:+0200
TZNAME:CEST
DTSTART:20270328T010000
END:DAYLIGHT
BEGIN:STANDARD
TZOFFSETFROM:+0200
TZOFFSETTO:+0100
TZNAME:CET
DTSTART:20271031T010000
END:STANDARD
END:VTIMEZONE
BEGIN:VEVENT
DTSTART;VALUE=DATE:20260226
DTEND;VALUE=DATE:20260302
DTSTAMP:20260419T212747
CREATED:20260223T202611Z
LAST-MODIFIED:20260223T202611Z
UID:28540-1772064000-1772409599@www.carnavaldecadiz.com
SUMMARY:Carnaval de Vejer de la Frontera
DESCRIPTION:Programa Oficial del Carnaval de Vejer\nJueves 26 de febrero \n\n12:00h – Pasacalles centros educativos\n21:00h – Noche de romanceros y callejeras en la Peña ‘La bajada de la bolsa’\n\nViernes 27 de febrero \n\n21:00h – Noche de cuple y pasodobles en la Peña ‘La bajada de la bolsa’\n\nSábado 28 de febrero \n\n12:30h – GRAN POLLÁ. En la Plaza de la Paz\, degustación de pollo al ajillo\, con actuaciones de agrupaciones de carnaval.\nOrganiza ‘Taberna caragato’\n17:00h – XIV DOBLADILLÁ POPULAR. Degustación de dobladillos.\nEn LA PLAZUELA\, fiesta infantil animada por el Grupo ‘Habana Vejeriega’\, muñecos y pases de niños disfrazados.\n\nActuaciones de:\ncoro de Barbate – LAS GLADITANAS\ncomparsa infantil – LOS HARINITAS\nchirigota juvenil – LOS CHIQUITOS DE LA FRONTERA\nchirigota – PAR VIERNES LA TIRAA!\nchirigota – LOS SEMICURAOS \n\nConcurso de disfraces para mayores\nFin de fiesta con DJ SANDRA\n00:00h – Gran Verbena de Disfraces en la Caseta Municipal ‘LA NORIA’\n\nDomingo 1 de marzo \n\n17:00h – Gran Cabalgata del Humor\nSalida desde la Pista Polideportiva Luis Diego Domínguez (Colegio Los Molinos)\, Avd. Andalucía\, Avd. Buenavista\, calle San Juan XXIII\, Plaza de la Constitución\, Avd. San Miguel\, calle Juan Relinque\, La Plazuela y Corredera\, finalizando en la Plaza de España.\nQuema del ‘Pito de Carnaval’\, y degustación de caldo de puchero\, en La Plazuela.\n\nTodos los eventos son públicos de libre acceso. \n 
URL:https://www.carnavaldecadiz.com/event/carnaval-de-vejer-de-la-frontera/
LOCATION:Vejer\, Vejer\, Vejer\, Cádiz\, España
CATEGORIES:actuaciones de carnaval
END:VEVENT
BEGIN:VEVENT
DTSTART;TZID=Europe/Madrid:20260227T180000
DTEND;TZID=Europe/Madrid:20260227T200000
DTSTAMP:20260419T212747
CREATED:20260109T182658Z
LAST-MODIFIED:20260109T182658Z
UID:27137-1772215200-1772222400@www.carnavaldecadiz.com
SUMMARY:Entrega de Premios del Concurso de Bailes por Tanguillos
DESCRIPTION:Visita del pregonero infantil. \nMerienda carnavalesca para los asistentes.
URL:https://www.carnavaldecadiz.com/event/entrega-de-premios-del-concurso-de-bailes-por-tanguillos/
LOCATION:AVV Murallas de San Carlos ‘La negrita’\, Cádiz\, calle San German 2\, Cádiz\, Cádiz\, 11004\, Spain
CATEGORIES:actuaciones de carnaval
ATTACH;FMTTYPE=image/jpeg:https://www.carnavaldecadiz.com/wp-content/uploads/2024/06/Murallas_de_San_Carlos.jpg
END:VEVENT
BEGIN:VEVENT
DTSTART;TZID=Europe/Madrid:20260227T200000
DTEND;TZID=Europe/Madrid:20260227T233000
DTSTAMP:20260419T212747
CREATED:20260225T152449Z
LAST-MODIFIED:20260225T152449Z
UID:28693-1772222400-1772235000@www.carnavaldecadiz.com
SUMMARY:Presentaciones MENCANTAJERE and Friends
DESCRIPTION:El mundo al revés\, si las presentaciones no se pueden hacer antes\, pues se hacen después. \nEl agua no nos dejó mostraros nuestras caritas de nervios de la primera vez\, pero como tenemos esa espinita clavá\, por toda aquella persona que no ha podido escucharnos por la calle\, por quienes están deseando volverlo a hacer\, y por quienes quieren las mejores cervezas baratitas 😁\, ES EL DÍA. \nEvento público de libra acceso.
URL:https://www.carnavaldecadiz.com/event/presentaciones-mencantajere-and-friends/
LOCATION:Peña Mencantajeré\, calla falta 15\, Jerez de la Frontera\, Cádiz\, 11408\, España
CATEGORIES:actuaciones de carnaval
END:VEVENT
END:VCALENDAR