BEGIN:VCALENDAR
VERSION:2.0
PRODID:-//Carnaval de C&aacute;diz - ECPv6.15.20//NONSGML v1.0//EN
CALSCALE:GREGORIAN
METHOD:PUBLISH
X-ORIGINAL-URL:https://www.carnavaldecadiz.com
X-WR-CALDESC:Eventos para Carnaval de C&aacute;diz
REFRESH-INTERVAL;VALUE=DURATION:PT1H
X-Robots-Tag:noindex
X-PUBLISHED-TTL:PT1H
BEGIN:VTIMEZONE
TZID:Europe/Madrid
BEGIN:DAYLIGHT
TZOFFSETFROM:+0100
TZOFFSETTO:+0200
TZNAME:CEST
DTSTART:20250330T010000
END:DAYLIGHT
BEGIN:STANDARD
TZOFFSETFROM:+0200
TZOFFSETTO:+0100
TZNAME:CET
DTSTART:20251026T010000
END:STANDARD
BEGIN:DAYLIGHT
TZOFFSETFROM:+0100
TZOFFSETTO:+0200
TZNAME:CEST
DTSTART:20260329T010000
END:DAYLIGHT
BEGIN:STANDARD
TZOFFSETFROM:+0200
TZOFFSETTO:+0100
TZNAME:CET
DTSTART:20261025T010000
END:STANDARD
BEGIN:DAYLIGHT
TZOFFSETFROM:+0100
TZOFFSETTO:+0200
TZNAME:CEST
DTSTART:20270328T010000
END:DAYLIGHT
BEGIN:STANDARD
TZOFFSETFROM:+0200
TZOFFSETTO:+0100
TZNAME:CET
DTSTART:20271031T010000
END:STANDARD
END:VTIMEZONE
BEGIN:VEVENT
DTSTART;VALUE=DATE:20260222
DTEND;VALUE=DATE:20260223
DTSTAMP:20260419T230827
CREATED:20260212T225102Z
LAST-MODIFIED:20260212T225102Z
UID:28297-1771718400-1771804799@www.carnavaldecadiz.com
SUMMARY:Carnaval de Chiclana 2026
DESCRIPTION:PROGRAMA OFICIAL del Carnaval de Chiclana.\n14:00 h\nACTUACIONES CARNAVALESCAS\nLugar: Carpa Anfiteatro de la Alameda del Río. \nComparsa de Chiclana: “LA CONDENÁ”\nLetra: Patricia Andrés Olozábal;\nMúsica: Tomás García Delgado;\nDirección: Antonio José de la Llave Alias. \nComparsa de Manuel Lorenzo Cornejo Puente\, de Cádiz “ LOS INVISIBLES”\nLetra\, música y dirección: Manuel Lorenzo Cornejo Puente \nChirigota de ‘El Sheriff’\, de Cádiz “LOS SEMICURAOS”\nLetra y música: Juan Manuel Braza Benitez ‘Sheriff’\nDirección: José Sibón Pereira \nChirigota de ‘Los Molina’\, de Chiclana “LOS COMPAY”\nLetra: Gonzalo Madrid Garrote\, y Francisco Javier Macías Tinoco\nMúsica: Manuel Benítez Molina\nDirección: Francisco Daniel Benítez Molina \n18:00 h\nENCUENTRO CARNAVALESCO\nde agrupaciones callejeras de la localidad por las calles del centro. \n19:00 h\nCierre del Carnaval con la QUEMA DE LA “BRUJA PITI”.\nLugar: Alameda del Río (junto a la carpa). \nDEGUSTACIONES\nA partir de las 13:00 h \n“ TORTILLÁ DE CAMARONES”\nLugar: Calle Santa Maria de la Cabeza.\nOrganiza: A.VV. Virgen de el Carmen del Trovador. \n“El PSOE te da alas”\nLugar: c/ Carmen Picazo\nOrganiza: PSOE. \n“CHORIZÁ POPULAR”\nLugar: c/ Ancha\, 22\nOrganiza: Peña Madridista Chiclanera. \n“LONGANIZA”\nLugar: c/ Paciano del Barco\,2\nOrganiza: Peña Carnavalesca Perico Alcántara. \n“ GRAN JAMONÁ”\nLugar: Anfiteatro de la Alameda del Río\nOrganiza: Hermandad de Afligidos. \n“MONTADITOS DE PRINGÁ”\nLugar: Anfiteatro de la Alameda del Río\nOrganiza: Peña Amigos de El Billar. \n“ CHISTORRÁ”\nLugar: Anfiteatro de la Alameda del Río\nOrganiza: Cofradía Jesús Cautivo (Medinaceli). \n“GARBANZOS CON CHOCO”.\nLugar: Anfiteatro de la Alameda del Río.\nOrganiza: Hermandad de La Borriquita. \nTODOS LOS EVENTOS SON PÚBLICOS DE LIBRE ACCESO
URL:https://www.carnavaldecadiz.com/event/carnaval-de-chiclana-2026-5/
LOCATION:Alameda del Río\, Chiclana\, Alameda del Río\, Chiclana de la Frontera\, Cádiz\, 11130\, España
CATEGORIES:actuaciones de carnaval,carnaval callejero
ATTACH;FMTTYPE=image/jpeg:https://www.carnavaldecadiz.com/wp-content/uploads/2026/02/Cartel-2026500.jpg
END:VEVENT
BEGIN:VEVENT
DTSTART;VALUE=DATE:20260222
DTEND;VALUE=DATE:20260223
DTSTAMP:20260419T230827
CREATED:20260214T010552Z
LAST-MODIFIED:20260214T010552Z
UID:28351-1771718400-1771804799@www.carnavaldecadiz.com
SUMMARY:Programa Oficial Carnaval 2026
DESCRIPTION:DOMINGO 22 DE FEBRERO\n\n12:00 a 15:00 h. “Coloretes\, Glitter y Fantasía” (Pintacaras y maquillaje con temática de Carnaval)\nCasa del Carnaval\n12:00 h. CÁDIZ SONORA. LULI PAMPÍN\nPlaza de San Antonio.\n12:00 a 18:00 h. CARNAVAL INFANTIL\, GRAN PIÑATA DEL CARNAVAL\, PARQUE MÁGICO DE LA FANTASÍA DEL CARNAVAL\nPlaza Ana Orantes.\n13:00 h. “CHIRIMURGA” – Taller de batería para murga uruguaya. Impartido por Jonás de León\nCasa del Carnaval.\n13:00 a 18:00 h. “LA CANTERA CALLEJEA” – Actuaciones Agrupaciones Infantiles y Juveniles\nPlaza del Palillero\, Plaza Candelaria y San Juan de Dios.\n13:00 h. CARRUSELES DE COROS\nPlaza de Abastos \n\nLa Carnicería\nCafé Puerto América\nDame Veneno\n¡Que pechá de paja!\nLos Mentirosos\nLa Marinera\nLa Ciudad perfecta\nEl Sindicato\nTu Muralla\nLos Caletarios\nLos Gipsy Kay\nEl Reino de los Cielos\nLas Gladitanas\nAl Garete. \nPlaza Mina. \nA pico y pala\nTu Muralla\nLos Matarratas\nLas Mil Maravillas. \nRECORRIDOS ALTERNATIVOS \nCoro – LA ESENCIA – Plaza de San Martín → Arco de la Rosa → Plaza Catedral → Pelota → San Juan de Dios → Nueva → Cristóbal Colón → Av. 4 de Diciembre → Sánchez Barcaiztegui → Plaza de las Nieves → Plaza del Cañón. \nCoro – LA VIÑA DEL MAR – Plaza de San Juan de Dios → Nueva → Cristóbal Colón → Av. 4 de Diciembre → Sánchez Barcaiztegui → Plaza de Mendizábal → Plaza del Cañón → Feduchy → Plaza del Palillero → Novena → Barrié → Valverde → Beato Diego → San Francisco → Cristóbal Colón → Cobos → Plaza de la Catedral → Arco de la Rosa → Plaza de San Martín. \nCoro – LOS MATARRATAS – Plaza de Mina → San José → Ancha → Novena → Plaza del Palillero \nCoro – EL SINDICATO – Plaza de Abastos → Hospital de Mujeres → Jesús Nazareno → La Rosa (izq.) → Plaza Manolo Santander → José Cubiles → Virgen de las Penas. \nCoro – LAS MIL MARAVILLAS – Plaza de Mina → San José → Ancha → San Antonio → Veedor → Plaza Mentidero. \n\n13:00 h. Actuaciones de Cuartetos – “DOS PALOS AL BOTELLÓN” DOS PRIMEROS PREMIOS DE ADULTOS Y DOS PRIMEROS PREMIOS JUVENILES\nPlaza Catedral.\n20:00 h. ESPECTÁCULO FINAL DEL CARNAVAL CON LA QUEMA DE LA BRUJA PITI\nPuerta de Tierra.\n\nPROGRAMA COMPLETO
URL:https://www.carnavaldecadiz.com/event/programa-oficial-carnaval-2026-4/
LOCATION:Cádiz\, Cádiz\, Cádiz\, España
CATEGORIES:actuaciones de carnaval,Carnaval 2026
ATTACH;FMTTYPE=image/jpeg:https://www.carnavaldecadiz.com/wp-content/uploads/2025/09/Cartel-carnaval-2026400.jpg
END:VEVENT
BEGIN:VEVENT
DTSTART;TZID=Europe/Madrid:20260222T133000
DTEND;TZID=Europe/Madrid:20260222T180000
DTSTAMP:20260419T230827
CREATED:20260109T181856Z
LAST-MODIFIED:20260109T181856Z
UID:27134-1771767000-1771783200@www.carnavaldecadiz.com
SUMMARY:XLI Gran Berza Carnavalesca
DESCRIPTION:Degustación gratuita de 4.500 raciones de berza con su “pringá” y todo\, acompañadas de cerveza o manzanilla. \nGran final del III Concurso de Agrupaciones Carnavalescas. Premio al mejor repertorio por madalidad. \nImposición de la insignia ‘OLLA DE ORO’\, máximo galardón de la Berza Carnavalesca. \nEntrega de los premios “MONUMENTO A LAS CORTES” y “MURALLAS DE SAN CARLOS” \nTodos son eventos públicos de libre acceso.
URL:https://www.carnavaldecadiz.com/event/xli-gran-berza-carnavalesca-2/
LOCATION:AVV Murallas de San Carlos ‘La negrita’\, Cádiz\, calle San German 2\, Cádiz\, Cádiz\, 11004\, Spain
CATEGORIES:actuaciones de carnaval,Comida popular,evento gastronómico
ATTACH;FMTTYPE=image/jpeg:https://www.carnavaldecadiz.com/wp-content/uploads/2024/06/Murallas_de_San_Carlos.jpg
END:VEVENT
END:VCALENDAR