BEGIN:VCALENDAR
VERSION:2.0
PRODID:-//Carnaval de C&aacute;diz - ECPv6.15.20//NONSGML v1.0//EN
CALSCALE:GREGORIAN
METHOD:PUBLISH
X-WR-CALNAME:Carnaval de C&aacute;diz
X-ORIGINAL-URL:https://www.carnavaldecadiz.com
X-WR-CALDESC:Eventos para Carnaval de C&aacute;diz
REFRESH-INTERVAL;VALUE=DURATION:PT1H
X-Robots-Tag:noindex
X-PUBLISHED-TTL:PT1H
BEGIN:VTIMEZONE
TZID:Europe/Madrid
BEGIN:DAYLIGHT
TZOFFSETFROM:+0100
TZOFFSETTO:+0200
TZNAME:CEST
DTSTART:20250330T010000
END:DAYLIGHT
BEGIN:STANDARD
TZOFFSETFROM:+0200
TZOFFSETTO:+0100
TZNAME:CET
DTSTART:20251026T010000
END:STANDARD
BEGIN:DAYLIGHT
TZOFFSETFROM:+0100
TZOFFSETTO:+0200
TZNAME:CEST
DTSTART:20260329T010000
END:DAYLIGHT
BEGIN:STANDARD
TZOFFSETFROM:+0200
TZOFFSETTO:+0100
TZNAME:CET
DTSTART:20261025T010000
END:STANDARD
BEGIN:DAYLIGHT
TZOFFSETFROM:+0100
TZOFFSETTO:+0200
TZNAME:CEST
DTSTART:20270328T010000
END:DAYLIGHT
BEGIN:STANDARD
TZOFFSETFROM:+0200
TZOFFSETTO:+0100
TZNAME:CET
DTSTART:20271031T010000
END:STANDARD
END:VTIMEZONE
BEGIN:VEVENT
DTSTART;TZID=Europe/Madrid:20260220T210000
DTEND;TZID=Europe/Madrid:20260221T003000
DTSTAMP:20260419T230552
CREATED:20260214T225939Z
LAST-MODIFIED:20260214T225939Z
UID:28412-1771621200-1771633800@www.carnavaldecadiz.com
SUMMARY:Final - VI Concurso de Romanceros 'CARTELÓN DE ORO'
DESCRIPTION:A la espera de los nombres de los romanceros clasificados y orden de actuación.
URL:https://www.carnavaldecadiz.com/event/final-vi-concurso-de-romanceros-cartelon-de-oro/
LOCATION:Archivo de Indias\, Cádiz\, calle San Antonio Abad 5\, Cádiz\, Cádiz\, 11005\, Spain
CATEGORIES:actuaciones de carnaval
ATTACH;FMTTYPE=image/jpeg:https://www.carnavaldecadiz.com/wp-content/uploads/2025/02/El_Populo_Logo.jpg
END:VEVENT
BEGIN:VEVENT
DTSTART;VALUE=DATE:20260221
DTEND;VALUE=DATE:20260222
DTSTAMP:20260419T230552
CREATED:20260109T181043Z
LAST-MODIFIED:20260109T181043Z
UID:27132-1771632000-1771718399@www.carnavaldecadiz.com
SUMMARY:II Certamen de Agrupaciones Carnavalescas de la Cantera
DESCRIPTION:A la espera de recibir información sobre los grupos participantes y orden de actuación. \nEvento público de libre acceso.
URL:https://www.carnavaldecadiz.com/event/ii-certamen-de-agrupaciones-carnavalescas-de-la-cantera/
LOCATION:AVV Murallas de San Carlos ‘La negrita’\, Cádiz\, calle San German 2\, Cádiz\, Cádiz\, 11004\, Spain
CATEGORIES:actuaciones de carnaval
ATTACH;FMTTYPE=image/jpeg:https://www.carnavaldecadiz.com/wp-content/uploads/2024/06/Murallas_de_San_Carlos.jpg
END:VEVENT
BEGIN:VEVENT
DTSTART;VALUE=DATE:20260221
DTEND;VALUE=DATE:20260222
DTSTAMP:20260419T230552
CREATED:20260212T224406Z
LAST-MODIFIED:20260212T224406Z
UID:28295-1771632000-1771718399@www.carnavaldecadiz.com
SUMMARY:Carnaval de Chiclana 2026
DESCRIPTION:PROGRAMA OFICIAL del Carnaval de Chiclana.\n14:00 h\nACTUACIÓN CARNAVALESCA\nLugar: Carpa Anfiteatro de la Alameda del Río \nChirigota Infantil de Chiclana “LAS PELOTERAS”\nLetra y música: Francisco Javier Rodríguez Cosme\nDirección: Julio Higinio Aragón Leira \n17:00 h\n“GRAN CABALGATA DEL HUMOR”\nSalida desde la Avenida Juan Carlos I \n20:00 h\n ENTREGA DE RECONOCIMIENTOS DE CABALGATA DEL HUMOR\nLugar: Carpa Anfiteatro de la Alameda del Río \n21:30 h\nACTUACIÓN CARNAVALESCA\nLugar: Carpa Anfiteatro de la Alameda del Río.\nComparsa de Jesús Bienvenido “DSAS3” \n22:00 h\n“FIESTA DE CARNAVAL EN LA CARPA”\nLugar: Carpa Anfiteatro de la Alameda del Río.\nDJ Fran Rodríguez \nTODOS LOS EVENTOS SON PÚBLICOS DE LIBRE ACCESO
URL:https://www.carnavaldecadiz.com/event/carnaval-de-chiclana-2026-4/
LOCATION:Alameda del Río\, Chiclana\, Alameda del Río\, Chiclana de la Frontera\, Cádiz\, 11130\, España
CATEGORIES:actuaciones de carnaval,carnaval callejero
ATTACH;FMTTYPE=image/jpeg:https://www.carnavaldecadiz.com/wp-content/uploads/2026/02/Cartel-2026500.jpg
END:VEVENT
END:VCALENDAR