BEGIN:VCALENDAR
VERSION:2.0
PRODID:-//Carnaval de C&aacute;diz - ECPv6.15.20//NONSGML v1.0//EN
CALSCALE:GREGORIAN
METHOD:PUBLISH
X-ORIGINAL-URL:https://www.carnavaldecadiz.com
X-WR-CALDESC:Eventos para Carnaval de C&aacute;diz
REFRESH-INTERVAL;VALUE=DURATION:PT1H
X-Robots-Tag:noindex
X-PUBLISHED-TTL:PT1H
BEGIN:VTIMEZONE
TZID:Europe/Madrid
BEGIN:DAYLIGHT
TZOFFSETFROM:+0100
TZOFFSETTO:+0200
TZNAME:CEST
DTSTART:20250330T010000
END:DAYLIGHT
BEGIN:STANDARD
TZOFFSETFROM:+0200
TZOFFSETTO:+0100
TZNAME:CET
DTSTART:20251026T010000
END:STANDARD
BEGIN:DAYLIGHT
TZOFFSETFROM:+0100
TZOFFSETTO:+0200
TZNAME:CEST
DTSTART:20260329T010000
END:DAYLIGHT
BEGIN:STANDARD
TZOFFSETFROM:+0200
TZOFFSETTO:+0100
TZNAME:CET
DTSTART:20261025T010000
END:STANDARD
BEGIN:DAYLIGHT
TZOFFSETFROM:+0100
TZOFFSETTO:+0200
TZNAME:CEST
DTSTART:20270328T010000
END:DAYLIGHT
BEGIN:STANDARD
TZOFFSETFROM:+0200
TZOFFSETTO:+0100
TZNAME:CET
DTSTART:20271031T010000
END:STANDARD
END:VTIMEZONE
BEGIN:VEVENT
DTSTART;TZID=Europe/Madrid:20260216T210000
DTEND;TZID=Europe/Madrid:20260217T013000
DTSTAMP:20260419T230745
CREATED:20260214T223108Z
LAST-MODIFIED:20260214T223108Z
UID:28408-1771275600-1771291800@www.carnavaldecadiz.com
SUMMARY:VI Concurso de Romanceros 'CARTELÓN DE ORO'
DESCRIPTION:Primera Semifinal\nORDEN DE ACTUACIÓN\n\n21:00h – LOMANCERO MADE IN CHINA\n21:15h – SE ACABÓ LA SIESTA\n21:30h – CON LOS PIES POR DELANTE\n21:45h – LAS AVENTURAS DE JOSELU EL CHULAPO\n22:00h – EL CONTACTADO\n22:15h – DJ PAPELILLOS\n22:30h – DON QUIJOTE Y SANCHO PANZA\, LA VERDADERA HISTORIA QUE NO EMPEZÓ EN LA MANCHA.\n22:45h – LOS REYES CATÓDICOS\n23.00h – LOS GUARDIANES DEL FIN DEL MUNDO\n23:15h – ME HA COGIDO DE MILAGRO\n23:30h – EL TÍO JOSÉ\n23:45h – RUPERTO Y MACARIO\, AGENTES INMOBILIARIOS\n00:00h – EL ENIGMA DE OTRA GALÁXIA\n00:15h – CUANDO ME IBA A JUBILA\, ME LLAMAN PA TRABAJAR\n00:30h – ROMANCERO ILEGAL\n00:45h – LA VERDADERA HISTORIA DE Dtr. JEKYL Y MR GAY\n01:00h – EL GRAN ANFITRIÓN\n01:15h – EL MADURITO INTERESANTE\n\nEvento público de libre acceso.
URL:https://www.carnavaldecadiz.com/event/vi-concurso-de-romanceros-cartelon-de-oro/
LOCATION:El Teniente Seblon\, Cádiz\, calle Posadilla 4\, Cádiz\, Cádiz\, 11005\, Spain
CATEGORIES:actuaciones de carnaval
ATTACH;FMTTYPE=image/jpeg:https://www.carnavaldecadiz.com/wp-content/uploads/2025/02/El_Populo_Logo.jpg
END:VEVENT
BEGIN:VEVENT
DTSTART;VALUE=DATE:20260217
DTEND;VALUE=DATE:20260218
DTSTAMP:20260419T230745
CREATED:20260215T011100Z
LAST-MODIFIED:20260215T011100Z
UID:28429-1771286400-1771372799@www.carnavaldecadiz.com
SUMMARY:Programa Oficial Carnaval 2026
DESCRIPTION:MARTES 17 DE FEBRERO\n\n16:00 h. XLVI CONCURSO DE TANGUILLOS\nSala Momart Club Theatre.\n18:00 h. TEATRO DE TÍTERES “Pekesduendes” – Espectáculo “Fruta\, fruta\, tu cuerpo la disfruta”\nPlaza de San Francisco.\n19:00 h. SUITE DE TANGUILLOS Y TANGOS (espectáculo flamenco + Carnaval)\nCasa del Carnaval.\n19:30 h. CIRCUITO DE AGRUPACIONES\nPlaza de Candelaria.\n19:30 h. CIRCUITO DE AGRUPACIONES\nBarrio de la Viña.\n20:00 h. CORTEJO DEL GRAN MOMO\nDesde Plaza de San Juan de Dios hasta Plaza de San Antonio.\n20:30 h. CIRCUITO DE AGRUPACIONES\nPlaza de San Francisco.\n21:30 h. ACTO DEL GRAN MOMO Y QUEMA DEL DIOS MOMO\nPlaza de San Antonio.\n\nPROGRAMA COMPLETO
URL:https://www.carnavaldecadiz.com/event/programa-oficial-carnaval-2026-5/
LOCATION:Cádiz\, Cádiz\, Cádiz\, España
CATEGORIES:actuaciones de carnaval
ATTACH;FMTTYPE=image/jpeg:https://www.carnavaldecadiz.com/wp-content/uploads/2025/09/Cartel-carnaval-2026400.jpg
END:VEVENT
BEGIN:VEVENT
DTSTART;TZID=Europe/Madrid:20260217T170000
DTEND;TZID=Europe/Madrid:20260217T233000
DTSTAMP:20260419T230745
CREATED:20260214T233108Z
LAST-MODIFIED:20260214T233108Z
UID:28418-1771347600-1771371000@www.carnavaldecadiz.com
SUMMARY:XV Concurso de Presentaciones 'HOLAQUILLOQUEPASSA'
DESCRIPTION:Orden de Actuación\n\n17:00h – MI MODELO DE CHIRIGOTA\n17:30h – LOS DOCE HIJOS DE JUAN\n18:00h – EL VIDEOJUEGO\n18:30h – QUE MÁS QUIERES QUE TE DIGA\n19:00h – LAS TATARATATARANIETAS…\n19:30h – LOS SEMICURAOS\n20:00h – AL GARETE\n20:30h – QUÉ PECHÁ DE PAJA!\n21:00h – CAFÉ PUERTO AMÉRICA\n21:30h – EL REINO DE LOS CIELOS\n22:00h – LA ÚLTIMA NOCHE\n22:30h – UNA CHIRIGOTA EN TEORÍA\n23:00h – VAMOS POR EL PRIMERO\n23:30h – LA CONDENÁ\n\nEvento público de libre acceso.
URL:https://www.carnavaldecadiz.com/event/xv-concurso-de-presentaciones-holaquilloquepassa-2/
LOCATION:Plaza del Mentidero. Cádiz\, Plaza del Mentidero\, Cádiz\, Cádiz\, 11003\, España
CATEGORIES:actuaciones de carnaval
ATTACH;FMTTYPE=image/jpeg:https://www.carnavaldecadiz.com/wp-content/uploads/2026/02/logo-mentidero.jpg
END:VEVENT
BEGIN:VEVENT
DTSTART;TZID=Europe/Madrid:20260217T210000
DTEND;TZID=Europe/Madrid:20260218T020000
DTSTAMP:20260419T230745
CREATED:20260214T224700Z
LAST-MODIFIED:20260214T224700Z
UID:28410-1771362000-1771380000@www.carnavaldecadiz.com
SUMMARY:VI Concurso de Romanceros 'CARTELÓN DE ORO'
DESCRIPTION:Primera Semifinal\nORDEN DE ACTUACIÓN\n\n21:00h – LA POSESIÓN VA POR DENTRO\n21:15h – BAJA LA BASURA PACO\n21:30h – UNA EXPERTA CIRUJANA\n21:45h – ZENCILLITO Y NATURAL\, ROMANCERO ESPIRITUAL\n22:00h – LA JESSY DEL MENTIDERO Y JORGE EL TALEGUERO\n22:15h – UN ROMANCERO DE PELO\n22:30h – ESTO ES CÁDIZ Y AQUÍ HAY QUE MAD MAX\n22:45h – LA QUE LIMPIA A DIARIO PARA UN INGLÉS Y UN MESETARIO\n23:00h – NO HACE FRÍO HACE HUMEDAD\n23:15h – EL TIEMPO ENTRE COSTURAS\n23:30h – TINDERWOMAN\n23:45h – MARÍA PITA SE INRRITA\n00:00h – LA MAMA\n00:15h – DE PROFESIÓN ARQUERO\n00:30h – ESTACIÓN DE PENITENCIA CRÍA CUERVOS\n00:45h – EL ÚLTIMO EN ENTERARSE\n01:00h – LOS SANTOS DE LAFRONTERA\n01:15h – AFINA LA NOTA\, ROCA\n01:30h – HASTA LOS SANTOS COJONES\n\nEvento público de libre acceso.
URL:https://www.carnavaldecadiz.com/event/vi-concurso-de-romanceros-cartelon-de-oro-2/
LOCATION:Archivo de Indias\, Cádiz\, calle San Antonio Abad 5\, Cádiz\, Cádiz\, 11005\, Spain
CATEGORIES:actuaciones de carnaval
ATTACH;FMTTYPE=image/jpeg:https://www.carnavaldecadiz.com/wp-content/uploads/2025/02/El_Populo_Logo.jpg
END:VEVENT
END:VCALENDAR