BEGIN:VCALENDAR
VERSION:2.0
PRODID:-//Carnaval de C&aacute;diz - ECPv6.15.20//NONSGML v1.0//EN
CALSCALE:GREGORIAN
METHOD:PUBLISH
X-ORIGINAL-URL:https://www.carnavaldecadiz.com
X-WR-CALDESC:Eventos para Carnaval de C&aacute;diz
REFRESH-INTERVAL;VALUE=DURATION:PT1H
X-Robots-Tag:noindex
X-PUBLISHED-TTL:PT1H
BEGIN:VTIMEZONE
TZID:Europe/Madrid
BEGIN:DAYLIGHT
TZOFFSETFROM:+0100
TZOFFSETTO:+0200
TZNAME:CEST
DTSTART:20250330T010000
END:DAYLIGHT
BEGIN:STANDARD
TZOFFSETFROM:+0200
TZOFFSETTO:+0100
TZNAME:CET
DTSTART:20251026T010000
END:STANDARD
BEGIN:DAYLIGHT
TZOFFSETFROM:+0100
TZOFFSETTO:+0200
TZNAME:CEST
DTSTART:20260329T010000
END:DAYLIGHT
BEGIN:STANDARD
TZOFFSETFROM:+0200
TZOFFSETTO:+0100
TZNAME:CET
DTSTART:20261025T010000
END:STANDARD
BEGIN:DAYLIGHT
TZOFFSETFROM:+0100
TZOFFSETTO:+0200
TZNAME:CEST
DTSTART:20270328T010000
END:DAYLIGHT
BEGIN:STANDARD
TZOFFSETFROM:+0200
TZOFFSETTO:+0100
TZNAME:CET
DTSTART:20271031T010000
END:STANDARD
END:VTIMEZONE
BEGIN:VEVENT
DTSTART;VALUE=DATE:20260215
DTEND;VALUE=DATE:20260216
DTSTAMP:20260419T230827
CREATED:20260212T223409Z
LAST-MODIFIED:20260212T223409Z
UID:28290-1771113600-1771199999@www.carnavaldecadiz.com
SUMMARY:Carnaval de Chiclana 2026
DESCRIPTION:PROGRAMA OFICIAL del Carnaval de Chiclana.\n13:00 h\n“IMPOSICIÓN DE INSIGNIA DEL CARNAVAL”\na D. José Manuel Parra Sánchez.\n“PREGÓN DE CARNAVAL”\na cargo de D. Julio Aragón Leira \nACTUACIONES CARANVALESCAS\nLugar: Carpa Anfiteatro de la Alameda del Río. \nComparsa Infantil de Chiclana “LAS TRAVIESAS”\nLetra y música: Guillermo José del Valle Bueno\, Rafael León Tocino y Hugo Alberto León Tocino.\nDirección: Claudia Vega Vinelli. \nComparsa Infantil de Chiclana “LAS TRAVIESAS”\nLetra y Música: Guillermo del Valle.\nDirección: Guillermo del Valle\, Hugo y Rafa León. \nChirigota Callejera “LOS AMOS DEL MUNDO” \nComparsa Infantil de Barbate “LAS MARMOTAS”\nLetra: Pedro Varo Benítez y Antonio Reyes Alba\nMúsica: Alejandro Dávila Pacheco y Antonio Reyes Alba\nDirección: Alberto Cifuentes Pérez \nChirigota de Chiclana ”LOS QUE LA TIENEN DE MÁRMOL”\nLetra: Jesús Manuel Selma Martín-Murga “El Melli”\nMúsica: José Antonio García Molina y Jesús Manuel Selma Martín-Murga “El Melli”\nDirección: Antonia Molina Morales. \nDEGUSTACIONES\nA partir de las 13:00 h – En la Alameda del Río \n“ LANGOSTINÁ POPULAR”\nOrganiza: Peña Carnavalesca “Hombres del Campo” \n“PAPAS ALIÑÁS”\nOrganiza: Hermandad Humildad y Paciencia \n“ CHICHARRONÁ”\nOrganiza: Asoc. Cultural Carnavalesca “El Tatachín de la Frontera” \n”MAGRETÁ”\nOrganiza: Hermandad del Huerto. \n“PIMIENTOS ASADOS”\nOrganiza: Hermandad del Nazareno \nTODOS LOS EVENTOS SON PÚBLICOS DE LIBRE ACCESO
URL:https://www.carnavaldecadiz.com/event/carnaval-de-chiclana-2026-2/
LOCATION:Alameda del Río\, Chiclana\, Alameda del Río\, Chiclana de la Frontera\, Cádiz\, 11130\, España
CATEGORIES:actuaciones de carnaval,carnaval callejero
ATTACH;FMTTYPE=image/jpeg:https://www.carnavaldecadiz.com/wp-content/uploads/2026/02/Cartel-2026500.jpg
END:VEVENT
BEGIN:VEVENT
DTSTART;VALUE=DATE:20260215
DTEND;VALUE=DATE:20260216
DTSTAMP:20260419T230827
CREATED:20260213T223143Z
LAST-MODIFIED:20260214T012256Z
UID:28340-1771113600-1771199999@www.carnavaldecadiz.com
SUMMARY:Programa Oficial Carnaval 2026
DESCRIPTION:DOMINGO 15 DE FEBRERO\n\n12:00 a 15:00 h. “Coloretes\, Glitter y Fantasía” (Pintacaras y maquillaje con temática de Carnaval)\nCasa del Carnaval.\n12:00 a 16:00 h. CARNAVAL INFANTIL: “CARNAVALOPOLIS: LA CIUDAD DEL CARNAVAL”\nPlaza Ana Orantes.\n13:00 h. CARRUSELES DE COROS\nPlaza de Abastos\, actúan los siguientes coros:\n\nCafé Puerto América\nA pico y pala\nLos Mentirosos\nAl Lío\nLas Mil Maravillas\nLa Ciudad perfecta\nLos Caletarios\nLa Carnicería\n¿Qué pechá de paja!\nEl Sindicato\nLos Matarratas \nPlaza Mina\, actúan los siguientes coros: \nLa Esencia\nAl Garete\nADN\nTu Muralla\nEl Reino de\nlos Cielos\nLa Marinera\nLas Gladitanas\nLa Viña delMar\nLos Gipsy Kay\nLa Perla de Cádiz \nRECORRIDOS ALTERNATIVOS \nCoro – LA ESENCIA – Plaza de Mina → San José → Cánovas del Castillo → Valverde → Beato Diego → San Francisco → Cristóbal Colón → Av. 4 de Diciembre de 1977 → Sánchez Barcaiztegui → Plaza de las Nieves → Plaza del Cañón. \nCoro – LA VIÑA DEL MAR – Plaza de Mina → Callejón del Tinte → Plaza de San Francisco → San Francisco → Plaza de San Agustín → San Francisco → Cristóbal Colón → Av. 4 de Diciembre → Sánchez Barcaiztegui → Plaza de Mendizábal → Plaza del Cañón → Feduchy → Plaza de Palillero → Novena → Ancha → San José → Plaza Mina. \nCoro – LOS MATARRATAS – Plaza las Nieves → Plaza del Cañón → Feduchy → Plaza Palillero → Columela → Plaza las Flores → Mercado Central. \nCoro – LOS MENTIROSOS – Plaza de la Libertad → Desamparados → Puerto Chico → Campo del Sur → Arquitecto Acero → Plaza de la Catedral → Arco de la Rosa → Plaza San Martín. \nCoro – EL REINO DE LOS CIELOS – Plaza de Mina → San José → Ancha → Novena → Palillero. \n\n13:00 h. “BATALLAS DE COPLAS” JUVENILES DEL COAC 2026\nPaseo Marítimo.\n13:00 h. Actuaciones de Cuartetos “DOS PALOS AL BOTELLÓN” – DOS PRIMEROS PREMIOS DE ADULTOS Y DOS PRIMEROS PREMIOS INFANTILES\nPlaza Catedral.\n17:30 h. CABALGATA MAGNA\nPlaza Ana Orantes / Puerta de Tierra.\n22:00 h. CÁDIZ SONORA. JUDELINE\nPlaza de San Antonio.\n\nPROGRAMA COMPLETO
URL:https://www.carnavaldecadiz.com/event/programa-oficial-carnaval-2026-2/
LOCATION:Cádiz\, Cádiz\, Cádiz\, España
CATEGORIES:actuaciones de carnaval,Carnaval 2026
ATTACH;FMTTYPE=image/jpeg:https://www.carnavaldecadiz.com/wp-content/uploads/2025/09/Cartel-carnaval-2026400.jpg
END:VEVENT
BEGIN:VEVENT
DTSTART;VALUE=DATE:20260215
DTEND;VALUE=DATE:20260217
DTSTAMP:20260419T230827
CREATED:20260109T180247Z
LAST-MODIFIED:20260109T180247Z
UID:27128-1771113600-1771286399@www.carnavaldecadiz.com
SUMMARY:III Concurso de Agrupaciones Carnavalescas. Premio Mejor Repertorio
DESCRIPTION:A la espera de recibir información sobre grupos participantes y orden de actuación. \nLas actuaciones comenzarán a partir de las 14:00h. \nEvento público de libre acceso.
URL:https://www.carnavaldecadiz.com/event/iii-concurso-de-agrupaciones-carnavalescas-premio-mejor-repertorio/
LOCATION:AVV Murallas de San Carlos ‘La negrita’\, Cádiz\, calle San German 2\, Cádiz\, Cádiz\, 11004\, Spain
CATEGORIES:actuaciones de carnaval
ATTACH;FMTTYPE=image/jpeg:https://www.carnavaldecadiz.com/wp-content/uploads/2024/06/Murallas_de_San_Carlos.jpg
END:VEVENT
BEGIN:VEVENT
DTSTART;TZID=Europe/Madrid:20260215T130000
DTEND;TZID=Europe/Madrid:20260215T230000
DTSTAMP:20260419T230827
CREATED:20260214T000435Z
LAST-MODIFIED:20260214T000435Z
UID:28345-1771160400-1771196400@www.carnavaldecadiz.com
SUMMARY:Concurso de Coplas de la Peña 'La estrella'
DESCRIPTION:Concursos de coplas para comparsas\, chirigotas y cuartetos. \nORDEN DE ACTUACIÓN \n\n13:00 h – La Pandilla Inclusiva – Cuarteto\n13:30 h – Los Hijos de Cádiz – Comparsa\n14:00 h – El Jovencito Frankenstein – Comparsa\n14:30 h – Los Trapos – Comparsa\n15:00 h – Los tres Cuarteteros… – Cuarteto\n15:30 h – Nos Hemos Venido Arriba – Chirigota\n16:00 h – La Palabra de Cádiz – Comparsa\n16:30 h – Los del Escondite – Comparsa\n17:00 h – Los de la Tribu de al Lao – Chirigota\n17:30 h – Los Niños con Nombre – Chirigota\n18:00 h – Que vengan! – Cuarteto\n18:30 h – La Purga – Los que no pasan – Chirigota\n19:00 h – San Taratachín – Chirigota\n19:30 h – La Hipócrita – Comparsa\n20:00 h – La Carne Vale – Comparsa\n20:30 h – Los Ken …- Chirigota\n21:00 h – Que Más Quieres que te Diga – Chirigota\n21:30 h – Los Mohigangas – Chirigota\n22:00 h – La Viña de mis Ojos – Chirigota\n\nEvento público de libre acceso.
URL:https://www.carnavaldecadiz.com/event/concurso-de-coplas-de-la-pena-la-estrella/
LOCATION:Plaza Candelaria\, Plaza Candelaria\, Cádiz\, Cádiz\, 11005\, España
CATEGORIES:actuaciones de carnaval
ATTACH;FMTTYPE=image/jpeg:https://www.carnavaldecadiz.com/wp-content/uploads/2024/01/Pena_la_Estrella.jpg
END:VEVENT
BEGIN:VEVENT
DTSTART;TZID=Europe/Madrid:20260215T170000
DTEND;TZID=Europe/Madrid:20260215T233000
DTSTAMP:20260419T230827
CREATED:20260214T232414Z
LAST-MODIFIED:20260214T232414Z
UID:28415-1771174800-1771198200@www.carnavaldecadiz.com
SUMMARY:XV Concurso de Presentaciones 'HOLAQUILLOQUEPASSA'
DESCRIPTION:Orden de Actuación\n\n17:ooh – LAS EUROVISIVAS\n17:30h – LA FAMILIA FALLANS\n18:00h – PLAN B\n18:30h – ACADEMIA DE BAILE APRENDE CON JOSELITO Y SUS TRES MODELITOS\n19:00h – LA VIÑA DE MIS OJOS\n19:30h – LOS KEN\n20:00h – LA CARNICERÍA\n20:30h – LA CIUDAD PERFECTA\n21:00h – LOS CALETARIOS\n21:30h – LOS AMISH DEL MONO…\n22:00h – LOS ROBIN\n22:30h – SSSHHHH!!!\n23:00h – LAS JOROBADAS\n23:30h – LAS MUÑECAS\n\nEvento público de libre acceso.
URL:https://www.carnavaldecadiz.com/event/xv-concurso-de-presentaciones-holaquilloquepassa/
LOCATION:Plaza del Mentidero. Cádiz\, Plaza del Mentidero\, Cádiz\, Cádiz\, 11003\, España
CATEGORIES:actuaciones de carnaval
ATTACH;FMTTYPE=image/jpeg:https://www.carnavaldecadiz.com/wp-content/uploads/2026/02/logo-mentidero.jpg
END:VEVENT
END:VCALENDAR