BEGIN:VCALENDAR
VERSION:2.0
PRODID:-//Carnaval de C&aacute;diz - ECPv6.15.20//NONSGML v1.0//EN
CALSCALE:GREGORIAN
METHOD:PUBLISH
X-ORIGINAL-URL:https://www.carnavaldecadiz.com
X-WR-CALDESC:Eventos para Carnaval de C&aacute;diz
REFRESH-INTERVAL;VALUE=DURATION:PT1H
X-Robots-Tag:noindex
X-PUBLISHED-TTL:PT1H
BEGIN:VTIMEZONE
TZID:Europe/Madrid
BEGIN:DAYLIGHT
TZOFFSETFROM:+0100
TZOFFSETTO:+0200
TZNAME:CEST
DTSTART:20250330T010000
END:DAYLIGHT
BEGIN:STANDARD
TZOFFSETFROM:+0200
TZOFFSETTO:+0100
TZNAME:CET
DTSTART:20251026T010000
END:STANDARD
BEGIN:DAYLIGHT
TZOFFSETFROM:+0100
TZOFFSETTO:+0200
TZNAME:CEST
DTSTART:20260329T010000
END:DAYLIGHT
BEGIN:STANDARD
TZOFFSETFROM:+0200
TZOFFSETTO:+0100
TZNAME:CET
DTSTART:20261025T010000
END:STANDARD
BEGIN:DAYLIGHT
TZOFFSETFROM:+0100
TZOFFSETTO:+0200
TZNAME:CEST
DTSTART:20270328T010000
END:DAYLIGHT
BEGIN:STANDARD
TZOFFSETFROM:+0200
TZOFFSETTO:+0100
TZNAME:CET
DTSTART:20271031T010000
END:STANDARD
END:VTIMEZONE
BEGIN:VEVENT
DTSTART;TZID=Europe/Madrid:20260210T200000
DTEND;TZID=Europe/Madrid:20260210T233000
DTSTAMP:20260419T230925
CREATED:20260125T224944Z
LAST-MODIFIED:20260208T001238Z
UID:27686-1770753600-1770766200@www.carnavaldecadiz.com
SUMMARY:COAC 2026. 3ª Sesión de semifinales
DESCRIPTION:Orden de Actuación\n\nCoro – LA CARNICERÍA – ficha\nChirigota – PIENSA MAL Y ACERTARÁS (LOS DESCONFIAOS) – ficha\nComparsa – OBDC. ME QUEDO CONTIGO – ficha\nCoro – LAS MIL MARAVILLAS – ficha\nChirigota – LOS AMISH DEL MONO\, FUIMOS A POR PIONONOS (LA DECEPCIÓN) – ficha\nComparsa – EL JOVENCITO FRNKENSTEIN – ficha\nChirigota – LOS QUE VAN A COGER PAPAS – ficha\n\nVerlo en DIRECTO
URL:https://www.carnavaldecadiz.com/event/coac-2026-3a-sesion-de-semifinales/
LOCATION:Gran Teatro Falla\, Plaza Fragela s/n\, Cádiz\, Cádiz\, 11003\, España
CATEGORIES:actuaciones de carnaval,COAC
ATTACH;FMTTYPE=image/jpeg:https://www.carnavaldecadiz.com/wp-content/uploads/2023/11/LOGO-COAC.jpg
END:VEVENT
END:VCALENDAR