BEGIN:VCALENDAR
VERSION:2.0
PRODID:-//Carnaval de C&aacute;diz - ECPv6.15.20//NONSGML v1.0//EN
CALSCALE:GREGORIAN
METHOD:PUBLISH
X-ORIGINAL-URL:https://www.carnavaldecadiz.com
X-WR-CALDESC:Eventos para Carnaval de C&aacute;diz
REFRESH-INTERVAL;VALUE=DURATION:PT1H
X-Robots-Tag:noindex
X-PUBLISHED-TTL:PT1H
BEGIN:VTIMEZONE
TZID:Europe/Madrid
BEGIN:DAYLIGHT
TZOFFSETFROM:+0100
TZOFFSETTO:+0200
TZNAME:CEST
DTSTART:20250330T010000
END:DAYLIGHT
BEGIN:STANDARD
TZOFFSETFROM:+0200
TZOFFSETTO:+0100
TZNAME:CET
DTSTART:20251026T010000
END:STANDARD
BEGIN:DAYLIGHT
TZOFFSETFROM:+0100
TZOFFSETTO:+0200
TZNAME:CEST
DTSTART:20260329T010000
END:DAYLIGHT
BEGIN:STANDARD
TZOFFSETFROM:+0200
TZOFFSETTO:+0100
TZNAME:CET
DTSTART:20261025T010000
END:STANDARD
BEGIN:DAYLIGHT
TZOFFSETFROM:+0100
TZOFFSETTO:+0200
TZNAME:CEST
DTSTART:20270328T010000
END:DAYLIGHT
BEGIN:STANDARD
TZOFFSETFROM:+0200
TZOFFSETTO:+0100
TZNAME:CET
DTSTART:20271031T010000
END:STANDARD
END:VTIMEZONE
BEGIN:VEVENT
DTSTART;VALUE=DATE:20260116
DTEND;VALUE=DATE:20260208
DTSTAMP:20260419T230801
CREATED:20260114T184212Z
LAST-MODIFIED:20260114T184212Z
UID:27285-1768521600-1770508799@www.carnavaldecadiz.com
SUMMARY:Programa de Coplas en Las Banderas
DESCRIPTION:Programa:\nViernes 16 de enero a partir de las 17:00h \n\nLas coplas de Antonio Martín con Macgregor\, Catalino\, Quique Mayones y Lali\n\nSábado 17 de enero a partir de las 17:00h \n\nCoplas de chirigotas con Manolín\, Waxi y Lali\n\nViernes 23 a partir de las 17:00h \n\nActuación del trío formado por Piojo\, Geni y Kevin\n\nSábado 24 de enero a partir de las 16:30h \n\nActuación del trío formado por Ramoni\, Fali y Kevin\n\nViernes 30 de enero a partir de las 17:00h \n\nLas coplas de Antonio Martín con Macgregor\, Catalino\, Quique Mayones y Lali\n\nSábado 31 de enero a partir de las 16:30h \n\nActuación del trío formado por Paco Catalán\, David Catalán y Moi\n\nViernes 6 de febrero a partir de las 17:00h \n\nActuación del trío formado por Piojo\, Geni y Mota\n\nSábado 7 de febrero a partir de las 17:00h \nActuación del trío formado por Fran ‘Paella’\, Kike Lozano y Jona \nTodos los eventos son públicos y de libre acceso hasta completar aforo.\nReservas 856381032
URL:https://www.carnavaldecadiz.com/event/programa-de-coplas-en-las-banderas/
LOCATION:Taberna Las Banderas\, Cádiz\, calle Virgen de las Penas 1\, Cádiz\, Cádiz\, 11002\, Spain
CATEGORIES:actuaciones de carnaval
END:VEVENT
BEGIN:VEVENT
DTSTART;TZID=Europe/Madrid:20260205T200000
DTEND;TZID=Europe/Madrid:20260205T233000
DTSTAMP:20260419T230801
CREATED:20260125T222914Z
LAST-MODIFIED:20260202T214741Z
UID:27680-1770321600-1770334200@www.carnavaldecadiz.com
SUMMARY:COAC 2026. 7ª Sesión de cuartos de final
DESCRIPTION:ORDEN DE ACTUACIÓN\n\nCoro – LOS MENTIROSOS – ficha\nComparsa – LOS INVISIBLES – ficha\nChirigota – L@S QUINCE EN LAS ALGAS – ficha\nComparsa – LA BIBLIOTECA – ficha\nChirigota – LOS QUE LA TIENEN DE MÁRMOL – ficha\nComparsa – LA CONDENÁ – ficha\nChirigota – SSSHHHH!! – ficha
URL:https://www.carnavaldecadiz.com/event/coac-2026-7a-sesion-de-cuartos-de-final/
LOCATION:Gran Teatro Falla\, Plaza Fragela s/n\, Cádiz\, Cádiz\, 11003\, España
CATEGORIES:actuaciones de carnaval,COAC
ATTACH;FMTTYPE=image/jpeg:https://www.carnavaldecadiz.com/wp-content/uploads/2023/11/LOGO-COAC.jpg
END:VEVENT
BEGIN:VEVENT
DTSTART;TZID=Europe/Madrid:20260205T200000
DTEND;TZID=Europe/Madrid:20260205T233000
DTSTAMP:20260419T230801
CREATED:20260129T194315Z
LAST-MODIFIED:20260129T194315Z
UID:27825-1770321600-1770334200@www.carnavaldecadiz.com
SUMMARY:Concurso de Romanceros - 4ª Semifinal
DESCRIPTION:Orden de actuación \n\nEl algoritmo\nLa mama\nLa posesión va por dentro – Ficha\n¡Quillo\, que dejes ya de inventar! – Ficha\nEsto es Cádiz y aquí hay que Mad Max – Ficha\nMe pillas en mal momento\nNo me invites ni al convite – Ficha\n¿Ikeacemos?\n\nMás Romanceros 2026
URL:https://www.carnavaldecadiz.com/event/concurso-de-romanceros-4a-semifinal/
LOCATION:Teatro Tía Norica\, Cádiz\, calle San Miguel 15\, Cádiz\, Cádiz\, 11001\, España
CATEGORIES:actuaciones de carnaval
ATTACH;FMTTYPE=image/jpeg:https://www.carnavaldecadiz.com/wp-content/uploads/2025/02/teatro_titere400-1.jpg
END:VEVENT
END:VCALENDAR