BEGIN:VCALENDAR
VERSION:2.0
PRODID:-//Carnaval de C&aacute;diz - ECPv6.15.20//NONSGML v1.0//EN
CALSCALE:GREGORIAN
METHOD:PUBLISH
X-ORIGINAL-URL:https://www.carnavaldecadiz.com
X-WR-CALDESC:Eventos para Carnaval de C&aacute;diz
REFRESH-INTERVAL;VALUE=DURATION:PT1H
X-Robots-Tag:noindex
X-PUBLISHED-TTL:PT1H
BEGIN:VTIMEZONE
TZID:Europe/Madrid
BEGIN:DAYLIGHT
TZOFFSETFROM:+0100
TZOFFSETTO:+0200
TZNAME:CEST
DTSTART:20250330T010000
END:DAYLIGHT
BEGIN:STANDARD
TZOFFSETFROM:+0200
TZOFFSETTO:+0100
TZNAME:CET
DTSTART:20251026T010000
END:STANDARD
BEGIN:DAYLIGHT
TZOFFSETFROM:+0100
TZOFFSETTO:+0200
TZNAME:CEST
DTSTART:20260329T010000
END:DAYLIGHT
BEGIN:STANDARD
TZOFFSETFROM:+0200
TZOFFSETTO:+0100
TZNAME:CET
DTSTART:20261025T010000
END:STANDARD
BEGIN:DAYLIGHT
TZOFFSETFROM:+0100
TZOFFSETTO:+0200
TZNAME:CEST
DTSTART:20270328T010000
END:DAYLIGHT
BEGIN:STANDARD
TZOFFSETFROM:+0200
TZOFFSETTO:+0100
TZNAME:CET
DTSTART:20271031T010000
END:STANDARD
END:VTIMEZONE
BEGIN:VEVENT
DTSTART;VALUE=DATE:20260116
DTEND;VALUE=DATE:20260208
DTSTAMP:20260420T004801
CREATED:20260114T184212Z
LAST-MODIFIED:20260114T184212Z
UID:27285-1768521600-1770508799@www.carnavaldecadiz.com
SUMMARY:Programa de Coplas en Las Banderas
DESCRIPTION:Programa:\nViernes 16 de enero a partir de las 17:00h \n\nLas coplas de Antonio Martín con Macgregor\, Catalino\, Quique Mayones y Lali\n\nSábado 17 de enero a partir de las 17:00h \n\nCoplas de chirigotas con Manolín\, Waxi y Lali\n\nViernes 23 a partir de las 17:00h \n\nActuación del trío formado por Piojo\, Geni y Kevin\n\nSábado 24 de enero a partir de las 16:30h \n\nActuación del trío formado por Ramoni\, Fali y Kevin\n\nViernes 30 de enero a partir de las 17:00h \n\nLas coplas de Antonio Martín con Macgregor\, Catalino\, Quique Mayones y Lali\n\nSábado 31 de enero a partir de las 16:30h \n\nActuación del trío formado por Paco Catalán\, David Catalán y Moi\n\nViernes 6 de febrero a partir de las 17:00h \n\nActuación del trío formado por Piojo\, Geni y Mota\n\nSábado 7 de febrero a partir de las 17:00h \nActuación del trío formado por Fran ‘Paella’\, Kike Lozano y Jona \nTodos los eventos son públicos y de libre acceso hasta completar aforo.\nReservas 856381032
URL:https://www.carnavaldecadiz.com/event/programa-de-coplas-en-las-banderas/
LOCATION:Taberna Las Banderas\, Cádiz\, calle Virgen de las Penas 1\, Cádiz\, Cádiz\, 11002\, Spain
CATEGORIES:actuaciones de carnaval
END:VEVENT
BEGIN:VEVENT
DTSTART;TZID=Europe/Madrid:20260125T120000
DTEND;TZID=Europe/Madrid:20260125T170000
DTSTAMP:20260420T004801
CREATED:20251105T162120Z
LAST-MODIFIED:20251108T213817Z
UID:25849-1769342400-1769360400@www.carnavaldecadiz.com
SUMMARY:COAC Infantil 2026. 4ª Semifinal
DESCRIPTION:Orden de actuación:\n\nComparsa – LAS TRAVIESAS –Ficha\nChirigota – LA CHIRIGOTA DE LA ISLA – Ficha\nCuarteto – ESCUELA PÚBLICA CAIMÁN – Ficha\nChirigota – VAMOS POR EL PRIMERO – Ficha\nCuarteto – ESTE AÑO CAEMOS DE PIÉ – Ficha\nChirigota – LOS MANITAS LA GARITA – Ficha\nCoro – LA PERLA DE CÁDIZ – Ficha\n\n \nVer listado de AGRUPACIONES CALLEJERAS
URL:https://www.carnavaldecadiz.com/event/coac-infantil-2026-4a-semifinal/
LOCATION:Gran Teatro Falla\, Plaza Fragela s/n\, Cádiz\, Cádiz\, 11003\, España
CATEGORIES:actuaciones de carnaval,COAC
ATTACH;FMTTYPE=image/jpeg:https://www.carnavaldecadiz.com/wp-content/uploads/2023/11/LOGO-COAC.jpg
END:VEVENT
BEGIN:VEVENT
DTSTART;TZID=Europe/Madrid:20260125T130000
DTEND;TZID=Europe/Madrid:20260125T170000
DTSTAMP:20260420T004801
CREATED:20260121T183147Z
LAST-MODIFIED:20260121T183147Z
UID:27495-1769346000-1769360400@www.carnavaldecadiz.com
SUMMARY:XXXIX Ostionada Popular
DESCRIPTION:La ostionada es uno de los eventos gastronómicos del carnaval de Cádiz\, consiste en la degustación de ostiones y reparto de cerveza. \nActuarán los siguientes grupos de carnaval: \n\nAntología del coro callejero de Luis Frade\nCoro callejero ‘Los gipsy kay’\nAntología ‘Cádiz de mil colores’\nMini coro ‘Paté de gabacho’\nAntología ‘Los cleriguillos’\n\nEvento público de libre acceso
URL:https://www.carnavaldecadiz.com/event/xxxix-ostionada-popular/
LOCATION:Plaza de San Antonio\, Cádiz\, Plaza de San Antonio\, Cádiz\, Cádiz
CATEGORIES:actuaciones de carnaval,evento gastronómico
END:VEVENT
BEGIN:VEVENT
DTSTART;TZID=Europe/Madrid:20260125T200000
DTEND;TZID=Europe/Madrid:20260125T233000
DTSTAMP:20260420T004801
CREATED:20251105T184830Z
LAST-MODIFIED:20251109T224005Z
UID:25889-1769371200-1769383800@www.carnavaldecadiz.com
SUMMARY:COAC 2026. 15ª Sesión de Preliminares
DESCRIPTION:Orden de actuación:\n\nCoro – ¡QUÉ PECHÁ DE PAJA! – Ficha\nComparsa – EL REFUGIO – Ficha\nChirigota – LOS CAMPER DEL SUR – Ficha\nCuarteto – LOS TRES CUARTETEROS Y UN APRENDIZ DE PORCULERO – Ficha\nComparsa – MINDUNDI – Ficha\nChirigota – LOS KEN. UNA CHIRIGOTA EN DECONSTRUCCIÓN – Ficha\nComparsa – DSAS3 – Ficha\n\nEn negrita cabeza de serie \nVer listado de AGRUPACIONES \nVer listado de AGRUPACIONES CALLEJERAS
URL:https://www.carnavaldecadiz.com/event/coac-2026-15a-sesion-de-preliminares/
LOCATION:Gran Teatro Falla\, Plaza Fragela s/n\, Cádiz\, Cádiz\, 11003\, España
CATEGORIES:actuaciones de carnaval,COAC
ATTACH;FMTTYPE=image/jpeg:https://www.carnavaldecadiz.com/wp-content/uploads/2023/11/LOGO-COAC.jpg
END:VEVENT
END:VCALENDAR