BEGIN:VCALENDAR
VERSION:2.0
PRODID:-//Carnaval de C&aacute;diz - ECPv6.15.20//NONSGML v1.0//EN
CALSCALE:GREGORIAN
METHOD:PUBLISH
X-ORIGINAL-URL:https://www.carnavaldecadiz.com
X-WR-CALDESC:Eventos para Carnaval de C&aacute;diz
REFRESH-INTERVAL;VALUE=DURATION:PT1H
X-Robots-Tag:noindex
X-PUBLISHED-TTL:PT1H
BEGIN:VTIMEZONE
TZID:Europe/Madrid
BEGIN:DAYLIGHT
TZOFFSETFROM:+0100
TZOFFSETTO:+0200
TZNAME:CEST
DTSTART:20250330T010000
END:DAYLIGHT
BEGIN:STANDARD
TZOFFSETFROM:+0200
TZOFFSETTO:+0100
TZNAME:CET
DTSTART:20251026T010000
END:STANDARD
BEGIN:DAYLIGHT
TZOFFSETFROM:+0100
TZOFFSETTO:+0200
TZNAME:CEST
DTSTART:20260329T010000
END:DAYLIGHT
BEGIN:STANDARD
TZOFFSETFROM:+0200
TZOFFSETTO:+0100
TZNAME:CET
DTSTART:20261025T010000
END:STANDARD
BEGIN:DAYLIGHT
TZOFFSETFROM:+0100
TZOFFSETTO:+0200
TZNAME:CEST
DTSTART:20270328T010000
END:DAYLIGHT
BEGIN:STANDARD
TZOFFSETFROM:+0200
TZOFFSETTO:+0100
TZNAME:CET
DTSTART:20271031T010000
END:STANDARD
END:VTIMEZONE
BEGIN:VEVENT
DTSTART;VALUE=DATE:20260116
DTEND;VALUE=DATE:20260208
DTSTAMP:20260420T004802
CREATED:20260114T184212Z
LAST-MODIFIED:20260114T184212Z
UID:27285-1768521600-1770508799@www.carnavaldecadiz.com
SUMMARY:Programa de Coplas en Las Banderas
DESCRIPTION:Programa:\nViernes 16 de enero a partir de las 17:00h \n\nLas coplas de Antonio Martín con Macgregor\, Catalino\, Quique Mayones y Lali\n\nSábado 17 de enero a partir de las 17:00h \n\nCoplas de chirigotas con Manolín\, Waxi y Lali\n\nViernes 23 a partir de las 17:00h \n\nActuación del trío formado por Piojo\, Geni y Kevin\n\nSábado 24 de enero a partir de las 16:30h \n\nActuación del trío formado por Ramoni\, Fali y Kevin\n\nViernes 30 de enero a partir de las 17:00h \n\nLas coplas de Antonio Martín con Macgregor\, Catalino\, Quique Mayones y Lali\n\nSábado 31 de enero a partir de las 16:30h \n\nActuación del trío formado por Paco Catalán\, David Catalán y Moi\n\nViernes 6 de febrero a partir de las 17:00h \n\nActuación del trío formado por Piojo\, Geni y Mota\n\nSábado 7 de febrero a partir de las 17:00h \nActuación del trío formado por Fran ‘Paella’\, Kike Lozano y Jona \nTodos los eventos son públicos y de libre acceso hasta completar aforo.\nReservas 856381032
URL:https://www.carnavaldecadiz.com/event/programa-de-coplas-en-las-banderas/
LOCATION:Taberna Las Banderas\, Cádiz\, calle Virgen de las Penas 1\, Cádiz\, Cádiz\, 11002\, Spain
CATEGORIES:actuaciones de carnaval
END:VEVENT
BEGIN:VEVENT
DTSTART;TZID=Europe/Madrid:20260117T230000
DTEND;TZID=Europe/Madrid:20260118T003000
DTSTAMP:20260420T004802
CREATED:20260113T215215Z
LAST-MODIFIED:20260113T215215Z
UID:27241-1768690800-1768696200@www.carnavaldecadiz.com
SUMMARY:Actuación de la Comparsa 'LOS ARTIFICIALES'
DESCRIPTION:Actuará la comparsa ‘LOS ARTIFICIALES’ y Toni Piojo \nReservas 617042807
URL:https://www.carnavaldecadiz.com/event/actuacion-de-la-comparsa-los-artificiales/
LOCATION:Amazonas Tropical Club\, Paseo Playa Getares Peatonal\, Algeciras\, Cádiz\, 11207\, España
CATEGORIES:actuaciones de carnaval
END:VEVENT
BEGIN:VEVENT
DTSTART;TZID=Europe/Madrid:20260118T120000
DTEND;TZID=Europe/Madrid:20260118T160000
DTSTAMP:20260420T004802
CREATED:20251105T161314Z
LAST-MODIFIED:20251108T211406Z
UID:25842-1768737600-1768752000@www.carnavaldecadiz.com
SUMMARY:COAC Infantil 2026. 2ª Semifinal
DESCRIPTION:Orden de actuación:\n\nComparsa – EN MI ESQUINITA TE ESPERO – Ficha\nChirigota – EL TÍO DE LA TIZA SE ACTUALIZA – Ficha\nCuarteto – LA FAMILIA FALLANS – Ficha\nChirigota – LOS MAL-ÉLFICOS – Ficha\nCuarteto – TE LO CUENTO DEL REVÉS – Ficha\nComparsa – EL GRITO DEL FUTURA – Ficha\n\n \nVer listado de AGRUPACIONES CALLEJERAS
URL:https://www.carnavaldecadiz.com/event/coac-infantil-2026-2a-semifinal/
LOCATION:Gran Teatro Falla\, Plaza Fragela s/n\, Cádiz\, Cádiz\, 11003\, España
CATEGORIES:actuaciones de carnaval,COAC
ATTACH;FMTTYPE=image/jpeg:https://www.carnavaldecadiz.com/wp-content/uploads/2023/11/LOGO-COAC.jpg
END:VEVENT
BEGIN:VEVENT
DTSTART;TZID=Europe/Madrid:20260118T163000
DTEND;TZID=Europe/Madrid:20260118T180000
DTSTAMP:20260420T004802
CREATED:20260113T222818Z
LAST-MODIFIED:20260113T222818Z
UID:27244-1768753800-1768759200@www.carnavaldecadiz.com
SUMMARY:El trío 'Piquislabi' en Iwana
DESCRIPTION:el trío ‘Piquislabi’ lo integran: Chico Vallejo\, Sibon y Juan Manuel Braza ‘Sheriff’
URL:https://www.carnavaldecadiz.com/event/el-trio-piquislabi-en-iwana/
LOCATION:Iwana Beach\, Algeciras\, Playa del Rinconcillo\, Algeciras\, Cádiz\, 11205\, Spain
CATEGORIES:actuaciones de carnaval
END:VEVENT
BEGIN:VEVENT
DTSTART;TZID=Europe/Madrid:20260118T200000
DTEND;TZID=Europe/Madrid:20260118T233000
DTSTAMP:20260420T004802
CREATED:20251105T180600Z
LAST-MODIFIED:20251109T193334Z
UID:25875-1768766400-1768779000@www.carnavaldecadiz.com
SUMMARY:COAC 2026. 8ª Sesión de Preliminares
DESCRIPTION:Orden de actuación:\n\nCoro – LA CARNICERÍA – Ficha\nComparsa – LAS MUÑECAS – Ficha\nChirigota – LOS NIÑOS CON NOMBRE – Ficha\nCoro – LOS CALETARIOS – Ficha\nComparsa – CONTRA VIENTO Y MAREA – Ficha\nChirigota – LOS COMPAY – Ficha\nComparsa – LA JUGUETERÍA – Ficha\n\nEn negrita cabeza de serie \nVer listado de AGRUPACIONES \nVer listado de AGRUPACIONES CALLEJERAS
URL:https://www.carnavaldecadiz.com/event/coac-2026-8a-sesion-de-preliminares/
LOCATION:Gran Teatro Falla\, Plaza Fragela s/n\, Cádiz\, Cádiz\, 11003\, España
CATEGORIES:actuaciones de carnaval,COAC
ATTACH;FMTTYPE=image/jpeg:https://www.carnavaldecadiz.com/wp-content/uploads/2023/11/LOGO-COAC.jpg
END:VEVENT
END:VCALENDAR