BEGIN:VCALENDAR
VERSION:2.0
PRODID:-//Carnaval de C&aacute;diz - ECPv6.15.20//NONSGML v1.0//EN
CALSCALE:GREGORIAN
METHOD:PUBLISH
X-WR-CALNAME:Carnaval de C&aacute;diz
X-ORIGINAL-URL:https://www.carnavaldecadiz.com
X-WR-CALDESC:Eventos para Carnaval de C&aacute;diz
REFRESH-INTERVAL;VALUE=DURATION:PT1H
X-Robots-Tag:noindex
X-PUBLISHED-TTL:PT1H
BEGIN:VTIMEZONE
TZID:Europe/Madrid
BEGIN:DAYLIGHT
TZOFFSETFROM:+0100
TZOFFSETTO:+0200
TZNAME:CEST
DTSTART:20250330T010000
END:DAYLIGHT
BEGIN:STANDARD
TZOFFSETFROM:+0200
TZOFFSETTO:+0100
TZNAME:CET
DTSTART:20251026T010000
END:STANDARD
BEGIN:DAYLIGHT
TZOFFSETFROM:+0100
TZOFFSETTO:+0200
TZNAME:CEST
DTSTART:20260329T010000
END:DAYLIGHT
BEGIN:STANDARD
TZOFFSETFROM:+0200
TZOFFSETTO:+0100
TZNAME:CET
DTSTART:20261025T010000
END:STANDARD
BEGIN:DAYLIGHT
TZOFFSETFROM:+0100
TZOFFSETTO:+0200
TZNAME:CEST
DTSTART:20270328T010000
END:DAYLIGHT
BEGIN:STANDARD
TZOFFSETFROM:+0200
TZOFFSETTO:+0100
TZNAME:CET
DTSTART:20271031T010000
END:STANDARD
END:VTIMEZONE
BEGIN:VEVENT
DTSTART;TZID=Europe/Madrid:20260115T200000
DTEND;TZID=Europe/Madrid:20260115T233000
DTSTAMP:20260420T004622
CREATED:20251105T172230Z
LAST-MODIFIED:20251108T235901Z
UID:25869-1768507200-1768519800@www.carnavaldecadiz.com
SUMMARY:COAC 2026. 5ª Sesión de Preliminares
DESCRIPTION:Orden de actuación:\n\nCoro – ADN – Ficha\nChirigota – SAN TARATACHIN – Ficha\nComparsa – LA HIPÓCRITA – Ficha\nChirigota – LOS CADISAPIENS (LA INVOLUCIÓN) – Ficha\nComparsa – LOS TRAPOS SUCIOS – Ficha\nChirigota – LOS LEGIAS CON G – Ficha\nComparsa – CULPABLE – Ficha\n\nEn negrita cabeza de serie \nVer listado de AGRUPACIONES \nVer listado de AGRUPACIONES CALLEJERAS
URL:https://www.carnavaldecadiz.com/event/coac-2026-5a-sesion-de-preliminares/
LOCATION:Gran Teatro Falla\, Plaza Fragela s/n\, Cádiz\, Cádiz\, 11003\, España
CATEGORIES:actuaciones de carnaval,COAC
ATTACH;FMTTYPE=image/jpeg:https://www.carnavaldecadiz.com/wp-content/uploads/2023/11/LOGO-COAC.jpg
END:VEVENT
END:VCALENDAR