BEGIN:VCALENDAR
VERSION:2.0
PRODID:-//Carnaval de C&aacute;diz - ECPv6.15.20//NONSGML v1.0//EN
CALSCALE:GREGORIAN
METHOD:PUBLISH
X-WR-CALNAME:Carnaval de C&aacute;diz
X-ORIGINAL-URL:https://www.carnavaldecadiz.com
X-WR-CALDESC:Eventos para Carnaval de C&aacute;diz
REFRESH-INTERVAL;VALUE=DURATION:PT1H
X-Robots-Tag:noindex
X-PUBLISHED-TTL:PT1H
BEGIN:VTIMEZONE
TZID:Europe/Madrid
BEGIN:DAYLIGHT
TZOFFSETFROM:+0100
TZOFFSETTO:+0200
TZNAME:CEST
DTSTART:20240331T010000
END:DAYLIGHT
BEGIN:STANDARD
TZOFFSETFROM:+0200
TZOFFSETTO:+0100
TZNAME:CET
DTSTART:20241027T010000
END:STANDARD
BEGIN:DAYLIGHT
TZOFFSETFROM:+0100
TZOFFSETTO:+0200
TZNAME:CEST
DTSTART:20250330T010000
END:DAYLIGHT
BEGIN:STANDARD
TZOFFSETFROM:+0200
TZOFFSETTO:+0100
TZNAME:CET
DTSTART:20251026T010000
END:STANDARD
BEGIN:DAYLIGHT
TZOFFSETFROM:+0100
TZOFFSETTO:+0200
TZNAME:CEST
DTSTART:20260329T010000
END:DAYLIGHT
BEGIN:STANDARD
TZOFFSETFROM:+0200
TZOFFSETTO:+0100
TZNAME:CET
DTSTART:20261025T010000
END:STANDARD
END:VTIMEZONE
BEGIN:VEVENT
DTSTART;TZID=Europe/Madrid:20251220T203000
DTEND;TZID=Europe/Madrid:20251220T223000
DTSTAMP:20260420T022637
CREATED:20251208T192116Z
LAST-MODIFIED:20251208T192116Z
UID:26684-1766262600-1766269800@www.carnavaldecadiz.com
SUMMARY:XXXVIII Festival de Murgas y Chirigotas
DESCRIPTION:Chirigota invitada ‘LOS CALAITA’ \nDonativo 4€ a beneficio de la Asociación de Autismo ‘LA MANCHA’
URL:https://www.carnavaldecadiz.com/event/xxxviii-festival-de-murgas-y-chirigotas/
LOCATION:Teatro Emilio Gavira\, Alcazar de San Juan\, calle Lepanto 17\, Alcazar de San Juan\, Ciudad Real\, 13600\, Spain
CATEGORIES:actuaciones de carnaval
END:VEVENT
END:VCALENDAR