BEGIN:VCALENDAR
VERSION:2.0
PRODID:-//Carnaval de C&aacute;diz - ECPv6.15.20//NONSGML v1.0//EN
CALSCALE:GREGORIAN
METHOD:PUBLISH
X-WR-CALNAME:Carnaval de C&aacute;diz
X-ORIGINAL-URL:https://www.carnavaldecadiz.com
X-WR-CALDESC:Eventos para Carnaval de C&aacute;diz
REFRESH-INTERVAL;VALUE=DURATION:PT1H
X-Robots-Tag:noindex
X-PUBLISHED-TTL:PT1H
BEGIN:VTIMEZONE
TZID:Europe/Madrid
BEGIN:DAYLIGHT
TZOFFSETFROM:+0100
TZOFFSETTO:+0200
TZNAME:CEST
DTSTART:20240331T010000
END:DAYLIGHT
BEGIN:STANDARD
TZOFFSETFROM:+0200
TZOFFSETTO:+0100
TZNAME:CET
DTSTART:20241027T010000
END:STANDARD
BEGIN:DAYLIGHT
TZOFFSETFROM:+0100
TZOFFSETTO:+0200
TZNAME:CEST
DTSTART:20250330T010000
END:DAYLIGHT
BEGIN:STANDARD
TZOFFSETFROM:+0200
TZOFFSETTO:+0100
TZNAME:CET
DTSTART:20251026T010000
END:STANDARD
BEGIN:DAYLIGHT
TZOFFSETFROM:+0100
TZOFFSETTO:+0200
TZNAME:CEST
DTSTART:20260329T010000
END:DAYLIGHT
BEGIN:STANDARD
TZOFFSETFROM:+0200
TZOFFSETTO:+0100
TZNAME:CET
DTSTART:20261025T010000
END:STANDARD
END:VTIMEZONE
BEGIN:VEVENT
DTSTART;TZID=Europe/Madrid:20251206T160000
DTEND;TZID=Europe/Madrid:20251206T170000
DTSTAMP:20260420T022637
CREATED:20251125T124140Z
LAST-MODIFIED:20251125T124140Z
UID:26444-1765036800-1765040400@www.carnavaldecadiz.com
SUMMARY:Antología de 'Pedro Majara' en Caño 18
DESCRIPTION:Menú 35€ \nReservas 658933689
URL:https://www.carnavaldecadiz.com/event/antologia-de-pedro-majara-en-cano-18/
LOCATION:Caño 18 Gastrobar\, calle San Juan Bautista\, local 7\, San Fernando\, Cádiz\, 11100
CATEGORIES:actuaciones de carnaval
END:VEVENT
BEGIN:VEVENT
DTSTART;TZID=Europe/Madrid:20251206T200000
DTEND;TZID=Europe/Madrid:20251206T213000
DTSTAMP:20260420T022638
CREATED:20251125T123754Z
LAST-MODIFIED:20251125T123754Z
UID:26440-1765051200-1765056600@www.carnavaldecadiz.com
SUMMARY:Milian Oneto\, Alicia Trinidad y Dani Bommati en la Peña Colorete
DESCRIPTION:Donativo 15 € \nReservas 618639152
URL:https://www.carnavaldecadiz.com/event/milian-oneto-alicia-trinidad-y-dani-bommati-en-la-pena-colorete/
LOCATION:Peña Colorete\, Almodovar del Río\, calle Federico García Lorca\, 5\, Almodovar del Río\, Córdoba\, 14720\, Spain
CATEGORIES:actuaciones de carnaval
END:VEVENT
BEGIN:VEVENT
DTSTART;TZID=Europe/Madrid:20251206T210000
DTEND;TZID=Europe/Madrid:20251206T233000
DTSTAMP:20260420T022638
CREATED:20251125T125126Z
LAST-MODIFIED:20251125T125126Z
UID:26450-1765054800-1765063800@www.carnavaldecadiz.com
SUMMARY:Javier y Carmen Tizón\, con Juan Blanco y Manolín Santander en el Pay-pay
DESCRIPTION:Compra y reserva de localidades en Café Teatro Pay-pay
URL:https://www.carnavaldecadiz.com/event/javier-y-carmen-tizon-con-juan-blanco-y-manolin-santander-en-el-pay-pay/
LOCATION:Café Tatro Pay Pay\, C/ Silencio\, Cádiz\, Cádiz\, 11002
CATEGORIES:actuaciones de carnaval
END:VEVENT
BEGIN:VEVENT
DTSTART;TZID=Europe/Madrid:20251206T213000
DTEND;TZID=Europe/Madrid:20251206T233000
DTSTAMP:20260420T022638
CREATED:20251125T130126Z
LAST-MODIFIED:20251125T130126Z
UID:26453-1765056600-1765063800@www.carnavaldecadiz.com
SUMMARY:'El entierro del Foam' Última actuación de la Chirigota del Canijo
DESCRIPTION:A la espera de recibir más información del evento.
URL:https://www.carnavaldecadiz.com/event/el-entierro-del-foam-ultima-actuacion-de-la-chirigota-del-canijo/
LOCATION:Colegio Salesianos\, Cádiz\, Avenida María Auxiliadora 7\, Cádiz\, Cádiz\, 11009\, España
CATEGORIES:actuaciones de carnaval
END:VEVENT
END:VCALENDAR