BEGIN:VCALENDAR
VERSION:2.0
PRODID:-//Carnaval de C&aacute;diz - ECPv6.15.20//NONSGML v1.0//EN
CALSCALE:GREGORIAN
METHOD:PUBLISH
X-WR-CALNAME:Carnaval de C&aacute;diz
X-ORIGINAL-URL:https://www.carnavaldecadiz.com
X-WR-CALDESC:Eventos para Carnaval de C&aacute;diz
REFRESH-INTERVAL;VALUE=DURATION:PT1H
X-Robots-Tag:noindex
X-PUBLISHED-TTL:PT1H
BEGIN:VTIMEZONE
TZID:Europe/Madrid
BEGIN:DAYLIGHT
TZOFFSETFROM:+0100
TZOFFSETTO:+0200
TZNAME:CEST
DTSTART:20240331T010000
END:DAYLIGHT
BEGIN:STANDARD
TZOFFSETFROM:+0200
TZOFFSETTO:+0100
TZNAME:CET
DTSTART:20241027T010000
END:STANDARD
BEGIN:DAYLIGHT
TZOFFSETFROM:+0100
TZOFFSETTO:+0200
TZNAME:CEST
DTSTART:20250330T010000
END:DAYLIGHT
BEGIN:STANDARD
TZOFFSETFROM:+0200
TZOFFSETTO:+0100
TZNAME:CET
DTSTART:20251026T010000
END:STANDARD
BEGIN:DAYLIGHT
TZOFFSETFROM:+0100
TZOFFSETTO:+0200
TZNAME:CEST
DTSTART:20260329T010000
END:DAYLIGHT
BEGIN:STANDARD
TZOFFSETFROM:+0200
TZOFFSETTO:+0100
TZNAME:CET
DTSTART:20261025T010000
END:STANDARD
END:VTIMEZONE
BEGIN:VEVENT
DTSTART;TZID=Europe/Madrid:20251130T170000
DTEND;TZID=Europe/Madrid:20251130T183000
DTSTAMP:20260420T040429
CREATED:20251121T160324Z
LAST-MODIFIED:20251121T160324Z
UID:26398-1764522000-1764527400@www.carnavaldecadiz.com
SUMMARY:Carnaval de Cádiz en Algaidas
DESCRIPTION:Actuará el trío de Carnaval formado por: Brenda García\, Miriam Ballesteros y Manolín Santander
URL:https://www.carnavaldecadiz.com/event/carnaval-de-cadiz-en-algaidas/
LOCATION:Parque Arenal\, Algaidas\, calle Camino del Albaicín 1\, Villanueva de Algaidas\, Málaga\, 29310\, Spain
CATEGORIES:actuaciones de carnaval
END:VEVENT
BEGIN:VEVENT
DTSTART;TZID=Europe/Madrid:20251130T190000
DTEND;TZID=Europe/Madrid:20251130T210000
DTSTAMP:20260420T040429
CREATED:20251125T121350Z
LAST-MODIFIED:20251125T121350Z
UID:26428-1764529200-1764536400@www.carnavaldecadiz.com
SUMMARY:'El Ramper' de Jesús Bienvenido en Badajoz
DESCRIPTION:Compre en línea de LOCALIDADES
URL:https://www.carnavaldecadiz.com/event/el-ramper-de-jesus-bienvenido-en-badajoz/
LOCATION:Palacio de Congresos de Badajoz\, ronda del Pilar s/n\, Badajoz\, Badajoz\, 06002\, España
CATEGORIES:actuaciones de carnaval
END:VEVENT
END:VCALENDAR