BEGIN:VCALENDAR
VERSION:2.0
PRODID:-//Carnaval de C&aacute;diz - ECPv6.15.20//NONSGML v1.0//EN
CALSCALE:GREGORIAN
METHOD:PUBLISH
X-ORIGINAL-URL:https://www.carnavaldecadiz.com
X-WR-CALDESC:Eventos para Carnaval de C&aacute;diz
REFRESH-INTERVAL;VALUE=DURATION:PT1H
X-Robots-Tag:noindex
X-PUBLISHED-TTL:PT1H
BEGIN:VTIMEZONE
TZID:Europe/Madrid
BEGIN:DAYLIGHT
TZOFFSETFROM:+0100
TZOFFSETTO:+0200
TZNAME:CEST
DTSTART:20240331T010000
END:DAYLIGHT
BEGIN:STANDARD
TZOFFSETFROM:+0200
TZOFFSETTO:+0100
TZNAME:CET
DTSTART:20241027T010000
END:STANDARD
BEGIN:DAYLIGHT
TZOFFSETFROM:+0100
TZOFFSETTO:+0200
TZNAME:CEST
DTSTART:20250330T010000
END:DAYLIGHT
BEGIN:STANDARD
TZOFFSETFROM:+0200
TZOFFSETTO:+0100
TZNAME:CET
DTSTART:20251026T010000
END:STANDARD
BEGIN:DAYLIGHT
TZOFFSETFROM:+0100
TZOFFSETTO:+0200
TZNAME:CEST
DTSTART:20260329T010000
END:DAYLIGHT
BEGIN:STANDARD
TZOFFSETFROM:+0200
TZOFFSETTO:+0100
TZNAME:CET
DTSTART:20261025T010000
END:STANDARD
END:VTIMEZONE
BEGIN:VEVENT
DTSTART;TZID=Europe/Madrid:20251128T200000
DTEND;TZID=Europe/Madrid:20251128T223000
DTSTAMP:20260420T040614
CREATED:20251125T114537Z
LAST-MODIFIED:20251125T114537Z
UID:26418-1764360000-1764369000@www.carnavaldecadiz.com
SUMMARY:Tarde de Romanceros en 'La Cara B'
DESCRIPTION:Actuarán los siguientes romanceros: \n\n‘Vaya plan’ – Mamen\n‘Gris clarito’- Juanjosé\n‘Tu hazlo al pié de la letra’ – Javi Outón\n‘I will destroy this associaton’ – Antonio Beiro\n‘Po toma\, por idiota’ – Sofía Letrán\n‘Paracetamol hay que venir al sur’ – Eva Gómez\n‘El exfranquista’ – Abraham\n‘Este año voy a salir’ – Agus\n‘Un hermano… má’ – Ivan y Manuel\n\nEvento público de libre acceso. \n 
URL:https://www.carnavaldecadiz.com/event/tarde-de-romanceros-en-la-cara-b-2/
LOCATION:La Cara B\, Cádiz\, calle Isabel la Católica 3\, Cádiz\, Cádiz\, 11004\, Spain
CATEGORIES:actuaciones de carnaval
END:VEVENT
BEGIN:VEVENT
DTSTART;TZID=Europe/Madrid:20251128T210000
DTEND;TZID=Europe/Madrid:20251128T220000
DTSTAMP:20260420T040614
CREATED:20251121T153259Z
LAST-MODIFIED:20251121T153259Z
UID:26378-1764363600-1764367200@www.carnavaldecadiz.com
SUMMARY:Carnaval de Cádiz en Marbella
DESCRIPTION:Actuará el trío de carnaval formado por: Chema\, Suso y Jessica. \nDonativo 5€
URL:https://www.carnavaldecadiz.com/event/carnaval-de-cadiz-en-marbella-2/
LOCATION:Asociación Cultural Carnavalesca Marbellí ACCM\, calle José Iturbi 8\, 10\, Marbella\, Málaga\, 29603\, España
CATEGORIES:actuaciones de carnaval
END:VEVENT
END:VCALENDAR