BEGIN:VCALENDAR
VERSION:2.0
PRODID:-//Carnaval de C&aacute;diz - ECPv6.15.20//NONSGML v1.0//EN
CALSCALE:GREGORIAN
METHOD:PUBLISH
X-WR-CALNAME:Carnaval de C&aacute;diz
X-ORIGINAL-URL:https://www.carnavaldecadiz.com
X-WR-CALDESC:Eventos para Carnaval de C&aacute;diz
REFRESH-INTERVAL;VALUE=DURATION:PT1H
X-Robots-Tag:noindex
X-PUBLISHED-TTL:PT1H
BEGIN:VTIMEZONE
TZID:Europe/Madrid
BEGIN:DAYLIGHT
TZOFFSETFROM:+0100
TZOFFSETTO:+0200
TZNAME:CEST
DTSTART:20240331T010000
END:DAYLIGHT
BEGIN:STANDARD
TZOFFSETFROM:+0200
TZOFFSETTO:+0100
TZNAME:CET
DTSTART:20241027T010000
END:STANDARD
BEGIN:DAYLIGHT
TZOFFSETFROM:+0100
TZOFFSETTO:+0200
TZNAME:CEST
DTSTART:20250330T010000
END:DAYLIGHT
BEGIN:STANDARD
TZOFFSETFROM:+0200
TZOFFSETTO:+0100
TZNAME:CET
DTSTART:20251026T010000
END:STANDARD
BEGIN:DAYLIGHT
TZOFFSETFROM:+0100
TZOFFSETTO:+0200
TZNAME:CEST
DTSTART:20260329T010000
END:DAYLIGHT
BEGIN:STANDARD
TZOFFSETFROM:+0200
TZOFFSETTO:+0100
TZNAME:CET
DTSTART:20261025T010000
END:STANDARD
END:VTIMEZONE
BEGIN:VEVENT
DTSTART;TZID=Europe/Madrid:20251125T130000
DTEND;TZID=Europe/Madrid:20251125T170000
DTSTAMP:20260420T040434
CREATED:20251121T152756Z
LAST-MODIFIED:20251121T152756Z
UID:26375-1764075600-1764090000@www.carnavaldecadiz.com
SUMMARY:Batalla de Coplas en 'La Tizná'
DESCRIPTION:Precio de las entradas: \nSocios 2€ y menores socios de 4 a 12 años gratis \nNo socios 8€ y menores de 5 a 12 años 1€ \nVenta de entradas en la Casa de la Cultura
URL:https://www.carnavaldecadiz.com/event/batalla-de-coplas-en-la-tizna/
LOCATION:La Tizná\, Sevilla\, calle Camilo José Cela 1\, Sevilla\, Sevilla\, 41018\, Spain
CATEGORIES:actuaciones de carnaval
END:VEVENT
END:VCALENDAR