BEGIN:VCALENDAR
VERSION:2.0
PRODID:-//Carnaval de C&aacute;diz - ECPv6.15.20//NONSGML v1.0//EN
CALSCALE:GREGORIAN
METHOD:PUBLISH
X-WR-CALNAME:Carnaval de C&aacute;diz
X-ORIGINAL-URL:https://www.carnavaldecadiz.com
X-WR-CALDESC:Eventos para Carnaval de C&aacute;diz
REFRESH-INTERVAL;VALUE=DURATION:PT1H
X-Robots-Tag:noindex
X-PUBLISHED-TTL:PT1H
BEGIN:VTIMEZONE
TZID:Europe/Madrid
BEGIN:DAYLIGHT
TZOFFSETFROM:+0100
TZOFFSETTO:+0200
TZNAME:CEST
DTSTART:20240331T010000
END:DAYLIGHT
BEGIN:STANDARD
TZOFFSETFROM:+0200
TZOFFSETTO:+0100
TZNAME:CET
DTSTART:20241027T010000
END:STANDARD
BEGIN:DAYLIGHT
TZOFFSETFROM:+0100
TZOFFSETTO:+0200
TZNAME:CEST
DTSTART:20250330T010000
END:DAYLIGHT
BEGIN:STANDARD
TZOFFSETFROM:+0200
TZOFFSETTO:+0100
TZNAME:CET
DTSTART:20251026T010000
END:STANDARD
BEGIN:DAYLIGHT
TZOFFSETFROM:+0100
TZOFFSETTO:+0200
TZNAME:CEST
DTSTART:20260329T010000
END:DAYLIGHT
BEGIN:STANDARD
TZOFFSETFROM:+0200
TZOFFSETTO:+0100
TZNAME:CET
DTSTART:20261025T010000
END:STANDARD
END:VTIMEZONE
BEGIN:VEVENT
DTSTART;VALUE=DATE:20251120
DTEND;VALUE=DATE:20251124
DTSTAMP:20260420T040434
CREATED:20251115T192916Z
LAST-MODIFIED:20251115T194807Z
UID:26221-1763596800-1763942399@www.carnavaldecadiz.com
SUMMARY:Semana Cultual de la ACC 'EL PITIJOPO'
DESCRIPTION:PROGRAMA \nJueves 20 de noviembre – En la casa de la Juventud de Sanlúcar a las 20:00h \nCharla – Coloquio ‘EL CARNAVAL DE HACE 50 AÑOS’ \nPonentes: Luis Ripoll Lázaro y Bernardo Caro Bernal \nModera: Diego Fariñas Baro \nViernes 21 de noviembre – Bar “Tienda Enmedio’ a las 20:00h \nCeremonia de entrega de los galardones de la Asociación ‘PITIJOPO DE ORO’ a: \n\nCatering y Eventos “Las niñas”\nÁlvaro Pérez Vega “Guachi”\nRafael Rodríguez Venegas “Pay”\n\nPresentación del pregonero de la Asociación para el Carnaval 2026 – Rubén Galán Lara \nPresenta Juan José del Ojo Martínez\, pregonero del Carnaval 2025 \nSábado 22 de noviembre – Bar “Tienda Enmedio’ a las 20:00h \nPresentación del libro “Artículos de Carnaval y otros recuerdos” de Cristina Braza Noriega \nCharla – Coloquio “Papel de la mujer en el Carnaval de Cádiz” \nPonentes: Cristina Braza Noriega y Pilar García \nModera: Rocía Hermoso Romo \nDomingo 23 de noviembre – Convivencia final entre socios y amigos de la asociación \nMás información 687 512 254 (Rocío) \nTodos son eventos públicos de libre acceso. \n  \n 
URL:https://www.carnavaldecadiz.com/event/semana-cultual-de-la-c-el-pitijopo/
LOCATION:Bar ‘Tienda de Enmedio’\, Sanlúcar.\, Plaza Puerta de Jerez s/n\, Sanlúcar de Barrameda\, Cádiz\, 11540\, Spain
CATEGORIES:actuaciones de carnaval,conferencia de carnaval,evento gastronómico
END:VEVENT
BEGIN:VEVENT
DTSTART;TZID=Europe/Madrid:20251122T120000
DTEND;TZID=Europe/Madrid:20251122T143000
DTSTAMP:20260420T040434
CREATED:20251115T205832Z
LAST-MODIFIED:20251115T205832Z
UID:26257-1763812800-1763821800@www.carnavaldecadiz.com
SUMMARY:Carnaval de Cádiz en Mérida
DESCRIPTION:Actuación del cuarteto ‘KU KLUX KLAN KLAN’ en la entrega de los Premios XXIII Turuta de Oro
URL:https://www.carnavaldecadiz.com/event/carnaval-de-cadiz-en-merida-7/
LOCATION:Teatro María Luisa\, Mérida\, calle Camilo José Cela 11\, Mérida\, Badajoz\, 06800\, Spain
CATEGORIES:actuaciones de carnaval
END:VEVENT
BEGIN:VEVENT
DTSTART;TZID=Europe/Madrid:20251122T120000
DTEND;TZID=Europe/Madrid:20251122T150000
DTSTAMP:20260420T040434
CREATED:20251115T204823Z
LAST-MODIFIED:20251115T204823Z
UID:26250-1763812800-1763823600@www.carnavaldecadiz.com
SUMMARY:Carnaval de Cádiz en Madrid
DESCRIPTION:Actuarán: \n\nChirigota – LOS CALAITA\nComparsa – LAS RATAS\n\nCompra en línea de LOCALIDADES
URL:https://www.carnavaldecadiz.com/event/carnaval-de-cadiz-en-madrid-2/
LOCATION:Teatro la Latina\, Plaza de la cebada 2\, Madrid\, Madrid\, 28005\, España
CATEGORIES:actuaciones de carnaval
END:VEVENT
BEGIN:VEVENT
DTSTART;TZID=Europe/Madrid:20251122T140000
DTEND;TZID=Europe/Madrid:20251122T180000
DTSTAMP:20260420T040434
CREATED:20251115T202426Z
LAST-MODIFIED:20251115T202426Z
UID:26236-1763820000-1763834400@www.carnavaldecadiz.com
SUMMARY:Carnaval de Cádiz en Málaga
DESCRIPTION:Reservas 622 495 727 \nLos 10€ de la entrada incluye plato de arroz
URL:https://www.carnavaldecadiz.com/event/carnaval-de-cadiz-en-malaga-12/
LOCATION:Bocatería Las Delfines\, Málaga\, plaza de la Misericordia 6\, Málaga\, Málaga\, 29014\, Spain
CATEGORIES:actuaciones de carnaval
END:VEVENT
BEGIN:VEVENT
DTSTART;TZID=Europe/Madrid:20251122T170000
DTEND;TZID=Europe/Madrid:20251122T180000
DTSTAMP:20260420T040434
CREATED:20251115T203844Z
LAST-MODIFIED:20251115T203844Z
UID:26246-1763830800-1763834400@www.carnavaldecadiz.com
SUMMARY:Carnaval de Cádiz en Aracena
DESCRIPTION:Información y reservas 697 610 017
URL:https://www.carnavaldecadiz.com/event/carnaval-de-cadiz-en-aracena-2/
LOCATION:Bar Joaquinto\, Aracena\, calle Pozo de la Nieve 18\, Aracena\, Huelva\, Spain
CATEGORIES:actuaciones de carnaval
END:VEVENT
BEGIN:VEVENT
DTSTART;TZID=Europe/Madrid:20251122T170000
DTEND;TZID=Europe/Madrid:20251122T180000
DTSTAMP:20260420T040434
CREATED:20251121T143629Z
LAST-MODIFIED:20251121T143629Z
UID:26368-1763830800-1763834400@www.carnavaldecadiz.com
SUMMARY:Tardeo de Carnaval en Casa Palacios
DESCRIPTION:Actuará el dúo compuesto por Tamara Beardo y Toni Piojo \n 
URL:https://www.carnavaldecadiz.com/event/tardeo-de-carnaval-en-casa-palacios/
LOCATION:Casa Palacios\, Cádiz\, calle Obispo José María Rancés\, Cádiz\, Cádiz\, 11005\, Spain
CATEGORIES:actuaciones de carnaval
END:VEVENT
BEGIN:VEVENT
DTSTART;TZID=Europe/Madrid:20251122T170000
DTEND;TZID=Europe/Madrid:20251122T210000
DTSTAMP:20260420T040434
CREATED:20251121T141811Z
LAST-MODIFIED:20251121T141811Z
UID:26360-1763830800-1763845200@www.carnavaldecadiz.com
SUMMARY:Carnaval en la Taberna Gadeiras\, San Fernando
DESCRIPTION:Actuaran entre otros: \n\nAntología Sal e Coplas\nAntología Los Piriñacas\nAntología Los Taratachin\nRamoni de Casto\n\nEvento público de libre acceso.
URL:https://www.carnavaldecadiz.com/event/carnaval-en-la-taberna-gadeiras-san-fernando/
LOCATION:Taberna Gadeiras\, San Fernando\, calle Hermanos Laulhe\, 16\, San Fernando\, Cádiz\, 11100\, Spain
CATEGORIES:actuaciones de carnaval
END:VEVENT
BEGIN:VEVENT
DTSTART;TZID=Europe/Madrid:20251122T200000
DTEND;TZID=Europe/Madrid:20251122T210000
DTSTAMP:20260420T040434
CREATED:20251115T202911Z
LAST-MODIFIED:20251115T202911Z
UID:26240-1763841600-1763845200@www.carnavaldecadiz.com
SUMMARY:Actuación de la Antología 'LOS CLERIGUILLOS'
DESCRIPTION:Evento público de libre acceso.
URL:https://www.carnavaldecadiz.com/event/actuacion-de-la-antologia-los-cleriguillos/
LOCATION:Peña Carnavalesca Perico Alcantara\, Chiclana\, calle Paciano del Barco 2\, bajo\, Chiclana de la Frontera\, Cádiz\, 11130\, Spain
CATEGORIES:actuaciones de carnaval
END:VEVENT
BEGIN:VEVENT
DTSTART;TZID=Europe/Madrid:20251122T200000
DTEND;TZID=Europe/Madrid:20251122T210000
DTSTAMP:20260420T040434
CREATED:20251115T205349Z
LAST-MODIFIED:20251115T205349Z
UID:26253-1763841600-1763845200@www.carnavaldecadiz.com
SUMMARY:Carnaval de Cádiz en Málaga
DESCRIPTION:Actuará el dúo formado por Germán Rendón y Lali. \nReservas 622 629 231
URL:https://www.carnavaldecadiz.com/event/carnaval-de-cadiz-en-malaga-13/
LOCATION:Peña Casa de Alora\, Málaga\, calle Corregidores Viciana \, 6\, Málaga\, Málaga\, 29007\, Spain
CATEGORIES:actuaciones de carnaval
END:VEVENT
BEGIN:VEVENT
DTSTART;TZID=Europe/Madrid:20251122T210000
DTEND;TZID=Europe/Madrid:20251122T220000
DTSTAMP:20260420T040434
CREATED:20251115T201531Z
LAST-MODIFIED:20251115T201531Z
UID:26231-1763845200-1763848800@www.carnavaldecadiz.com
SUMMARY:Rafael Aranda 'Taleguilla' en Arriate
DESCRIPTION:Reservas 605096949
URL:https://www.carnavaldecadiz.com/event/rafael-aranda-taleguilla-en-arriate/
LOCATION:Pub Canario\, Arriate\, calle Lope de Vega\, 17\, Arriate\, Málaga\, 29350\, Spain
CATEGORIES:actuaciones de carnaval
END:VEVENT
BEGIN:VEVENT
DTSTART;TZID=Europe/Madrid:20251122T210000
DTEND;TZID=Europe/Madrid:20251122T223000
DTSTAMP:20260420T040434
CREATED:20250930T194056Z
LAST-MODIFIED:20250930T194056Z
UID:24550-1763845200-1763850600@www.carnavaldecadiz.com
SUMMARY:Alicia Trinidad y Milián Oneto en Cuatro Gatos
DESCRIPTION:
URL:https://www.carnavaldecadiz.com/event/alicia-trinidad-y-milian-oneto-en-cuatro-gatos/
LOCATION:Cuatro Gatos\, Sevilla\, calle Madre Dolores Marquez 11\, Sevilla\, Sevilla\, 41003\, España
CATEGORIES:actuaciones de carnaval
END:VEVENT
BEGIN:VEVENT
DTSTART;TZID=Europe/Madrid:20251122T210000
DTEND;TZID=Europe/Madrid:20251122T233000
DTSTAMP:20260420T040434
CREATED:20251117T130940Z
LAST-MODIFIED:20251117T130940Z
UID:26283-1763845200-1763854200@www.carnavaldecadiz.com
SUMMARY:¡Que vivan las mujeres! en el Pay-pay
DESCRIPTION:Reserva y compra de localidades en Café Teatro Pay-pay
URL:https://www.carnavaldecadiz.com/event/que-vivan-las-mujeres-en-el-pay-pay/
LOCATION:Café Tatro Pay Pay\, C/ Silencio\, Cádiz\, Cádiz\, 11002
CATEGORIES:actuaciones de carnaval
END:VEVENT
BEGIN:VEVENT
DTSTART;TZID=Europe/Madrid:20251122T210000
DTEND;TZID=Europe/Madrid:20251122T233000
DTSTAMP:20260420T040434
CREATED:20251117T131629Z
LAST-MODIFIED:20251117T131629Z
UID:26286-1763845200-1763854200@www.carnavaldecadiz.com
SUMMARY:Cena de Carnaval de la Peña Tatachin en 'LA RANA VERDE'
DESCRIPTION:La Peña Tatachin de la Frontera organiza una noche de sabor \, fiesta y mucha alegría para brindar por un año nuevo. \nReservas 682 6916 79 o en la Peña Tatachin.
URL:https://www.carnavaldecadiz.com/event/cena-de-carnaval-de-la-pena-tatachin-en-la-rana-verde/
LOCATION:Camping La Rana Verde\, Chiclana\, Carretera de las Lagunas s/n\, Chiclana de la Frontera\, Cádiz\, 11130\, Spain
CATEGORIES:actuaciones de carnaval
END:VEVENT
BEGIN:VEVENT
DTSTART;TZID=Europe/Madrid:20251122T213000
DTEND;TZID=Europe/Madrid:20251122T230000
DTSTAMP:20260420T040434
CREATED:20251121T142923Z
LAST-MODIFIED:20251121T142923Z
UID:26364-1763847000-1763852400@www.carnavaldecadiz.com
SUMMARY:Actuación de la Comparsa 'We can do... Carnaval' en Murcia
DESCRIPTION:Evento público de libre acceso.
URL:https://www.carnavaldecadiz.com/event/actuacion-de-la-comparsa-we-can-do-carnaval-en-murcia/
LOCATION:Palacio de Congresos Infanta Doña Elena. Aguilas\, calle Aire 153\, Águilas\, Murcia\, 30880\, Spain
CATEGORIES:actuaciones de carnaval
END:VEVENT
END:VCALENDAR