BEGIN:VCALENDAR
VERSION:2.0
PRODID:-//Carnaval de C&aacute;diz - ECPv6.15.20//NONSGML v1.0//EN
CALSCALE:GREGORIAN
METHOD:PUBLISH
X-WR-CALNAME:Carnaval de C&aacute;diz
X-ORIGINAL-URL:https://www.carnavaldecadiz.com
X-WR-CALDESC:Eventos para Carnaval de C&aacute;diz
REFRESH-INTERVAL;VALUE=DURATION:PT1H
X-Robots-Tag:noindex
X-PUBLISHED-TTL:PT1H
BEGIN:VTIMEZONE
TZID:Europe/Madrid
BEGIN:DAYLIGHT
TZOFFSETFROM:+0100
TZOFFSETTO:+0200
TZNAME:CEST
DTSTART:20240331T010000
END:DAYLIGHT
BEGIN:STANDARD
TZOFFSETFROM:+0200
TZOFFSETTO:+0100
TZNAME:CET
DTSTART:20241027T010000
END:STANDARD
BEGIN:DAYLIGHT
TZOFFSETFROM:+0100
TZOFFSETTO:+0200
TZNAME:CEST
DTSTART:20250330T010000
END:DAYLIGHT
BEGIN:STANDARD
TZOFFSETFROM:+0200
TZOFFSETTO:+0100
TZNAME:CET
DTSTART:20251026T010000
END:STANDARD
BEGIN:DAYLIGHT
TZOFFSETFROM:+0100
TZOFFSETTO:+0200
TZNAME:CEST
DTSTART:20260329T010000
END:DAYLIGHT
BEGIN:STANDARD
TZOFFSETFROM:+0200
TZOFFSETTO:+0100
TZNAME:CET
DTSTART:20261025T010000
END:STANDARD
END:VTIMEZONE
BEGIN:VEVENT
DTSTART;TZID=Europe/Madrid:20251116T180000
DTEND;TZID=Europe/Madrid:20251116T200000
DTSTAMP:20260420T040435
CREATED:20251110T212643Z
LAST-MODIFIED:20251110T212643Z
UID:26062-1763316000-1763323200@www.carnavaldecadiz.com
SUMMARY:Comparsa 'LAS RATAS' en Sevilla
DESCRIPTION:Compra en línea de LOCALIDADES
URL:https://www.carnavaldecadiz.com/event/comparsa-las-ratas-en-sevilla-2/
LOCATION:Teatro los Remedios\, calle Juan Ramón Jimenez 22\, Sevilla\, Sevilla\, 41011\, España
CATEGORIES:actuaciones de carnaval
END:VEVENT
BEGIN:VEVENT
DTSTART;TZID=Europe/Madrid:20251116T190000
DTEND;TZID=Europe/Madrid:20251116T210000
DTSTAMP:20260420T040435
CREATED:20251110T212149Z
LAST-MODIFIED:20251110T212149Z
UID:26059-1763319600-1763326800@www.carnavaldecadiz.com
SUMMARY:'EL FANTASMA DEL TEATRO FALLA' en Cordoba
DESCRIPTION:Inspirada en la novela de Gaston Leroux y el musical de Andrew Lloyd Webber\, El Fantasma de la Ópera\, hemos querido traerlo a una temática netamente gaditana donde explotaremos los recursos tanto musicales como cómicos enraizados en nuestra tradición carnavalesca. \nCompra en línea de LOCALIDADES
URL:https://www.carnavaldecadiz.com/event/el-fantasma-del-teatro-falla-en-cordoba/
LOCATION:Teatro Brillante\, Córdoba\, Colegio La Salle\, carretera de las Hermitas\, Córdoba\, Córdoba\, 14012\, Spain
CATEGORIES:actuaciones de carnaval
END:VEVENT
END:VCALENDAR