BEGIN:VCALENDAR
VERSION:2.0
PRODID:-//Carnaval de C&aacute;diz - ECPv6.15.20//NONSGML v1.0//EN
CALSCALE:GREGORIAN
METHOD:PUBLISH
X-WR-CALNAME:Carnaval de C&aacute;diz
X-ORIGINAL-URL:https://www.carnavaldecadiz.com
X-WR-CALDESC:Eventos para Carnaval de C&aacute;diz
REFRESH-INTERVAL;VALUE=DURATION:PT1H
X-Robots-Tag:noindex
X-PUBLISHED-TTL:PT1H
BEGIN:VTIMEZONE
TZID:Europe/Madrid
BEGIN:DAYLIGHT
TZOFFSETFROM:+0100
TZOFFSETTO:+0200
TZNAME:CEST
DTSTART:20240331T010000
END:DAYLIGHT
BEGIN:STANDARD
TZOFFSETFROM:+0200
TZOFFSETTO:+0100
TZNAME:CET
DTSTART:20241027T010000
END:STANDARD
BEGIN:DAYLIGHT
TZOFFSETFROM:+0100
TZOFFSETTO:+0200
TZNAME:CEST
DTSTART:20250330T010000
END:DAYLIGHT
BEGIN:STANDARD
TZOFFSETFROM:+0200
TZOFFSETTO:+0100
TZNAME:CET
DTSTART:20251026T010000
END:STANDARD
BEGIN:DAYLIGHT
TZOFFSETFROM:+0100
TZOFFSETTO:+0200
TZNAME:CEST
DTSTART:20260329T010000
END:DAYLIGHT
BEGIN:STANDARD
TZOFFSETFROM:+0200
TZOFFSETTO:+0100
TZNAME:CET
DTSTART:20261025T010000
END:STANDARD
END:VTIMEZONE
BEGIN:VEVENT
DTSTART;TZID=Europe/Madrid:20251115T180000
DTEND;TZID=Europe/Madrid:20251115T210000
DTSTAMP:20260420T040433
CREATED:20251110T192635Z
LAST-MODIFIED:20251110T192635Z
UID:26053-1763229600-1763240400@www.carnavaldecadiz.com
SUMMARY:Carnaval Callejero en TREZE\, Badajoz
DESCRIPTION:Actuarán las siguientes agrupaciones callejeras: \n\nLos jorobados de Notre Cadi\nDesomeokupoyo\nLos niños de la cueva\n\nCompra en línea de LOCALIDADES \n 
URL:https://www.carnavaldecadiz.com/event/carnaval-callejero-en-treze-badajoz/
LOCATION:Treze Music Club\, Badajoz\, Treze Music Club\, Badajoz\, Badajoz\, 06005\, España
CATEGORIES:actuaciones de carnaval
END:VEVENT
BEGIN:VEVENT
DTSTART;TZID=Europe/Madrid:20251115T200000
DTEND;TZID=Europe/Madrid:20251115T220000
DTSTAMP:20260420T040433
CREATED:20251110T191036Z
LAST-MODIFIED:20251110T191036Z
UID:26044-1763236800-1763244000@www.carnavaldecadiz.com
SUMMARY:parsa de Piru y Tomate en la Peña Mencantajere
DESCRIPTION:Información y reservas 609658255
URL:https://www.carnavaldecadiz.com/event/parsa-de-piru-y-tomate-en-la-pena-mencantajere/
LOCATION:Peña Mencantajeré\, calla falta 15\, Jerez de la Frontera\, Cádiz\, 11408\, España
CATEGORIES:actuaciones de carnaval
END:VEVENT
BEGIN:VEVENT
DTSTART;TZID=Europe/Madrid:20251115T210000
DTEND;TZID=Europe/Madrid:20251115T220000
DTSTAMP:20260420T040433
CREATED:20251110T211337Z
LAST-MODIFIED:20251110T211337Z
UID:26056-1763240400-1763244000@www.carnavaldecadiz.com
SUMMARY:Romancero 'CAMINA O REVIENTA' en La Sala La Quema\, Jerez
DESCRIPTION:Donativo 10€ \nReservas 676758188
URL:https://www.carnavaldecadiz.com/event/romancero-camina-o-revienta-en-la-sala-la-quema-jerez/
LOCATION:Sala ‘La Quemá’\, Jerez\, plaza Quemada 5\, Jerez de la Frontera\, Cádiz\, 11402\, Spain
CATEGORIES:actuaciones de carnaval
END:VEVENT
BEGIN:VEVENT
DTSTART;TZID=Europe/Madrid:20251115T210000
DTEND;TZID=Europe/Madrid:20251115T230000
DTSTAMP:20260420T040433
CREATED:20251110T191906Z
LAST-MODIFIED:20251110T191906Z
UID:26050-1763240400-1763247600@www.carnavaldecadiz.com
SUMMARY:Ramoni en Hotel Spa Cádiz Plaza
DESCRIPTION:
URL:https://www.carnavaldecadiz.com/event/ramoni-en-hotel-spa-cadiz-plaza/
LOCATION:Hotel Spa Cádiz Plaza\, Glorieta Ana Orantes 3\, Cádiz\, Cádiz\, 11010\, Spain
CATEGORIES:actuaciones de carnaval
END:VEVENT
BEGIN:VEVENT
DTSTART;TZID=Europe/Madrid:20251115T220000
DTEND;TZID=Europe/Madrid:20251115T233000
DTSTAMP:20260420T040433
CREATED:20251110T190005Z
LAST-MODIFIED:20251110T190005Z
UID:26038-1763244000-1763249400@www.carnavaldecadiz.com
SUMMARY:Carnaval en Caño 18
DESCRIPTION:Actuará el trío de carnaval formado por: \nAgustín Zoleta\, Toni Piojo y Manolo Otero \nReservas 658933689
URL:https://www.carnavaldecadiz.com/event/carnaval-en-cano-18-28/
LOCATION:Caño 18 Gastrobar\, calle San Juan Bautista\, local 7\, San Fernando\, Cádiz\, 11100
CATEGORIES:actuaciones de carnaval
END:VEVENT
END:VCALENDAR