BEGIN:VCALENDAR
VERSION:2.0
PRODID:-//Carnaval de C&aacute;diz - ECPv6.15.20//NONSGML v1.0//EN
CALSCALE:GREGORIAN
METHOD:PUBLISH
X-ORIGINAL-URL:https://www.carnavaldecadiz.com
X-WR-CALDESC:Eventos para Carnaval de C&aacute;diz
REFRESH-INTERVAL;VALUE=DURATION:PT1H
X-Robots-Tag:noindex
X-PUBLISHED-TTL:PT1H
BEGIN:VTIMEZONE
TZID:Europe/Madrid
BEGIN:DAYLIGHT
TZOFFSETFROM:+0100
TZOFFSETTO:+0200
TZNAME:CEST
DTSTART:20240331T010000
END:DAYLIGHT
BEGIN:STANDARD
TZOFFSETFROM:+0200
TZOFFSETTO:+0100
TZNAME:CET
DTSTART:20241027T010000
END:STANDARD
BEGIN:DAYLIGHT
TZOFFSETFROM:+0100
TZOFFSETTO:+0200
TZNAME:CEST
DTSTART:20250330T010000
END:DAYLIGHT
BEGIN:STANDARD
TZOFFSETFROM:+0200
TZOFFSETTO:+0100
TZNAME:CET
DTSTART:20251026T010000
END:STANDARD
BEGIN:DAYLIGHT
TZOFFSETFROM:+0100
TZOFFSETTO:+0200
TZNAME:CEST
DTSTART:20260329T010000
END:DAYLIGHT
BEGIN:STANDARD
TZOFFSETFROM:+0200
TZOFFSETTO:+0100
TZNAME:CET
DTSTART:20261025T010000
END:STANDARD
END:VTIMEZONE
BEGIN:VEVENT
DTSTART;TZID=Europe/Madrid:20251114T203000
DTEND;TZID=Europe/Madrid:20251114T233000
DTSTAMP:20260420T040613
CREATED:20251110T181703Z
LAST-MODIFIED:20251110T181703Z
UID:26024-1763152200-1763163000@www.carnavaldecadiz.com
SUMMARY:Noche de Callejeras en Cuatro Gatos\, Sevilla
DESCRIPTION:Actuarán las siguientes agrupaciones callejeras \nLos jorobados de Notre Cadi \nDesomeokupoyo \nLos niños de la cueva
URL:https://www.carnavaldecadiz.com/event/noche-de-callejeras-en-cuatro-gatos/
LOCATION:Cuatro Gatos\, Sevilla\, calle Madre Dolores Marquez 11\, Sevilla\, Sevilla\, 41003\, España
CATEGORIES:actuaciones de carnaval
END:VEVENT
BEGIN:VEVENT
DTSTART;TZID=Europe/Madrid:20251114T210000
DTEND;TZID=Europe/Madrid:20251114T230000
DTSTAMP:20260420T040613
CREATED:20251110T184810Z
LAST-MODIFIED:20251110T184810Z
UID:26028-1763154000-1763161200@www.carnavaldecadiz.com
SUMMARY:X Festival de Carnaval de Osuna
DESCRIPTION:El Teatro Municipal Álvarez Quintero de Osuna acogerá el X Festival de Carnaval de Osuna. donde se podrá disfrutar del espectáculo “El Rámper” de Jesús Bienvenido. \nSe trata de un espectáculo músico-teatral que rescata la memoria histórica a través de la figura de un payaso inspirado en los años veinte. Desde su mirada se narran las represiones sufridas por autores y murgas tras la Guerra Civil. La obra mezcla poesía\, música circense\, ritmos latinoamericanos y flamencos\, creando un viaje emotivo entre recuerdo y arte. Con una puesta en escena cuidada\, rinde homenaje a quienes hicieron del carnaval un acto de libertad. Es\, al mismo tiempo\, un canto de memoria\, resistencia y belleza. \nLas entradas están a la venta en la Casa de la Cultura\, la Oficina de Turismo\, el Teatro Álvarez Quintero o el siguiente enlace:\nhttps://osunacultura.sacatuentrada.es/
URL:https://www.carnavaldecadiz.com/event/x-festival-de-carnaval-de-osuna/
LOCATION:Teatro Álvarez Quintero\, Osuna\, calle Luis de Molina\, Osuna\, Sevilla\, 41640\, Spain
CATEGORIES:actuaciones de carnaval
END:VEVENT
BEGIN:VEVENT
DTSTART;TZID=Europe/Madrid:20251114T210000
DTEND;TZID=Europe/Madrid:20251114T233000
DTSTAMP:20260420T040613
CREATED:20251110T185239Z
LAST-MODIFIED:20251110T185239Z
UID:26032-1763154000-1763163000@www.carnavaldecadiz.com
SUMMARY:Estela Casado en el Pay-pay
DESCRIPTION:Reserva y compra de localidades en Café Teatro Pay-pay
URL:https://www.carnavaldecadiz.com/event/estela-casado-en-el-pay-pay/
LOCATION:Café Tatro Pay Pay\, C/ Silencio\, Cádiz\, Cádiz\, 11002
CATEGORIES:actuaciones de carnaval
END:VEVENT
BEGIN:VEVENT
DTSTART;TZID=Europe/Madrid:20251114T220000
DTEND;TZID=Europe/Madrid:20251114T233000
DTSTAMP:20260420T040613
CREATED:20251110T185555Z
LAST-MODIFIED:20251110T185555Z
UID:26035-1763157600-1763163000@www.carnavaldecadiz.com
SUMMARY:'PA PIRATAS NOSOTROS' en Tatachin de la Frontera
DESCRIPTION:Evento público de libre acceso.
URL:https://www.carnavaldecadiz.com/event/pa-piratas-nosotros-en-tatachin-de-la-frontera/
LOCATION:Peña Tatachin\, calle Cristo Humildad Paciencia 2D\, Chiclana de la Frontera\, Cádiz\, 11130\, España
CATEGORIES:actuaciones de carnaval
END:VEVENT
END:VCALENDAR