BEGIN:VCALENDAR
VERSION:2.0
PRODID:-//Carnaval de C&aacute;diz - ECPv6.15.20//NONSGML v1.0//EN
CALSCALE:GREGORIAN
METHOD:PUBLISH
X-WR-CALNAME:Carnaval de C&aacute;diz
X-ORIGINAL-URL:https://www.carnavaldecadiz.com
X-WR-CALDESC:Eventos para Carnaval de C&aacute;diz
REFRESH-INTERVAL;VALUE=DURATION:PT1H
X-Robots-Tag:noindex
X-PUBLISHED-TTL:PT1H
BEGIN:VTIMEZONE
TZID:Europe/Madrid
BEGIN:DAYLIGHT
TZOFFSETFROM:+0100
TZOFFSETTO:+0200
TZNAME:CEST
DTSTART:20240331T010000
END:DAYLIGHT
BEGIN:STANDARD
TZOFFSETFROM:+0200
TZOFFSETTO:+0100
TZNAME:CET
DTSTART:20241027T010000
END:STANDARD
BEGIN:DAYLIGHT
TZOFFSETFROM:+0100
TZOFFSETTO:+0200
TZNAME:CEST
DTSTART:20250330T010000
END:DAYLIGHT
BEGIN:STANDARD
TZOFFSETFROM:+0200
TZOFFSETTO:+0100
TZNAME:CET
DTSTART:20251026T010000
END:STANDARD
BEGIN:DAYLIGHT
TZOFFSETFROM:+0100
TZOFFSETTO:+0200
TZNAME:CEST
DTSTART:20260329T010000
END:DAYLIGHT
BEGIN:STANDARD
TZOFFSETFROM:+0200
TZOFFSETTO:+0100
TZNAME:CET
DTSTART:20261025T010000
END:STANDARD
END:VTIMEZONE
BEGIN:VEVENT
DTSTART;TZID=Europe/Madrid:20251026T130000
DTEND;TZID=Europe/Madrid:20251026T170000
DTSTAMP:20260420T055416
CREATED:20251020T130200Z
LAST-MODIFIED:20251020T130200Z
UID:25331-1761483600-1761498000@www.carnavaldecadiz.com
SUMMARY:Convivencia Martinista en Sanlúcar
DESCRIPTION:El encuentro contará con la actuación de la antología de Antonio Martín. \nEvento público de libre acceso.
URL:https://www.carnavaldecadiz.com/event/convivencia-martinista-en-sanlucar/
LOCATION:Peña El Pitijopo\, calle San Agustín 52\, Sanlucar de Barrameda\, Cádiz\, 11540\, España
CATEGORIES:actuaciones de carnaval
END:VEVENT
BEGIN:VEVENT
DTSTART;TZID=Europe/Madrid:20251026T190000
DTEND;TZID=Europe/Madrid:20251026T210000
DTSTAMP:20260420T055416
CREATED:20250930T200256Z
LAST-MODIFIED:20250930T200256Z
UID:24560-1761505200-1761512400@www.carnavaldecadiz.com
SUMMARY:'El fantasma del Teatro Falla' en Alcalá de Guadaira
DESCRIPTION:Compra en línea de LOCALIDADES
URL:https://www.carnavaldecadiz.com/event/el-fantasma-del-teatro-falla-en-alcala-de-guadaira/
LOCATION:Teatro Riberas del Guadaira\, Alcalá de Guadaira\, calle Roberto Leal s/n\, Alcalá de Guadaira\, Sevilla\, 41500\, España
CATEGORIES:actuaciones de carnaval
END:VEVENT
END:VCALENDAR