BEGIN:VCALENDAR
VERSION:2.0
PRODID:-//Carnaval de C&aacute;diz - ECPv6.15.20//NONSGML v1.0//EN
CALSCALE:GREGORIAN
METHOD:PUBLISH
X-ORIGINAL-URL:https://www.carnavaldecadiz.com
X-WR-CALDESC:Eventos para Carnaval de C&aacute;diz
REFRESH-INTERVAL;VALUE=DURATION:PT1H
X-Robots-Tag:noindex
X-PUBLISHED-TTL:PT1H
BEGIN:VTIMEZONE
TZID:Europe/Madrid
BEGIN:DAYLIGHT
TZOFFSETFROM:+0100
TZOFFSETTO:+0200
TZNAME:CEST
DTSTART:20240331T010000
END:DAYLIGHT
BEGIN:STANDARD
TZOFFSETFROM:+0200
TZOFFSETTO:+0100
TZNAME:CET
DTSTART:20241027T010000
END:STANDARD
BEGIN:DAYLIGHT
TZOFFSETFROM:+0100
TZOFFSETTO:+0200
TZNAME:CEST
DTSTART:20250330T010000
END:DAYLIGHT
BEGIN:STANDARD
TZOFFSETFROM:+0200
TZOFFSETTO:+0100
TZNAME:CET
DTSTART:20251026T010000
END:STANDARD
BEGIN:DAYLIGHT
TZOFFSETFROM:+0100
TZOFFSETTO:+0200
TZNAME:CEST
DTSTART:20260329T010000
END:DAYLIGHT
BEGIN:STANDARD
TZOFFSETFROM:+0200
TZOFFSETTO:+0100
TZNAME:CET
DTSTART:20261025T010000
END:STANDARD
END:VTIMEZONE
BEGIN:VEVENT
DTSTART;TZID=Europe/Madrid:20251024T180000
DTEND;TZID=Europe/Madrid:20251024T190000
DTSTAMP:20260420T055612
CREATED:20251023T205425Z
LAST-MODIFIED:20251023T205425Z
UID:25412-1761328800-1761332400@www.carnavaldecadiz.com
SUMMARY:Toni 'Piojo' en Saul Beach\, Huelva
DESCRIPTION:Evento público de libre acceso
URL:https://www.carnavaldecadiz.com/event/toni-piojo-en-saul-beach-huelva/
LOCATION:Soul Beach\, Huelva\, Paseo de la Ría\, Kiosco nº3\, Huelva\, Huelva\, 21001\, Spain
CATEGORIES:actuaciones de carnaval
END:VEVENT
BEGIN:VEVENT
DTSTART;TZID=Europe/Madrid:20251024T200000
DTEND;TZID=Europe/Madrid:20251024T220000
DTSTAMP:20260420T055612
CREATED:20251020T111035Z
LAST-MODIFIED:20251020T111035Z
UID:25305-1761336000-1761343200@www.carnavaldecadiz.com
SUMMARY:Noche de Mini Romanceros en Cara B
DESCRIPTION:Actuarán los siguientes mini romanceros: \n\nUn prestigioso cirujano – Francis\nEl mejor amigo de nadie – Bea\nDame un Grrr – Aroa\nEl embarcao – Chuluán\nNo melody venir – Nazaret\n\nEvento público de libre acceso.
URL:https://www.carnavaldecadiz.com/event/noche-de-mini-romanceros-en-cara-b/
LOCATION:La Cara B\, Cádiz\, calle Isabel la Católica 3\, Cádiz\, Cádiz\, 11004\, Spain
CATEGORIES:actuaciones de carnaval
END:VEVENT
BEGIN:VEVENT
DTSTART;TZID=Europe/Madrid:20251024T213000
DTEND;TZID=Europe/Madrid:20251024T230000
DTSTAMP:20260420T055612
CREATED:20250930T195120Z
LAST-MODIFIED:20250930T195120Z
UID:24553-1761341400-1761346800@www.carnavaldecadiz.com
SUMMARY:Carnaval de Cádiz en Elche
DESCRIPTION:Compra de localidades – 684805147 \nDonativo 20€
URL:https://www.carnavaldecadiz.com/event/carnaval-de-cadiz-en-elche/
LOCATION:Restaurante ‘El Garrofer’\, Elche\, Camí Vell de Crevillent\, La Penya de les Águiles\, Alicante\, 03296
CATEGORIES:actuaciones de carnaval
END:VEVENT
END:VCALENDAR