BEGIN:VCALENDAR
VERSION:2.0
PRODID:-//Carnaval de C&aacute;diz - ECPv6.15.20//NONSGML v1.0//EN
CALSCALE:GREGORIAN
METHOD:PUBLISH
X-WR-CALNAME:Carnaval de C&aacute;diz
X-ORIGINAL-URL:https://www.carnavaldecadiz.com
X-WR-CALDESC:Eventos para Carnaval de C&aacute;diz
REFRESH-INTERVAL;VALUE=DURATION:PT1H
X-Robots-Tag:noindex
X-PUBLISHED-TTL:PT1H
BEGIN:VTIMEZONE
TZID:Europe/Madrid
BEGIN:DAYLIGHT
TZOFFSETFROM:+0100
TZOFFSETTO:+0200
TZNAME:CEST
DTSTART:20240331T010000
END:DAYLIGHT
BEGIN:STANDARD
TZOFFSETFROM:+0200
TZOFFSETTO:+0100
TZNAME:CET
DTSTART:20241027T010000
END:STANDARD
BEGIN:DAYLIGHT
TZOFFSETFROM:+0100
TZOFFSETTO:+0200
TZNAME:CEST
DTSTART:20250330T010000
END:DAYLIGHT
BEGIN:STANDARD
TZOFFSETFROM:+0200
TZOFFSETTO:+0100
TZNAME:CET
DTSTART:20251026T010000
END:STANDARD
BEGIN:DAYLIGHT
TZOFFSETFROM:+0100
TZOFFSETTO:+0200
TZNAME:CEST
DTSTART:20260329T010000
END:DAYLIGHT
BEGIN:STANDARD
TZOFFSETFROM:+0200
TZOFFSETTO:+0100
TZNAME:CET
DTSTART:20261025T010000
END:STANDARD
END:VTIMEZONE
BEGIN:VEVENT
DTSTART;TZID=Europe/Madrid:20250927T140000
DTEND;TZID=Europe/Madrid:20250927T170000
DTSTAMP:20260420T073121
CREATED:20250924T210126Z
LAST-MODIFIED:20250924T210126Z
UID:24342-1758981600-1758992400@www.carnavaldecadiz.com
SUMMARY:III Cartelón Festival
DESCRIPTION:𝑰𝙄𝗜 𝘊𝘈𝗥𝑻𝑬𝙇𝐎𝑁 𝑭𝗘𝙎𝑇𝑰𝑉𝑨𝘓\, una jornada Carnavalesca dedicada al romancero gaditano\, con las actuaciones de: \n\nJuan Antonio DV “Yoana”\nCarmelo “Er Frijón”\nEl Romancero Mamarracho de Cadi de Susana Benítez y Pepe Baro\nPedro Barba\nNolo Rodríguez\nAna Niño\nJavi Outón\nChulián de La Trinchera De Los Tranchetes\nRafa Rodríguez “Pay”\nAgustin Barba Campos\n\nPresentado por Diego Fariñas
URL:https://www.carnavaldecadiz.com/event/iii-cartelon-festival/
LOCATION:Bar Puerta\, calle San Agustín 52\, Sanlúcar de Barrameda\, Cádiz\, 11540\, España
CATEGORIES:actuaciones de carnaval
END:VEVENT
BEGIN:VEVENT
DTSTART;TZID=Europe/Madrid:20250927T190000
DTEND;TZID=Europe/Madrid:20250927T200000
DTSTAMP:20260420T073121
CREATED:20250922T203304Z
LAST-MODIFIED:20250922T203609Z
UID:24300-1758999600-1759003200@www.carnavaldecadiz.com
SUMMARY:Actuación de la Miniantología 'LOS PIRIÑACAS'
DESCRIPTION:Evento público de libre acceso.
URL:https://www.carnavaldecadiz.com/event/actuacion-de-la-miniantologia-los-pirinacas/
LOCATION:La Laja\,Beach Club\, Chiclana\, Paseo Marítimo La Barrosa 5\, Chiclana de la Frontera\, Cádiz\, 11139\, Spain
CATEGORIES:actuaciones de carnaval
END:VEVENT
BEGIN:VEVENT
DTSTART;TZID=Europe/Madrid:20250927T193000
DTEND;TZID=Europe/Madrid:20250927T233000
DTSTAMP:20260420T073121
CREATED:20250924T221242Z
LAST-MODIFIED:20250924T221242Z
UID:24362-1759001400-1759015800@www.carnavaldecadiz.com
SUMMARY:ENMASCARADO - Carnaval Benéfico de Máscaras
DESCRIPTION:Actuación de los grupos de carnaval: \n\nChirigota del Popete\nChirigota Pacoli\nCoro de Carnaval de Sevilla\nChirigota del Chicho\n\nEvento público de libre acceso.
URL:https://www.carnavaldecadiz.com/event/enmascarado-carnaval-benefico-de-mascaras/
LOCATION:Plaza del Altozano\, Sevilla.\, Plaza del Altozano\, Sevilla\, Sevilla\, 41010\, Spain
CATEGORIES:actuaciones de carnaval
END:VEVENT
BEGIN:VEVENT
DTSTART;TZID=Europe/Madrid:20250927T210000
DTEND;TZID=Europe/Madrid:20250927T233000
DTSTAMP:20260420T073121
CREATED:20250922T214200Z
LAST-MODIFIED:20250922T214200Z
UID:24327-1759006800-1759015800@www.carnavaldecadiz.com
SUMMARY:'Las Dolly Me Parton' en el Pay-pay
DESCRIPTION:Compra y reserva de localidades en elpaypay@gmail.com
URL:https://www.carnavaldecadiz.com/event/las-dolly-me-parton-en-el-pay-pay/
LOCATION:Café Tatro Pay Pay\, C/ Silencio\, Cádiz\, Cádiz\, 11002
CATEGORIES:actuaciones de carnaval
END:VEVENT
END:VCALENDAR