BEGIN:VCALENDAR
VERSION:2.0
PRODID:-//Carnaval de C&aacute;diz - ECPv6.15.20//NONSGML v1.0//EN
CALSCALE:GREGORIAN
METHOD:PUBLISH
X-WR-CALNAME:Carnaval de C&aacute;diz
X-ORIGINAL-URL:https://www.carnavaldecadiz.com
X-WR-CALDESC:Eventos para Carnaval de C&aacute;diz
REFRESH-INTERVAL;VALUE=DURATION:PT1H
X-Robots-Tag:noindex
X-PUBLISHED-TTL:PT1H
BEGIN:VTIMEZONE
TZID:Europe/Madrid
BEGIN:DAYLIGHT
TZOFFSETFROM:+0100
TZOFFSETTO:+0200
TZNAME:CEST
DTSTART:20240331T010000
END:DAYLIGHT
BEGIN:STANDARD
TZOFFSETFROM:+0200
TZOFFSETTO:+0100
TZNAME:CET
DTSTART:20241027T010000
END:STANDARD
BEGIN:DAYLIGHT
TZOFFSETFROM:+0100
TZOFFSETTO:+0200
TZNAME:CEST
DTSTART:20250330T010000
END:DAYLIGHT
BEGIN:STANDARD
TZOFFSETFROM:+0200
TZOFFSETTO:+0100
TZNAME:CET
DTSTART:20251026T010000
END:STANDARD
BEGIN:DAYLIGHT
TZOFFSETFROM:+0100
TZOFFSETTO:+0200
TZNAME:CEST
DTSTART:20260329T010000
END:DAYLIGHT
BEGIN:STANDARD
TZOFFSETFROM:+0200
TZOFFSETTO:+0100
TZNAME:CET
DTSTART:20261025T010000
END:STANDARD
END:VTIMEZONE
BEGIN:VEVENT
DTSTART;TZID=Europe/Madrid:20250926T210000
DTEND;TZID=Europe/Madrid:20250926T220000
DTSTAMP:20260420T073122
CREATED:20250922T212335Z
LAST-MODIFIED:20250922T212335Z
UID:24318-1758920400-1758924000@www.carnavaldecadiz.com
SUMMARY:Carnaval en la Peña Cruz del Mar
DESCRIPTION:Actuación del minigrupo de carnaval formado por: \n\nMiriam Ballesteros\nBrenda\nJosé Helmo\nManolín Santander\n\nDonativo 10€ \nInformación y reservas 623 003 841
URL:https://www.carnavaldecadiz.com/event/carnaval-en-la-pena-cruz-del-mar/
LOCATION:Peña Cruz del Mar\, Chipiona\, calle Padre Lerchundi 64\, Chipiona\, Cádiz\, 11550\, España
CATEGORIES:actuaciones de carnaval
END:VEVENT
BEGIN:VEVENT
DTSTART;TZID=Europe/Madrid:20250926T220000
DTEND;TZID=Europe/Madrid:20250926T233000
DTSTAMP:20260420T073122
CREATED:20250922T213800Z
LAST-MODIFIED:20250922T213800Z
UID:24324-1758924000-1758929400@www.carnavaldecadiz.com
SUMMARY:Carnaval en la Peña Tatachin de la Frontera
DESCRIPTION:Actuará el trio de carnaval formado por; Mota\, Kevin y Hugo León \nDonativo 10€
URL:https://www.carnavaldecadiz.com/event/carnaval-en-la-pena-tatachin-de-la-frontera-4/
LOCATION:Peña Tatachin\, calle Cristo Humildad Paciencia 2D\, Chiclana de la Frontera\, Cádiz\, 11130\, España
CATEGORIES:actuaciones de carnaval
END:VEVENT
END:VCALENDAR