BEGIN:VCALENDAR
VERSION:2.0
PRODID:-//Carnaval de C&aacute;diz - ECPv6.15.20//NONSGML v1.0//EN
CALSCALE:GREGORIAN
METHOD:PUBLISH
X-WR-CALNAME:Carnaval de C&aacute;diz
X-ORIGINAL-URL:https://www.carnavaldecadiz.com
X-WR-CALDESC:Eventos para Carnaval de C&aacute;diz
REFRESH-INTERVAL;VALUE=DURATION:PT1H
X-Robots-Tag:noindex
X-PUBLISHED-TTL:PT1H
BEGIN:VTIMEZONE
TZID:Europe/Madrid
BEGIN:DAYLIGHT
TZOFFSETFROM:+0100
TZOFFSETTO:+0200
TZNAME:CEST
DTSTART:20240331T010000
END:DAYLIGHT
BEGIN:STANDARD
TZOFFSETFROM:+0200
TZOFFSETTO:+0100
TZNAME:CET
DTSTART:20241027T010000
END:STANDARD
BEGIN:DAYLIGHT
TZOFFSETFROM:+0100
TZOFFSETTO:+0200
TZNAME:CEST
DTSTART:20250330T010000
END:DAYLIGHT
BEGIN:STANDARD
TZOFFSETFROM:+0200
TZOFFSETTO:+0100
TZNAME:CET
DTSTART:20251026T010000
END:STANDARD
BEGIN:DAYLIGHT
TZOFFSETFROM:+0100
TZOFFSETTO:+0200
TZNAME:CEST
DTSTART:20260329T010000
END:DAYLIGHT
BEGIN:STANDARD
TZOFFSETFROM:+0200
TZOFFSETTO:+0100
TZNAME:CET
DTSTART:20261025T010000
END:STANDARD
END:VTIMEZONE
BEGIN:VEVENT
DTSTART;VALUE=DATE:20250919
DTEND;VALUE=DATE:20250921
DTSTAMP:20260420T073123
CREATED:20250917T112205Z
LAST-MODIFIED:20250917T113944Z
UID:24126-1758240000-1758412799@www.carnavaldecadiz.com
SUMMARY:'La chirigota del perchero' en el Pay-pay
DESCRIPTION:‘La chirigota del perchero’ es una de las agrupaciones callejeras que cuenta con más seguidores/as. \nVer FICHA de la agrupación. \nDOS PASES: 19 y 20 de septiembre\, a partir de las 21:00h \nCompra y reserva de localidades: elpaypay@gmail.com
URL:https://www.carnavaldecadiz.com/event/la-chirigota-del-perchero-en-el-pay-pay-3/
LOCATION:Café Tatro Pay Pay\, C/ Silencio\, Cádiz\, Cádiz\, 11002
CATEGORIES:actuaciones de carnaval
END:VEVENT
BEGIN:VEVENT
DTSTART;TZID=Europe/Madrid:20250920T193000
DTEND;TZID=Europe/Madrid:20250920T210000
DTSTAMP:20260420T073123
CREATED:20250917T115018Z
LAST-MODIFIED:20250917T115018Z
UID:24133-1758396600-1758402000@www.carnavaldecadiz.com
SUMMARY:'El Ramper' de Jesús Bienvenido en Medina
DESCRIPTION:
URL:https://www.carnavaldecadiz.com/event/el-ramper-de-jesus-bienvenido-en-medina/
LOCATION:Teatro Municipal Miguel Mihura Álvarez\, Medina Sidonia\, Plaza Ramón y Cajal 6\, Medina Sidonia\, Cádiz\, 11170\, Spain
CATEGORIES:actuaciones de carnaval
END:VEVENT
BEGIN:VEVENT
DTSTART;TZID=Europe/Madrid:20250920T200000
DTEND;TZID=Europe/Madrid:20250920T230000
DTSTAMP:20260420T073123
CREATED:20250917T114549Z
LAST-MODIFIED:20250917T114549Z
UID:24128-1758398400-1758409200@www.carnavaldecadiz.com
SUMMARY:Carnaval de Cádiz en Lantejuela
DESCRIPTION:Actuarán: \n\nLa chirigota – LOS JAMES BOND QUE DA GLORIA VERLOS\nEl Trío: Chema\, Suso y Sheito\n\nPrecios y puntos de venta en el cartel.
URL:https://www.carnavaldecadiz.com/event/carnaval-de-cadiz-en-lantejuela/
LOCATION:Auditorio Municipal de Lantejuela\, Lantejuela\, Sevilla\, 41630\, Spain
CATEGORIES:actuaciones de carnaval
END:VEVENT
BEGIN:VEVENT
DTSTART;TZID=Europe/Madrid:20250920T213000
DTEND;TZID=Europe/Madrid:20250920T230000
DTSTAMP:20260420T073123
CREATED:20250917T122253Z
LAST-MODIFIED:20250917T122253Z
UID:24137-1758403800-1758409200@www.carnavaldecadiz.com
SUMMARY:Josemari Barranco 'El lacio' en San Roque
DESCRIPTION:Evento público de libre acceso
URL:https://www.carnavaldecadiz.com/event/josemari-barranco-el-lacio-en-san-roque/
LOCATION:Mono´s Moverán\, San Roque\, Plaza de Armas s/n\, San Roque\, Cádiz\, 11360\, Spain
CATEGORIES:actuaciones de carnaval
END:VEVENT
BEGIN:VEVENT
DTSTART;TZID=Europe/Madrid:20250920T223000
DTEND;TZID=Europe/Madrid:20250920T233000
DTSTAMP:20260420T073123
CREATED:20250918T221711Z
LAST-MODIFIED:20250918T221711Z
UID:24189-1758407400-1758411000@www.carnavaldecadiz.com
SUMMARY:Antología 'Cádiz de mil colores' en Dolce Vita
DESCRIPTION:Evento público de libre acceso.
URL:https://www.carnavaldecadiz.com/event/antologia-cadiz-de-mil-colores-en-dolce-vita/
LOCATION:Dolce Vita\, Cádiz\, calle Brasil 3\, Cádiz\, Cádiz\, 11009\, Spain
CATEGORIES:actuaciones de carnaval
END:VEVENT
END:VCALENDAR