BEGIN:VCALENDAR
VERSION:2.0
PRODID:-//Carnaval de C&aacute;diz - ECPv6.15.20//NONSGML v1.0//EN
CALSCALE:GREGORIAN
METHOD:PUBLISH
X-WR-CALNAME:Carnaval de C&aacute;diz
X-ORIGINAL-URL:https://www.carnavaldecadiz.com
X-WR-CALDESC:Eventos para Carnaval de C&aacute;diz
REFRESH-INTERVAL;VALUE=DURATION:PT1H
X-Robots-Tag:noindex
X-PUBLISHED-TTL:PT1H
BEGIN:VTIMEZONE
TZID:Europe/Madrid
BEGIN:DAYLIGHT
TZOFFSETFROM:+0100
TZOFFSETTO:+0200
TZNAME:CEST
DTSTART:20240331T010000
END:DAYLIGHT
BEGIN:STANDARD
TZOFFSETFROM:+0200
TZOFFSETTO:+0100
TZNAME:CET
DTSTART:20241027T010000
END:STANDARD
BEGIN:DAYLIGHT
TZOFFSETFROM:+0100
TZOFFSETTO:+0200
TZNAME:CEST
DTSTART:20250330T010000
END:DAYLIGHT
BEGIN:STANDARD
TZOFFSETFROM:+0200
TZOFFSETTO:+0100
TZNAME:CET
DTSTART:20251026T010000
END:STANDARD
BEGIN:DAYLIGHT
TZOFFSETFROM:+0100
TZOFFSETTO:+0200
TZNAME:CEST
DTSTART:20260329T010000
END:DAYLIGHT
BEGIN:STANDARD
TZOFFSETFROM:+0200
TZOFFSETTO:+0100
TZNAME:CET
DTSTART:20261025T010000
END:STANDARD
END:VTIMEZONE
BEGIN:VEVENT
DTSTART;VALUE=DATE:20250602
DTEND;VALUE=DATE:20250918
DTSTAMP:20260420T073121
CREATED:20250601T202215Z
LAST-MODIFIED:20250918T214552Z
UID:21198-1748822400-1758153599@www.carnavaldecadiz.com
SUMMARY:Actuaciones de la Antología de la Chirigota del Sofri
DESCRIPTION:La chirigota del Sofri\, participó en el pasado COAC con el nombre de ‘LOS GOLPES DE PECHO’\, causando un muy buena impresión entre los aficionados.
URL:https://www.carnavaldecadiz.com/event/actuaciones-de-la-antologia-de-la-chirigota-del-sofri/
LOCATION:La Casa inquieta\, Conil\, Plaza de España 16\, Conil de la Frontera\, Cádiz\, 11140
CATEGORIES:actuaciones de carnaval
END:VEVENT
BEGIN:VEVENT
DTSTART;VALUE=DATE:20250909
DTEND;VALUE=DATE:20250915
DTSTAMP:20260420T073121
CREATED:20250910T121101Z
LAST-MODIFIED:20250910T121101Z
UID:23932-1757376000-1757894399@www.carnavaldecadiz.com
SUMMARY:Globe 40 - Actuaciones de Carnaval
DESCRIPTION:Plano Recinto Glove 40\nPROGRAMA DE ACTUACIONES DE CARNAVAL DE LA GLOVE 40 en el Race Village (Race Village)\nMartes 9 de septiembre de 21:00h a 23:00h \n\nCoro EL GALLINERO\nComparsa EL CEMENTERIO\n\nMiércoles 10 de septiembre de 21:00h a 23:00h \n\nChirigota LOS CAITA\nCuarteto KU KLUX KLAN KLAN\n\nJueves 11 de septiembre de 18:00h a 21:00h \n\nActuación de los primeros premios del COAC juvenil e infantil\n\nViernes 12 de septiembre de 18:00h a 21:00h \n\nActuación de los primeros premios del COAC juvenil e infantil\n\nSábado 13 de septiembre de 22:00h a 23:00h \nActuación de la Antología de Antonio Martínez Ares LOS CUERVOS \nPROGRAMA COMPLETO: programa-regata-globe40-v2\nTodos son eventos públicos de libre acceso \n  \n  \n 
URL:https://www.carnavaldecadiz.com/event/globe-40-actuaciones-de-carnaval/
LOCATION:Barrio de Astilleros\, Cádiz\, Barrio de Astilleros\, Cádiz\, Cádiz\, 11007\, Spain
CATEGORIES:actuaciones de carnaval
END:VEVENT
BEGIN:VEVENT
DTSTART;VALUE=DATE:20250910
DTEND;VALUE=DATE:20250913
DTSTAMP:20260420T073121
CREATED:20250827T192603Z
LAST-MODIFIED:20250901T153727Z
UID:23636-1757462400-1757721599@www.carnavaldecadiz.com
SUMMARY:VIII Concurso de Minigrupos de Carnaval Peña 'El plumero'
DESCRIPTION:PROGRAMA\nMiércoles 10 de septiembre a partir de las 21:45h \n\nBendita locura\nSavia nueva\nAntología ‘Acordes de Cádiz’\nLos peladores de mariscos\, que aprobeche\n\nJueves 11 de septiembre a partir de las 21:45h \n\nPiando por Cai\nPor y para Cádiz\nLos tercios de Cádiz\nLos antilógicos\nLos piriñaca\n\nViernes 12 de septiembre a partir de las 21:45h \nA la espera de recibir información de los grupos clasificado y orden de actuación. \nEvento público de libre acceso.
URL:https://www.carnavaldecadiz.com/event/viii-concurso-de-minigrupos-de-carnaval-pena-el-plumero/
LOCATION:Peña El Plumero\, calle José Ramos Borrero 2\, San Fernando\, Cádiz\, 11100\, España
CATEGORIES:actuaciones de carnaval
END:VEVENT
BEGIN:VEVENT
DTSTART;VALUE=DATE:20250910
DTEND;VALUE=DATE:20250915
DTSTAMP:20260420T073121
CREATED:20250908T204708Z
LAST-MODIFIED:20250908T204708Z
UID:23856-1757462400-1757894399@www.carnavaldecadiz.com
SUMMARY:XXXII Jornadas Culturales - Peña Cultural Carnavalesca 'EL PLUMERO'
DESCRIPTION:PROGRAMA\nMiércoles 10 de septiembre \n\n20:45h – Actuación de la chirigota infantil ‘¡OJÚ QUE COLGAERA!’\n21:45h – 1ª Semifinal ‘Concurso de Minigrupos de Carnaval\, Memorial José Sierra Paquiqui’\n\nJueves 11 de septiembre \n\n20:45h – Actuación de la chirigota infantil ‘LOS TRATARACHIN’\n21:45h – 2ª Semifinal ‘Concurso de Minigrupos de Carnaval\, Memorial José Sierra Paquiqui’\n\nViernes 12 de septiembre \n\n20:45h – Actuación de la chirigota ”QUIEN GUARDA HALLA’\n21:45h – Final ‘Concurso de Minigrupos de Carnaval\, Memorial José Sierra Paquiqui’\n\nSábado 13 de septiembre \n\n16:00h – Actuación de la comparsa infantil ‘LOS DEL HUERTO’\n16:30h – Imposición de la Insignia de Oro de la Peña al comparsista Don Antonio Rico Segura y actuación  de la ‘ANTOLOGÍA DE LOS MAJARAS’\n\nDomingo 14 de septiembre – Día del socio \n\n13:45h – Concurso Gastronómico de platos y postres cocinados y degustación de los mismos.\n16:30h – Fin de fiesta\, actuación estelar en concierto de Ana María Galvín\n\nTodos eventos públicos de libre acceso. \n  \n  \n 
URL:https://www.carnavaldecadiz.com/event/xxxii-jornadas-culturales-pena-cultural-carnavalesca-el-plumero/
LOCATION:Peña El Plumero\, calle José Ramos Borrero 2\, San Fernando\, Cádiz\, 11100\, España
CATEGORIES:actuaciones de carnaval,concurso de carnaval,evento gastronómico
END:VEVENT
BEGIN:VEVENT
DTSTART;TZID=Europe/Madrid:20250912T210000
DTEND;TZID=Europe/Madrid:20250912T220000
DTSTAMP:20260420T073121
CREATED:20250908T212430Z
LAST-MODIFIED:20250908T212430Z
UID:23866-1757710800-1757714400@www.carnavaldecadiz.com
SUMMARY:Toni Piojo en el Hotel Spa Cádiz Plaza
DESCRIPTION:Coplas de Carnaval Interpretadas por Toni Piojo. \nEntrada 12 €
URL:https://www.carnavaldecadiz.com/event/toni-piojo-en-el-hotel-spa-cadiz-plaza/
LOCATION:Hotel Spa Cádiz Plaza\, Glorieta Ana Orantes 3\, Cádiz\, Cádiz\, 11010\, Spain
CATEGORIES:actuaciones de carnaval
END:VEVENT
BEGIN:VEVENT
DTSTART;TZID=Europe/Madrid:20250912T210000
DTEND;TZID=Europe/Madrid:20250912T220000
DTSTAMP:20260420T073121
CREATED:20250908T213002Z
LAST-MODIFIED:20250908T213002Z
UID:23872-1757710800-1757714400@www.carnavaldecadiz.com
SUMMARY:Antología 'LOS TUYOS' en la Peña Nuestra Andalucía
DESCRIPTION:Evento público de libre acceso.
URL:https://www.carnavaldecadiz.com/event/antologia-los-tuyos-en-la-pena-nuestra-andalucia/
LOCATION:Peña Nuestra Andalucía\, Cádiz\, calle María Arteaga 25\, Cádiz\, Cádiz\, 11002\, España
CATEGORIES:actuaciones de carnaval
END:VEVENT
BEGIN:VEVENT
DTSTART;TZID=Europe/Madrid:20250912T213000
DTEND;TZID=Europe/Madrid:20250912T223000
DTSTAMP:20260420T073121
CREATED:20250908T212649Z
LAST-MODIFIED:20250908T212649Z
UID:23869-1757712600-1757716200@www.carnavaldecadiz.com
SUMMARY:Rafael Aranda 'Taleguilla' en Caño 18
DESCRIPTION:Reservas 658933689
URL:https://www.carnavaldecadiz.com/event/rafael-aranda-taleguilla-en-cano-18/
LOCATION:Caño 18 Gastrobar\, calle San Juan Bautista\, local 7\, San Fernando\, Cádiz\, 11100
CATEGORIES:actuaciones de carnaval
END:VEVENT
BEGIN:VEVENT
DTSTART;TZID=Europe/Madrid:20250912T230000
DTEND;TZID=Europe/Madrid:20250913T000000
DTSTAMP:20260420T073121
CREATED:20250909T145801Z
LAST-MODIFIED:20250909T145801Z
UID:23920-1757718000-1757721600@www.carnavaldecadiz.com
SUMMARY:'Los cagones' & 'La familia Peperoni' en Badajoz
DESCRIPTION:
URL:https://www.carnavaldecadiz.com/event/los-cagones-la-familia-peperoni-en-badajoz/
LOCATION:La Santa\, Badajoz\, calle Zurbarán\, 10\, Badajoz\, Badajoz\, 06002\, Spain
CATEGORIES:actuaciones de carnaval
END:VEVENT
END:VCALENDAR