BEGIN:VCALENDAR
VERSION:2.0
PRODID:-//Carnaval de C&aacute;diz - ECPv6.15.20//NONSGML v1.0//EN
CALSCALE:GREGORIAN
METHOD:PUBLISH
X-WR-CALNAME:Carnaval de C&aacute;diz
X-ORIGINAL-URL:https://www.carnavaldecadiz.com
X-WR-CALDESC:Eventos para Carnaval de C&aacute;diz
REFRESH-INTERVAL;VALUE=DURATION:PT1H
X-Robots-Tag:noindex
X-PUBLISHED-TTL:PT1H
BEGIN:VTIMEZONE
TZID:Europe/Madrid
BEGIN:DAYLIGHT
TZOFFSETFROM:+0100
TZOFFSETTO:+0200
TZNAME:CEST
DTSTART:20240331T010000
END:DAYLIGHT
BEGIN:STANDARD
TZOFFSETFROM:+0200
TZOFFSETTO:+0100
TZNAME:CET
DTSTART:20241027T010000
END:STANDARD
BEGIN:DAYLIGHT
TZOFFSETFROM:+0100
TZOFFSETTO:+0200
TZNAME:CEST
DTSTART:20250330T010000
END:DAYLIGHT
BEGIN:STANDARD
TZOFFSETFROM:+0200
TZOFFSETTO:+0100
TZNAME:CET
DTSTART:20251026T010000
END:STANDARD
BEGIN:DAYLIGHT
TZOFFSETFROM:+0100
TZOFFSETTO:+0200
TZNAME:CEST
DTSTART:20260329T010000
END:DAYLIGHT
BEGIN:STANDARD
TZOFFSETFROM:+0200
TZOFFSETTO:+0100
TZNAME:CET
DTSTART:20261025T010000
END:STANDARD
END:VTIMEZONE
BEGIN:VEVENT
DTSTART;VALUE=DATE:20250602
DTEND;VALUE=DATE:20250918
DTSTAMP:20260420T073054
CREATED:20250601T202215Z
LAST-MODIFIED:20250918T214552Z
UID:21198-1748822400-1758153599@www.carnavaldecadiz.com
SUMMARY:Actuaciones de la Antología de la Chirigota del Sofri
DESCRIPTION:La chirigota del Sofri\, participó en el pasado COAC con el nombre de ‘LOS GOLPES DE PECHO’\, causando un muy buena impresión entre los aficionados.
URL:https://www.carnavaldecadiz.com/event/actuaciones-de-la-antologia-de-la-chirigota-del-sofri/
LOCATION:La Casa inquieta\, Conil\, Plaza de España 16\, Conil de la Frontera\, Cádiz\, 11140
CATEGORIES:actuaciones de carnaval
END:VEVENT
BEGIN:VEVENT
DTSTART;VALUE=DATE:20250904
DTEND;VALUE=DATE:20250907
DTSTAMP:20260420T073054
CREATED:20250827T193521Z
LAST-MODIFIED:20250903T231221Z
UID:23639-1756944000-1757203199@www.carnavaldecadiz.com
SUMMARY:II Concurso de Antologías Homenaje a Juan Carlos Aragón
DESCRIPTION:PROGRAMA \nJueves 4 de septiembre a partir de las 22:00h \n\nLos afortunados\nLos cleriguillos\n\nViernes 5 de septiembre a partir de las 21:00h \n\nLos serranísimos\nPiando por Cai\nLos tuyos\nPaté de gabacho\nAntología desde la frontera\n\nSábado 6 de septiembre a partir de las 22:00h \nEventos públicos de libre acceso
URL:https://www.carnavaldecadiz.com/event/ii-concurso-de-antologias-homenaje-a-juan-carlos-aragon/
LOCATION:Oratorio de San Felipe Neri\, Cádiz\, calle San José 36\, Cádiz\, Cádiz\, 11003\, Spain
CATEGORIES:actuaciones de carnaval
END:VEVENT
BEGIN:VEVENT
DTSTART;VALUE=DATE:20250905
DTEND;VALUE=DATE:20250907
DTSTAMP:20260420T073054
CREATED:20250826T192354Z
LAST-MODIFIED:20250901T153027Z
UID:23589-1757030400-1757203199@www.carnavaldecadiz.com
SUMMARY:II Concurso de Minigrupos de Carnaval 'El timón'
DESCRIPTION:A la espera de la información de grupos inscrito y orden de actuación. \nPrograma: \nViernes 5 de septiembre \nORDEN DE ACTUACIÓN: \n\nLos quesarte tienen\nLos antilógicos\nLos tercios de Cádiz\nSavia nueva\nLos acordes\nBendita locura\nLa miniparsa\nLos peladores de marisco\, que aproveche\n\nAdemas las actuaciones del concurso\, la chirigota ‘LOS CALAITA’ recogen el premio ‘EL TIMÓN’ \nSábado 6 de septiembre \nAdemas las actuaciones de los grupos finalistas del concurso\, actuación de la Antología ‘Sal de Coplas’ \nEventos públicos de libre acceso.
URL:https://www.carnavaldecadiz.com/event/ii-concurso-de-minigrupos-de-carnaval-el-timon/
LOCATION:Peña El Timon\, San Fernando\, calle Luis Milena\, San Fernando\, Cádiz\, España
CATEGORIES:actuaciones de carnaval
END:VEVENT
BEGIN:VEVENT
DTSTART;TZID=Europe/Madrid:20250905T220000
DTEND;TZID=Europe/Madrid:20250906T010000
DTSTAMP:20260420T073054
CREATED:20250826T120412Z
LAST-MODIFIED:20250826T120412Z
UID:23552-1757109600-1757120400@www.carnavaldecadiz.com
SUMMARY:Velada Carnavalesca 'El abrazo'
DESCRIPTION:Actuarán: \n\nComparsa – LAS RATAS\nChirigota – LOS JAMES BOND QUE DA GLORIA VERLOS\nChirigota – LOS HERMANOS DEL BUEN FIN\nChirigota – AL CIELO CON ÉL\n\nCompra on-line de LOCALIDADES
URL:https://www.carnavaldecadiz.com/event/velada-carnavalesca-el-abrazo/
LOCATION:Recinto ‘EL ABRAZO’\, La Rinconada\, Avenida de la Unión s/n\, La Rinconada\, Sevilla\, 41309\, Spain
CATEGORIES:actuaciones de carnaval
END:VEVENT
BEGIN:VEVENT
DTSTART;TZID=Europe/Madrid:20250906T140000
DTEND;TZID=Europe/Madrid:20250906T170000
DTSTAMP:20260420T073054
CREATED:20250826T193311Z
LAST-MODIFIED:20250826T193311Z
UID:23598-1757167200-1757178000@www.carnavaldecadiz.com
SUMMARY:Carnaval en la Peña 'Perete'
DESCRIPTION:Actuarán: \n\nChirigota – LOS MALFO-LLAOS\nAntología – SAL DE COPLAS\n\nCon la compra de una bebida\, tendrás una degustación de arroz con carne. \nEvento público de libre acceso.
URL:https://www.carnavaldecadiz.com/event/carnaval-en-la-pena-perete/
LOCATION:Peña Perete\, San Fernando\, calle Albina del Puente 19\, San Fernando\, Cádiz\, 11100\, España
CATEGORIES:actuaciones de carnaval
END:VEVENT
BEGIN:VEVENT
DTSTART;TZID=Europe/Madrid:20250906T200000
DTEND;TZID=Europe/Madrid:20250906T230000
DTSTAMP:20260420T073054
CREATED:20250827T184459Z
LAST-MODIFIED:20250827T184459Z
UID:23628-1757188800-1757199600@www.carnavaldecadiz.com
SUMMARY:Concurso de Solistas y Dúos 'Peña Carnavalesca EL GADITANO'
DESCRIPTION:A la espera de recibir información de grupos inscritos y orden de actuación. \nEvento público de libre acceso.
URL:https://www.carnavaldecadiz.com/event/concurso-de-solistas-y-duos-pena-carnavalesca-el-gaditano/
LOCATION:Peña Carnavalesca EL GADITANO\, Trebujena\, calle Rafael Alberti 1\, Trebujena\, Cádiz\, 11560\, Spain
CATEGORIES:actuaciones de carnaval
END:VEVENT
BEGIN:VEVENT
DTSTART;TZID=Europe/Madrid:20250906T210000
DTEND;TZID=Europe/Madrid:20250906T220000
DTSTAMP:20260420T073054
CREATED:20250826T192919Z
LAST-MODIFIED:20250826T192919Z
UID:23595-1757192400-1757196000@www.carnavaldecadiz.com
SUMMARY:Ramón de Castro 'RAMONI' en Cuatro Gatos
DESCRIPTION:
URL:https://www.carnavaldecadiz.com/event/ramon-de-castro-ramoni-en-cuatro-gatos/
LOCATION:Cuatro Gatos\, Sevilla\, calle Madre Dolores Marquez 11\, Sevilla\, Sevilla\, 41003\, España
CATEGORIES:actuaciones de carnaval
END:VEVENT
BEGIN:VEVENT
DTSTART;TZID=Europe/Madrid:20250906T210000
DTEND;TZID=Europe/Madrid:20250907T003000
DTSTAMP:20260420T073054
CREATED:20250826T200328Z
LAST-MODIFIED:20250826T200328Z
UID:23601-1757192400-1757205000@www.carnavaldecadiz.com
SUMMARY:II aniversario de la ACC 'EL PITIJOPO'
DESCRIPTION:Actuarán: \n\nComparsa- LAS RATAS\nChirigota – LOS JAMES BOND QUE DA GLORIA VERLOS\nChirigota – LOS HERMANOS DEL BUEN FIN\nComparsa – LOS DEL OTRO BARRIO\n\nCompra on-line de LOCALIDADES
URL:https://www.carnavaldecadiz.com/event/ii-aniversario-de-la-acc-el-pitijopo/
LOCATION:Teatro Municipal Sanlúcar de Barrameda\, Avenida de las Piletas 13\, Sanlúcar de Barrameda\, Cádiz\, 11540\, Spain
CATEGORIES:actuaciones de carnaval
END:VEVENT
BEGIN:VEVENT
DTSTART;TZID=Europe/Madrid:20250906T220000
DTEND;TZID=Europe/Madrid:20250906T230000
DTSTAMP:20260420T073054
CREATED:20250826T192625Z
LAST-MODIFIED:20250826T192625Z
UID:23592-1757196000-1757199600@www.carnavaldecadiz.com
SUMMARY:Carnaval en Caño 18
DESCRIPTION:Reservas 658933689
URL:https://www.carnavaldecadiz.com/event/carnaval-en-cano-18-26/
LOCATION:Caño 18 Gastrobar\, calle San Juan Bautista\, local 7\, San Fernando\, Cádiz\, 11100
CATEGORIES:actuaciones de carnaval
END:VEVENT
END:VCALENDAR