BEGIN:VCALENDAR
VERSION:2.0
PRODID:-//Carnaval de C&aacute;diz - ECPv6.15.20//NONSGML v1.0//EN
CALSCALE:GREGORIAN
METHOD:PUBLISH
X-WR-CALNAME:Carnaval de C&aacute;diz
X-ORIGINAL-URL:https://www.carnavaldecadiz.com
X-WR-CALDESC:Eventos para Carnaval de C&aacute;diz
REFRESH-INTERVAL;VALUE=DURATION:PT1H
X-Robots-Tag:noindex
X-PUBLISHED-TTL:PT1H
BEGIN:VTIMEZONE
TZID:Europe/Madrid
BEGIN:DAYLIGHT
TZOFFSETFROM:+0100
TZOFFSETTO:+0200
TZNAME:CEST
DTSTART:20240331T010000
END:DAYLIGHT
BEGIN:STANDARD
TZOFFSETFROM:+0200
TZOFFSETTO:+0100
TZNAME:CET
DTSTART:20241027T010000
END:STANDARD
BEGIN:DAYLIGHT
TZOFFSETFROM:+0100
TZOFFSETTO:+0200
TZNAME:CEST
DTSTART:20250330T010000
END:DAYLIGHT
BEGIN:STANDARD
TZOFFSETFROM:+0200
TZOFFSETTO:+0100
TZNAME:CET
DTSTART:20251026T010000
END:STANDARD
BEGIN:DAYLIGHT
TZOFFSETFROM:+0100
TZOFFSETTO:+0200
TZNAME:CEST
DTSTART:20260329T010000
END:DAYLIGHT
BEGIN:STANDARD
TZOFFSETFROM:+0200
TZOFFSETTO:+0100
TZNAME:CET
DTSTART:20261025T010000
END:STANDARD
END:VTIMEZONE
BEGIN:VEVENT
DTSTART;VALUE=DATE:20250602
DTEND;VALUE=DATE:20250918
DTSTAMP:20260420T085324
CREATED:20250601T202215Z
LAST-MODIFIED:20250918T214552Z
UID:21198-1748822400-1758153599@www.carnavaldecadiz.com
SUMMARY:Actuaciones de la Antología de la Chirigota del Sofri
DESCRIPTION:La chirigota del Sofri\, participó en el pasado COAC con el nombre de ‘LOS GOLPES DE PECHO’\, causando un muy buena impresión entre los aficionados.
URL:https://www.carnavaldecadiz.com/event/actuaciones-de-la-antologia-de-la-chirigota-del-sofri/
LOCATION:La Casa inquieta\, Conil\, Plaza de España 16\, Conil de la Frontera\, Cádiz\, 11140
CATEGORIES:actuaciones de carnaval
END:VEVENT
BEGIN:VEVENT
DTSTART;VALUE=DATE:20250808
DTEND;VALUE=DATE:20250829
DTSTAMP:20260420T085324
CREATED:20250811T201114Z
LAST-MODIFIED:20250811T201114Z
UID:22920-1754611200-1756425599@www.carnavaldecadiz.com
SUMMARY:Noches de Carnaval en el Club Marina de la Bahía.
DESCRIPTION:Programación: \nViernes 8 de agosto a partir de las 22:00h \n\nPresentación del nuevo espectáculo de Paco Pellejo – Precio 12€\n\nJueves 21 de agosto a partir de las 22:00h \n\nYoli Álvarez y Nene Cheza – Precio 10€\n\nJueves 28 de agosto a partir de las 22:00h \n\nCoro – LA PALABRA DE DIOS – Precio 12€
URL:https://www.carnavaldecadiz.com/event/noches-de-carnaval-en-el-club-marina-de-la-bahia/
LOCATION:Club Marina de la Bahía\, Puerto Real\, calle Amargura 197\, Puerto Real\, Cádiz\, 11510\, Spain
CATEGORIES:actuaciones de carnaval
END:VEVENT
BEGIN:VEVENT
DTSTART;VALUE=DATE:20250821
DTEND;VALUE=DATE:20250824
DTSTAMP:20260420T085324
CREATED:20250811T205412Z
LAST-MODIFIED:20250818T225132Z
UID:22934-1755734400-1755993599@www.carnavaldecadiz.com
SUMMARY:II Concurso de Minigrupos en 'LOS POLLITOS'\, San Fernando
DESCRIPTION:A la espera de recibir información de grupos inscritos y orden de actuación. \nEvento público de libre acceso.
URL:https://www.carnavaldecadiz.com/event/ii-concurso-de-minigrupos-en-los-pollitos-san-fernando/
LOCATION:peña Los pollitos y mi compadre.\, calle San Juan Bautista\, S/N\,\, San Fernando\, Cádiz\, España
CATEGORIES:actuaciones de carnaval
END:VEVENT
BEGIN:VEVENT
DTSTART;VALUE=DATE:20250822
DTEND;VALUE=DATE:20250824
DTSTAMP:20260420T085324
CREATED:20250821T120634Z
LAST-MODIFIED:20250821T120634Z
UID:23302-1755820800-1755993599@www.carnavaldecadiz.com
SUMMARY:Actuaciones de la Antología 'CÁDIZ DE MIL COLORES'
DESCRIPTION:Viernes 22 a las  22:30h en Hotel Vincci Costa Golf\, Chiclana de la Frontera \nSábado 23 a las 22:30h en Chiringuito Potito Beach\, Cádiz \nEventos públicos de libre acceso.
URL:https://www.carnavaldecadiz.com/event/actuaciones-de-la-antologia-cadiz-de-mil-colores/
LOCATION:Cádiz
CATEGORIES:actuaciones de carnaval
END:VEVENT
BEGIN:VEVENT
DTSTART;TZID=Europe/Madrid:20250822T180000
DTEND;TZID=Europe/Madrid:20250822T233000
DTSTAMP:20260420T085324
CREATED:20250608T221657Z
LAST-MODIFIED:20250723T173534Z
UID:21369-1755885600-1755905400@www.carnavaldecadiz.com
SUMMARY:Entierro de la Caballa 2025
DESCRIPTION:Agrupaciones que actuarán en el entierro de la Caballa 2025\n\nChirigota Infantil – La familia Topolino\nComparsa Juvenil – Generación Z\nComparsa – La chulita\nChirigota – Los cagones\nComparsa – La majadería\nChirigota – Los cenadores rumanos\n\nMás información \nEvento público de libre acceso.
URL:https://www.carnavaldecadiz.com/event/entierro-de-la-caballa-2025/
LOCATION:Paseo Fernando Quiñones\, Cádiz\, Paseo Fernando Quiñones s/n\, Cádiz\, Cádiz\, 11002\, Spain
CATEGORIES:actuaciones de carnaval
END:VEVENT
BEGIN:VEVENT
DTSTART;TZID=Europe/Madrid:20250822T200000
DTEND;TZID=Europe/Madrid:20250822T210000
DTSTAMP:20260420T085324
CREATED:20250819T120701Z
LAST-MODIFIED:20250819T120701Z
UID:23238-1755892800-1755896400@www.carnavaldecadiz.com
SUMMARY:Minigrupo de 'Los de la Cantera' en Chiclana
DESCRIPTION:En el patio del colegio La Salle – San José para disfrutar juntos de una las NOCHES DE CARNAVAL más especiales del verano. \nY que mejor que con un cuarteto de voces de “los niños de la cantera”\, tercer premio en el concurso oficial del Carnaval de Cádiz ¡Con Chanito Rodríguez\, Pablo Pórtela\, Javi Baena y Sergio Guti !
URL:https://www.carnavaldecadiz.com/event/minigrupo-de-los-de-la-cantera-en-chiclana/
LOCATION:Colegio La Salle-San José\, Chiclana\, calle Hormaza 26\, Chiclana de la Frontera\, Cádiz\, 11130\, Spain
CATEGORIES:actuaciones de carnaval
END:VEVENT
BEGIN:VEVENT
DTSTART;TZID=Europe/Madrid:20250822T203000
DTEND;TZID=Europe/Madrid:20250822T223000
DTSTAMP:20260420T085324
CREATED:20250818T222301Z
LAST-MODIFIED:20250818T222301Z
UID:23214-1755894600-1755901800@www.carnavaldecadiz.com
SUMMARY:Charlas de Carnaval en Puerto Real - Luis Ripoll
DESCRIPTION:Continua el ciclo de charlas de carnaval organizada por la Asociación de autores y componentes del Carnaval de Puerto Real con la colaboración de la Peña deportiva Ribera del Mar. \nEvento público de libre acceso.
URL:https://www.carnavaldecadiz.com/event/charlas-de-carnaval-en-puerto-real-luis-ripoll/
LOCATION:Peña Deportiva Ribera del Mar\, Puerto Real\, calle Victoria 2\, Puerto Real\, Cádiz\, 11510\, Spain
CATEGORIES:actuaciones de carnaval
END:VEVENT
BEGIN:VEVENT
DTSTART;TZID=Europe/Madrid:20250822T210000
DTEND;TZID=Europe/Madrid:20250822T233000
DTSTAMP:20260420T085324
CREATED:20250812T132318Z
LAST-MODIFIED:20250812T132318Z
UID:22977-1755896400-1755905400@www.carnavaldecadiz.com
SUMMARY:Carnaval en el Pay-pay
DESCRIPTION:Rafa Rojano\, Antonio Parra ‘Aceituna’\, Jesús Ojeda\, Carlos Peña y Sergio Fernández\, os harán pasar una gran noche de carnaval en directo. \nCompra y reserva de localidades en Café Teatro Pay-pay
URL:https://www.carnavaldecadiz.com/event/carnaval-en-el-pay-pay-3/
LOCATION:Café Tatro Pay Pay\, C/ Silencio\, Cádiz\, Cádiz\, 11002
CATEGORIES:actuaciones de carnaval
END:VEVENT
BEGIN:VEVENT
DTSTART;TZID=Europe/Madrid:20250822T213000
DTEND;TZID=Europe/Madrid:20250822T230000
DTSTAMP:20260420T085324
CREATED:20250811T212715Z
LAST-MODIFIED:20250811T212715Z
UID:22946-1755898200-1755903600@www.carnavaldecadiz.com
SUMMARY:XVI Noche de 'LOS CAPACHAS'
DESCRIPTION:Premio Capacha del Año\, Sole Ariza Ortíz \nDurante el evento actuará la chirigota ‘LOS JAMES BOND QUE DA GLORIA VERLOS’ \nPrecio de las localidades 15€ con vianda \nVenta de localidades en Optica LA VEGA y en: 630694494 / 625695684
URL:https://www.carnavaldecadiz.com/event/xvi-noche-de-los-capachas/
LOCATION:Campo Municipal de Deportes de Chiclana\, calle Agustín Blzquez s/n\, ´Chiclana de la Frontera\, Cádiz\, 11130\, España
CATEGORIES:actuaciones de carnaval
END:VEVENT
BEGIN:VEVENT
DTSTART;TZID=Europe/Madrid:20250822T213000
DTEND;TZID=Europe/Madrid:20250822T230000
DTSTAMP:20260420T085324
CREATED:20250812T205521Z
LAST-MODIFIED:20250812T205521Z
UID:23000-1755898200-1755903600@www.carnavaldecadiz.com
SUMMARY:Comparsa 'EL CEMENTERIO' en El Patio de Triana
DESCRIPTION:Cádiz es un camposanto de batallas perdidas\, pero entre tumbas y luto\, esta comparsa resucita el espíritu del carnaval con humor\, color y crítica social. Con una puesta en escena impecable\, los sepultureros del Jona convierten el lamento en fiesta. \nENTRADAS SIN NUMERAR \nCompra on-line de LOCALIDADES
URL:https://www.carnavaldecadiz.com/event/comparsa-el-cementerio-en-el-patio-de-triana/
LOCATION:El Patio de Triana\, Edificio Salesianos de Triana\, C. Condes de Bustillo\, 17\, Sevilla\, Sevilla\, 41010\, España
CATEGORIES:actuaciones de carnaval
END:VEVENT
BEGIN:VEVENT
DTSTART;TZID=Europe/Madrid:20250822T213000
DTEND;TZID=Europe/Madrid:20250822T233000
DTSTAMP:20260420T085324
CREATED:20250811T213237Z
LAST-MODIFIED:20250811T213237Z
UID:22950-1755898200-1755905400@www.carnavaldecadiz.com
SUMMARY:Noche de Carnaval en Medina
DESCRIPTION:Actuarán: \n\nChirigota – LOS CAGONES\nComparsa – LAS RATAS\nAntología – LOS CLERIGUILLOS\n\nEvento público de libre acceso.
URL:https://www.carnavaldecadiz.com/event/noche-de-carnaval-en-medina-2/
LOCATION:Plaza de España\, Medina\, Plaza de España 10\, Medina Sidonia\, Cádiz\, 11170\, España
CATEGORIES:actuaciones de carnaval
END:VEVENT
BEGIN:VEVENT
DTSTART;TZID=Europe/Madrid:20250822T213000
DTEND;TZID=Europe/Madrid:20250822T233000
DTSTAMP:20260420T085324
CREATED:20250811T214541Z
LAST-MODIFIED:20250811T214541Z
UID:22953-1755898200-1755905400@www.carnavaldecadiz.com
SUMMARY:Viernes de Ilegales en 'EL PALENQUE'\, Chiclana.
DESCRIPTION:Actuarán: \n\nRomancero – EL DESPOJAO (David Magrañal)\nRomancero – LA TRINCHERA DE LOS TRANCHETES (Romancero de la almohada)\nRomancero – CÁDIZ\, CIUDAD DE VACACIONES (Francis y Jacinto)\nChirigota callejera – THE VIÑA’S PEOPLE\n\nEvento público de libre acceso.
URL:https://www.carnavaldecadiz.com/event/viernes-de-ilegales-en-el-palenque-chiclana/
LOCATION:El Palenque\, Chiclana\, calle de la Fuente 21\, Chiclana de la Frontera\, Cádiz\, 11130\, España
CATEGORIES:actuaciones de carnaval
END:VEVENT
BEGIN:VEVENT
DTSTART;TZID=Europe/Madrid:20250822T220000
DTEND;TZID=Europe/Madrid:20250822T230000
DTSTAMP:20260420T085324
CREATED:20250818T223101Z
LAST-MODIFIED:20250818T223101Z
UID:23217-1755900000-1755903600@www.carnavaldecadiz.com
SUMMARY:Minigrupo de Piru y Tomate en Conil
DESCRIPTION:Reservas 669283683
URL:https://www.carnavaldecadiz.com/event/minigrupo-de-piru-y-tomate-en-conil/
LOCATION:Falso Mito\, Conil\, calle Torre de Roche\, Conil de la Frontera\, Cádiz\, 11140\, España
CATEGORIES:actuaciones de carnaval
END:VEVENT
BEGIN:VEVENT
DTSTART;TZID=Europe/Madrid:20250822T223000
DTEND;TZID=Europe/Madrid:20250822T233000
DTSTAMP:20260420T085324
CREATED:20250730T220303Z
LAST-MODIFIED:20250730T220303Z
UID:22553-1755901800-1755905400@www.carnavaldecadiz.com
SUMMARY:Minigrupo de los Molina en 'Las Virtudes' Conil
DESCRIPTION:Servicio de barra a precios populares. \nEvento público de libre acceso.
URL:https://www.carnavaldecadiz.com/event/minigrupo-de-los-molina-en-las-virtudes-conil/
LOCATION:AAVV Las Virtudes-Conil\, calle Dos Hermanas 2A\, Conil de la Frontera\, Cádiz\, 11140\, España
CATEGORIES:actuaciones de carnaval
END:VEVENT
BEGIN:VEVENT
DTSTART;TZID=Europe/Madrid:20250822T230000
DTEND;TZID=Europe/Madrid:20250823T010000
DTSTAMP:20260420T085324
CREATED:20250818T221619Z
LAST-MODIFIED:20250818T221619Z
UID:23210-1755903600-1755910800@www.carnavaldecadiz.com
SUMMARY:Carnaval de Verano en Tocina
DESCRIPTION:Actuarán: \nLa chirigota de los Villegas – LOS DISLEXICOS. LOS QUE VAN A CANTAR TE LA SUDAN \nChirigota callejera del Osorio – CIRCO DU SOLEIL: NUBLADO CON PINTA DE QUE VA A LLOVER \nEvento público de libre acceso. \n 
URL:https://www.carnavaldecadiz.com/event/carnaval-de-verano-en-tocina/
LOCATION:Paseo de la Gran Avenida\, Tocina\, Tocina\, Sevilla\, 41340\, Spain
CATEGORIES:actuaciones de carnaval
END:VEVENT
END:VCALENDAR